{"text_format":"1","workbook":"xlsx","n_sheets":19,"sheets":["Ficha Estandar","A1.Trafico","A2.Demanda","P1.Ejes Equivalentes","A3.Factor de Correc","A4. Tasa de Crec","B. Situación de la UP","Tipo de pavimento","2.Reconocimiento del Trazo ","C. Costos","Hoja9","Hoja10","D1.Evaluación (C-E)","D2.Ratio C-E","E1.Evaluación (B-C)","E2. COV Interurbano","A5. FORMATO DE CONTEO","A6. FORMATO ENCUESTA PASAJE","A7.FORMATO ENCUESTA CARGA"],"not_rendered":{"charts":1,"images":37,"macros":1,"external_links":2,"defined_names":253,"comments":6,"pivot_tables":0},"unopened":[],"bounds":{"document_bytes":16777216,"sheet_cells":100000,"rows_first":2000,"rows_last":500,"rows_between":2000,"halvings":0,"cell_chars":16384,"cell_head_chars":4096},"cells_cut":0,"cells_raw":0,"read":"whole","date_system":"1900"}

{"sheet":"Ficha Estandar","index":0,"n_rows":394,"n_cols":37,"rows_kept":394,"cut":false,"hidden":false,"merged":[[108,8,108,9],[108,10,108,11],[109,1,109,2],[109,4,109,5],[109,6,109,7],[109,8,109,9],[109,10,109,11],[235,1,235,3],[105,6,105,7],[105,8,105,9],[105,10,105,11],[106,1,106,2],[106,4,106,5],[106,6,106,7],[106,8,106,9],[106,10,106,11],[107,1,107,2],[107,4,107,5],[107,6,107,7],[107,8,107,9],[107,10,107,11],[105,1,105,2],[105,4,105,5],[110,1,110,2],[110,4,110,5],[110,6,110,7],[110,8,110,9],[110,10,110,11],[108,1,108,2],[108,4,108,5],[108,6,108,7],[319,5,319,11],[276,1,276,2],[258,1,259,1],[275,1,275,2],[280,3,280,4],[263,1,264,1],[265,1,266,1],[164,1,164,3],[295,5,295,12],[298,1,298,2],[267,1,268,1],[219,2,219,4],[220,2,220,4],[246,1,247,1],[244,1,245,1],[242,1,243,1],[233,1,234,1],[229,1,230,1],[230,2,230,3],[261,1,262,2],[261,3,261,12],[222,5,222,6],[226,1,226,2],[297,5,297,12],[299,3,299,4],[252,3,252,12],[271,3,272,4],[307,5,307,11],[308,5,308,11],[309,5,309,11],[295,1,295,2],[283,5,283,6],[283,3,283,4],[310,5,310,11],[311,5,311,11],[299,1,299,2],[297,1,297,2],[297,3,297,4],[298,5,298,12],[393,1,394,2],[393,6,393,8],[390,2,392,3],[342,1,344,1],[342,4,342,5],[343,4,343,5],[344,4,344,5],[341,4,341,5],[356,1,357,13],[348,1,348,12],[156,2,157,13],[218,5,218,6],[280,7,280,8],[281,7,281,8],[283,7,283,8],[279,5,279,6],[280,5,280,6],[296,1,296,2],[213,1,213,4],[289,1,289,12],[285,1,285,9],[295,3,295,4],[254,1,255,1],[256,1,257,1],[221,5,221,6],[220,5,220,6],[160,1,160,13],[218,2,218,4],[275,3,275,4],[296,5,296,12],[219,5,219,6],[217,5,217,6],[252,1,253,2],[231,1,232,1],[142,1,142,3],[214,5,214,6],[215,5,215,6],[193,1,193,3],[201,1,201,3],[234,2,234,3],[217,1,218,1],[221,1,222,1],[165,1,165,3],[166,1,166,3],[167,1,167,3],[168,1,168,3],[169,2,169,3],[163,1,163,3],[186,1,186,3],[187,1,187,3],[231,2,231,3],[202,1,202,3],[232,2,232,3],[219,1,220,1],[221,2,221,4],[222,2,222,4],[228,2,228,3],[156,1,157,1],[140,1,140,3],[130,6,130,8],[128,6,128,8],[92,3,92,7],[137,1,139,9],[136,1,136,9],[118,6,118,8],[175,1,175,16],[146,2,146,7],[149,2,149,7],[127,6,127,8],[126,6,126,8],[129,6,129,8],[148,2,148,7],[153,2,153,13],[128,4,130,5],[126,4,127,5],[141,1,141,3],[154,1,155,1],[154,2,155,13],[143,1,143,3],[96,1,96,3],[101,1,101,6],[147,2,147,7],[62,2,62,6],[62,7,62,10],[47,7,47,10],[82,1,82,3],[73,5,73,15],[39,13,39,14],[42,2,42,12],[63,7,63,10],[48,7,48,10],[47,2,47,6],[48,2,48,6],[49,2,49,6],[52,2,52,6],[53,2,53,6],[59,2,59,6],[63,2,63,6],[58,7,58,10],[59,7,59,10],[49,7,49,10],[52,7,52,10],[53,7,53,10],[54,7,54,10],[57,7,57,10],[117,6,117,8],[117,4,117,5],[125,4,125,5],[118,4,121,5],[122,4,123,5],[125,6,125,8],[123,6,123,8],[122,6,122,8],[121,6,121,8],[120,6,120,8],[119,6,119,8],[0,1,0,2],[11,1,11,16],[16,5,16,12],[20,2,20,12],[3,3,7,10],[115,1,115,13],[114,1,114,13],[80,1,81,3],[83,1,83,3],[78,4,90,12],[75,1,75,16],[22,6,22,9],[24,6,24,9],[27,5,27,12],[37,5,37,12],[39,5,39,12],[30,4,30,6],[31,4,31,6],[32,4,32,6],[1,1,1,2],[24,12,24,14],[54,2,54,6],[57,2,57,6],[58,2,58,6],[335,2,335,5],[335,6,335,7],[336,2,336,5],[337,2,337,5],[337,6,337,7],[328,6,328,7],[330,6,330,7],[345,1,347,1],[345,4,345,5],[346,4,346,5],[347,4,347,5],[330,2,330,5],[329,2,329,5],[329,6,329,7],[333,6,333,7],[336,6,336,7],[328,2,328,5],[333,2,333,5],[334,2,334,5],[334,6,334,7],[326,6,326,7],[327,6,327,7],[325,6,325,7],[296,3,296,4],[299,5,299,12],[298,3,298,4],[325,2,325,5],[279,3,279,4],[275,5,275,6],[277,3,277,4],[279,1,279,2],[281,5,281,6],[281,3,281,4],[276,3,276,4],[278,5,278,6],[275,7,275,8],[312,5,312,11],[313,5,313,11],[314,5,314,11],[315,5,315,11],[316,5,316,11],[317,5,317,11],[318,5,318,11],[306,1,306,11],[194,1,194,3],[207,1,208,9],[217,2,217,4],[213,5,213,6],[214,1,214,4],[326,2,326,5],[327,2,327,5],[215,1,215,4],[172,1,172,13],[279,7,279,8],[278,7,278,8],[276,5,276,6],[276,7,276,8],[277,5,277,6],[233,2,233,3],[229,2,229,3],[277,7,277,8],[227,5,227,16],[240,5,240,16],[320,5,320,11],[321,5,321,11],[282,3,282,4],[282,5,282,6],[282,7,282,8]]}
[null,"FECHA DE REGISTRO:",null,null,null,null,null,null,null,null,null,null,null,"Soporte: opmi@mtc.gob.pe"]
[null,{"$f":"NOW()","v":"2023-08-22T18:23:48.780"}]
[]
[null,null,null,null,null,null,null,null,null,null,null,null,null,null,null,null,null,null,null,null,null,"064 VIAS NACIONALES","Nacional"]
[null,null,null,null,null,null,null,null,null,null,null,null,null,null,null,null,null,null,null,null,null,"065 VIAS DEPARTAMENTALES","Departamental"]
[null,null,null,null,null,null,null,null,null,null,null,null,null,null,null,null,null,null,null,null,null,"066 VIAS VECINALES","Vecinal"]
[]
[null,null,null,null,null,null,null,null,null,null,null,null,null,null,null,null,null,null,null,null,null,{"$f":"VLOOKUP(E33,$V$4:$W$6,2,0)","v":"Vecinal"}]
[]
[]
[]
[null,"I.  ASPECTOS GENERALES"]
[]
[]
[null,"1. NOMBRE DEL PROYECTO "]
[]
[null,"1.1 Naturaleza de intervención"]
[]
[null,"1.2 Enunciado del nombre del proyecto"]
[]
[null,null,{"$f":"UPPER(CONCATENATE( F17,\" DEL SERVICIO DE TRANSITABILIDAD VIAL\", \" DEL/LA \",B81,\" DEL DISTRITO DE \",E69,\", DE LA PROVINCIA DE \",D69,\", DEL DEPARTAMENTO DE \",C69))","v":" DEL SERVICIO DE TRANSITABILIDAD VIAL DEL/LA  DEL DISTRITO DE , DE LA PROVINCIA DE , DEL DEPARTAMENTO DE "}]
[]
[null,"1.3 ¿El proyecto pertenece a un Programa de Inversión?"]
[]
[null,"En caso sea afirmativo, poner nombre y codigo del Programa:",null,null,null,null,null,null,null,null,null,"Cod. Prog."]
[]
[null,"2. ALINEAMIENTO Y CONTRIBUCIÓN AL CIERRE DE BRECHAS PRIORITARIAS"]
[]
[null,"2.1 Responsabilidad Funcional (Según Anexo Nº 02 – Decreto Supremo Nº 284-2018-EF )"]
[]
[null,null,"FUNCIÓN",null,"015 TRANSPORTE"]
[null,null,"DIVISION FUNCIONAL",null,"033 TRANSPORTE TERRESTRE"]
[null,null,"GRUPO FUNCIONAL",null,"066 VIAS VECINALES"]
[null,null,"SECTOR RESPONSABLE",null,"TRANSPORTES Y COMUNICACIONES"]
[]
[]
[]
[null,"2.2 Servicios públicos con brecha identificada y priorizada:",null,null,null,"SERVICIO DE TRANSITABILIDAD VIAL INTERURBANO"]
[]
[null,"2.3 Indicador de producto asociado a la brecha de servicios:",null,null,null,"\"PORCENTAJE DE LA RED VIAL VECINAL CON INADECUADAS CONDICIONES DE SERVICIO\"",null,null,null,null,null,null,null,"Valor de contribución al cierre de brechas",null,{"$f":"+C86","v":1}]
[]
[null,"2.4 Definición del servicio público"]
[null,null,{"$f":"CONCATENATE(\"Es la provisión de la infraestructura vial que asegura las condiciones adecuadas que permiten un flujo vehicular regular a lo lardo de la via de la Red Vial \",V8,\" del Sistema Nacional de Carreteras (SINAC)\")","v":"Es la provisión de la infraestructura vial que asegura las condiciones adecuadas que permiten un flujo vehicular regular a lo lardo de la via de la Red Vial Vecinal del Sistema Nacional de Carreteras (SINAC)"}]
[]
[null,"3. INSTITUCIONALIDAD"]
[]
[null,null,"OFICINA DE PROGRAMACIÓN MULTIANUAL DE INVERSIONES (OPMI)"]
[null,null,"Entidad :"]
[null,null,"Nombre de la OPMI:  \n(Nombre de la Unidad Orgánica a la que pertenece la OPMI)"]
[null,null,"Responsable de la OPMI:"]
[]
[null,null,"UNIDAD FORMULADORA DEL PROYECTO DE INVERSIÓN (UF)"]
[null,null,"Entidad"]
[null,null,"Nombre de la UF:  (Nombre de la Unidad Orgánica a la que pertenece la UF)"]
[null,null,"Responsable de la UF:"]
[]
[null,null,"UNIDAD EJECUTORA DE INVERSIONES (UEI)"]
[null,null,"Entidad :"]
[null,null,"Nombre de la UEI: (Nombre de la Unidad Orgánica a la que pertenece la UEI)"]
[null,null,"Responsable de la UEI:"]
[]
[null,null,"UNIDAD EJECUTORA PRESUPUESTAL (UEP)"]
[null,null,"Entidad"]
[null,null,"Nombre de la UEP:"]
[]
[null,"4. UBICACIÓN GEOGRÁFICA"]
[]
[null,"Tramo","Departamento","Provincia","Distrito","Región Geográfica (1)","Coordenadas geográficas de la intervención\n(2)","Centro Poblado\n(3)","Ubigeo\n(4)"]
[null,"1 - Origen"]
[null,"2 -Destino"]
[null,"(1)Seleccionar en caso que el proyecto abarque más de una región geográfica "]
[null,"(2)Consignar la latitud y longitud del punto de origen y destino del proyecto (WGS84)"]
[null,"(3) Llenar la información en caso corresponda"]
[null,"(4) Especificar si el Ubigeo es a nivel de Departamento, Provincia y Distrito                    →",null,null,null,"https://n9.cl/ub1xr"]
[]
[null,"II.  IDENTIFICACIÓN"]
[]
[null,"5. DIAGNÓSTICO DE LA UNIDAD PRODUCTORA (UP)",null,null,null,null,null,"Insertar mapa o esquema del trazo según fuentes oficiales"]
[null,null,null,null,"http://portal.mtc.gob.pe/transportes/caminos/normas_carreteras/mapas_viales.html"]
[null,"Tramo - Denominacón de la vía (*)"]
[]
[]
[null,"(*) Según Regitro Nacional de Carreteras del SINAC:"]
[null,"https://portal.mtc.gob.pe/transportes/caminos/renac.html"]
[]
[null,"Longitud:",1]
[]
[null,null,{"$f":"F69","v":0}]
[null,"Progresiva\n(inicio de tramo):"]
[null,null,{"$f":"+F70","v":0}]
[null,"Progresiva\n(fin de tramo):"]
[]
[null,"Código de la  UP",null,"https://portal.mtc.gob.pe/transportes/caminos/renac.html"]
[]
[null,"6. DIAGNOSTICO DE LA POBLACIÓN BENEFICIADA Y ÁREA DE INFLUENCIA "]
[]
[null,"Población beneficiaria directa"]
[]
[null,"Cantidad"]
[]
[null,"Link de consulta"]
[null,"https://www.inei.gob.pe/media/MenuRecursivo/publicaciones_digitales/Est/Lib1541/index.htm"]
[]
[null,"7. DIAGNOSTICO DE OTROS AGENTES INVOLUCRADOS"]
[]
[null,"Involucrado",null,"Ámbito del participante ","Entidad a la que pertenece",null,"Posición (Cooperante, Beneficiario, Oponente, Perjudicado)",null,"Intereses",null,"Contribución"]
[]
[]
[]
[]
[]
[]
[null,"8. PROBLEMA CENTRAL, CAUSAS Y EFECTOS"]
[]
[null,"Descripción del problema central"]
[null,{"$f":"CONCATENATE(\"Inadecuadas Condiciones de Transitabilidad Vial de la Carretera \",\" del \",B81,\" del Distrito de \",E69,\", de la Provincia de \",D69,\", del Departamento de \",C69)","v":"Inadecuadas Condiciones de Transitabilidad Vial de la Carretera  del  del Distrito de , de la Provincia de , del Departamento de "}]
[]
[null,null,null,null,"Causas directas",null,"Causas Indirectas",null,null,"Marcar"]
[null,null,null,null,"Deficiente infraestructura vial",null,"Inadecuadas condiciones del pavimento"]
[null,null,null,null,null,null,"Inadecuadas condiciones del puente"]
[null,null,null,null,null,null,"Inadecuadas obras de artes y drenaje"]
[null,null,null,null,null,null,"Limitadas actividades de conservación Vial"]
[null,null,null,null,"Deficiente seguridad vial",null,"Inadecuada geometría vial"]
[null,null,null,null,null,null,"Inadecuada señalización"]
[]
[null,null,null,null,"Efectos directos",null,"Efectos Indirecto",null,null,"Marcar"]
[null,null,null,null,"Dificultad en la articulación de mercados locales y regionales",null,"Bajos ingresos y pérdidas económicas de la población "]
[null,null,null,null,null,null,"Deficiente acceso de servicios básicos"]
[null,null,null,null,"Limitada circulación  vehicular",null,"Aumento de los costos asociados al transporte"]
[null,null,null,null,null,null,"Incremento de los tiempos de viaje"]
[null,null,null,null,null,null,"Incremento de los accidentes de tránsito"]
[]
[null,"9. DEFINICION DE LOS OBJETIVOS DEL PROYECTO"]
[]
[1,"9.1. Objetivo"]
[]
[null,"Descripción del Objetivo central"]
[null,{"$f":"CONCATENATE(\"Adecuadas condiciones de transitabilidad vial del \",B81,\" del Distrito de \",E69,\", de la Provincia de \",D69,\", del Departamento de \",C69)","v":"Adecuadas condiciones de transitabilidad vial del  del Distrito de , de la Provincia de , del Departamento de "}]
[]
[]
[null,"Principales indicadores del objetivo",null,null,"Unidad de medida","Magnitud sin Proyecto","Magnitud con Proyecto","Fuente de verificación"]
[null,"IMDA",null,null,"Veh/día",null,null,"Estudio de Tráfico "]
[null,"Tiempo de viaje",null,null,"Min",null,null,"Estudio de Tráfico "]
[null,"Costos de Operación Vehicular acumumlado anual",null,null,"Soles",null,null,"Estudio de Tráfico y Evaluación Económica"]
[]
[null,"9.2. Medios fundamentales"]
[null,"N°","Medios fundamentales",null,null,null,null,null,"Marcar"]
[null,1,"Mejoramiento o recuperación del pavimento"]
[null,2,"Adecuación y/o dotación de obras de arte y drenaje"]
[null,3,"Adecuación y/o dotación de la señalización"]
[]
[null,"10. DESCRIPCIÓN DE LA(S) ALTERNATIVA(S) DE SOLUCIÓN",null,null,null,null,null,null,null,null,null,null,null,null,null,null,null,null,null,1,2,3]
[]
[null,"Alternativa (*)","Descripción"]
[null,"Alternativa de Solución 1"]
[]
[null,"Alternativa de Solución 2"]
[]
[null,"(*): La alternativa de solución deberá considerar un enfoque sostenible ante cambios climáticos y gestión de desastres"]
[null,"NOTA: De evidenciarse solo una alternativa de solución, el formulador deberá sustentar las razones."]
[]
[null,"11. REQUERIMIENTOS  TÉCNICOS, REGULATORIOS Y/O NORMATIVOS"]
[]
[null,"DOCUMENTOS A GESTIONAR EN LA FASE DE EJECUCIÓN",null,null," MARQUE CON (x)"]
[null,"Acta de Libre disponibilidad del Terreno (Acuerdo Institucional)"]
[null,"Plan de Compensación y Reasentamiento Involuntario - (PACRI)"]
[null,"Estudio de Impacto Ambiental o lo requerido según nivel de estudio."]
[null,"Estudio de Factibilidad de los Servicios (Interferencias)"]
[null,"Certificado de Inexistencia de Restos Arqueológicos (CIRA)"]
[null,"Otros (Señale)"]
[]
[null,"NORMAS TÉCNICAS RELACIONADAS"]
[]
[null,"(*): Revisar ejemplo detallado en el instructivo"]
[]
[null,"III.  FORMULACIÓN Y EVALUACIÓN"]
[]
[null,"12. HORIZONTE DE EVALUACIÓN"]
[]
[null,"Número de años del horizonte de evaluación",null,null,null,10]
[]
[null,"13. ESTUDIO DE MERCADO DEL SERVICIO PÚBLICO",null,null,null,"(De ser el Proyecto en Tramos, clasificados por demanda)",null,null,null,null," Nro de Tramos",3]
[]
[]
[null,"13.1 Análisis de la demanda (*)"]
[]
[null,"Descripción",null,null,"Unidad de Medida",1,2,3,4,5,6,7,8,9,10]
[null,{"$f":"+B81","v":0},null,null,"Veh/día",{"$f":"+'A2.Demanda'!D230","v":0},{"$f":"+'A2.Demanda'!E230","v":0},{"$f":"+'A2.Demanda'!F230","v":0},{"$f":"+'A2.Demanda'!G230","v":0},{"$f":"+'A2.Demanda'!H230","v":0},{"$f":"+'A2.Demanda'!I230","v":0},{"$f":"+'A2.Demanda'!J230","v":0},{"$f":"+'A2.Demanda'!K230","v":0},{"$f":"+'A2.Demanda'!L230","v":0},{"$f":"+'A2.Demanda'!M230","v":0}]
[null,null,null,null,null,11,12,13,14,15,16,17,18,19,20]
[null,null,null,null,null,{"$f":"+'A2.Demanda'!N230","v":0},{"$f":"+'A2.Demanda'!O230","v":0},{"$f":"+'A2.Demanda'!P230","v":0},{"$f":"+'A2.Demanda'!Q230","v":0},{"$f":"+'A2.Demanda'!R230","v":0},{"$f":"+'A2.Demanda'!S230","v":0},{"$f":"+'A2.Demanda'!T230","v":0},{"$f":"+'A2.Demanda'!U230","v":0},{"$f":"+'A2.Demanda'!V230","v":0},{"$f":"+'A2.Demanda'!W230","v":0}]
[]
[null,"13.2 Análisis de la oferta (*)"]
[]
[null,"Descripción",null,null,"Unidad de Medida",1,2,3,4,5,6,7,8,9,10]
[null,{"$f":"B81","v":0},null,null,"Veh/día",{"$f":"+'A2.Demanda'!D137","v":0},{"$f":"+'A2.Demanda'!E137","v":0},{"$f":"+'A2.Demanda'!F137","v":0},{"$f":"+'A2.Demanda'!G137","v":0},{"$f":"+'A2.Demanda'!H137","v":0},{"$f":"+'A2.Demanda'!I137","v":0},{"$f":"+'A2.Demanda'!J137","v":0},{"$f":"+'A2.Demanda'!K137","v":0},{"$f":"+'A2.Demanda'!L137","v":0},{"$f":"+'A2.Demanda'!M137","v":0}]
[null,null,null,null,null,11,12,13,14,15,16,17,18,19,20]
[null,null,null,null,null,{"$f":"+'A2.Demanda'!N137","v":0},{"$f":"+'A2.Demanda'!O137","v":0},{"$f":"+'A2.Demanda'!P137","v":0},{"$f":"+'A2.Demanda'!Q137","v":0},{"$f":"+'A2.Demanda'!R137","v":0},{"$f":"+'A2.Demanda'!S137","v":0},{"$f":"+'A2.Demanda'!T137","v":0},{"$f":"+'A2.Demanda'!U137","v":0},{"$f":"+'A2.Demanda'!V137","v":0},{"$f":"+'A2.Demanda'!W137","v":0}]
[]
[null,"(*) La Oferta y Demanda puede contabilizarse en tramos de ser el caso."]
[]
[null,"13.3 Brecha Oferta - Demanda"]
[null,"Descripción",null,null,"Unidad de Medida",1,2,3,4,5,6,7,8,9,10]
[null,{"$f":"+B81","v":0},null,null,"Veh/día",{"$f":"+F195-F188","v":0},{"$f":"+G195-G188","v":0},0,0,0,0,0,0,0,0]
[null,null,null,null,null,11,12,13,14,15,16,17,18,19,20]
[null,null,null,null,null,{"$f":"+F197-F190","v":0},{"$f":"+G197-G190","v":0},0,0,0,0,0,0,0,0]
[]
[null,"14. ANÁLISIS TÉCNICO DE LAS ALTERNATIVAS:"]
[]
[]
[]
[null,"15. COSTO DEL PROYECTO"]
[]
[null,"15.1 Costos de inversión"]
[null,"PRODUCTO / PROYECTO",null,null,null,"Unidad de medida representativa",null,"Cantidad","Costo/km","Inversión total"]
[null,{"$f":"+C21","v":" DEL SERVICIO DE TRANSITABILIDAD VIAL DEL/LA  DEL DISTRITO DE , DE LA PROVINCIA DE , DEL DEPARTAMENTO DE "},null,null,null,"Km",null,{"$f":"C86","v":1},{"$f":"+IFERROR(J215/H215,\"\")","v":0},{"$f":"+'C. Costos'!J55","v":0}]
[null,"ACCIONES",null,null,null,"Unidad de medida",null,"Cantidad","Costo/km","Costo por Componente \n(soles)"]
[null,"Región\nGeográfica",{"$f":"$C$88","v":0}]
[null,"Tramo 01","Carretera",null,null,"Km ",null,{"$f":"+'C. Costos'!H11","v":0},{"$f":"IFERROR(J218/H218,\" \")","v":" "},{"$f":"+'C. Costos'!J11","v":0}]
[null,null,"Puente",null,null,"Km ",null,{"$f":"+'C. Costos'!H19","v":0},null,{"$f":"+'C. Costos'!J19","v":0}]
[null,"Tramo 02","Carretera",null,null,"Km ",null,{"$f":"+'C. Costos'!H22","v":0}," ",{"$f":"+'C. Costos'!J22","v":0}]
[null,null,"Puente",null,null,"Km ",null,{"$f":"+'C. Costos'!H30","v":0}," ",{"$f":"+'C. Costos'!J30","v":0}]
[null,"Tramo 03","Carretera",null,null,"Km ",null,{"$f":"+'C. Costos'!H33","v":0}," ",{"$f":"+'C. Costos'!J33","v":0}]
[null,null,"Puente",null,null,"Km ",null,{"$f":"+'C. Costos'!H41","v":0}," ",{"$f":"+'C. Costos'!J41","v":0}]
[]
[]
[null,"15.2 Cronograma de ejecución financiera"]
[]
[null,"Región\nGeográfica",{"$f":"$C$88","v":0},null,null,"Cronograma "]
[null,"Proyecto/ Tramo","Actividad",null,"Costo por Componente \n(soles)",1,2,3,4,5,6,7,8,9,10,11,12]
[null,"Tramo 01",{"$f":"+C218","v":"Carretera"},null,{"$f":"+J218","v":0},{"$f":"IFERROR(F243*$E230,\" \")","v":0},0,0,0,0,0,0,0,0,0,0,0]
[null,null,"Puente",null,{"$f":"+J219","v":0},{"$f":"IFERROR(F244*$E231,\" \")","v":0},0,0,0,0,0,0,0,0,0,0,0]
[null,"Tramo 02",{"$f":"+C230","v":"Carretera"},null,0,{"$f":"IFERROR(F245*$E232,\" \")","v":0},0,0,0,0,0,0,0,0,0,0,0]
[null,null,"Puente",null,0,{"$f":"IFERROR(F246*$E233,\" \")","v":0},0,0,0,0,0,0,0,0,0,0,0]
[null,"Tramo 03",{"$f":"+C232","v":"Carretera"},null,0,{"$f":"IFERROR(F247*$E234,\" \")","v":0},0,0,0,0,0,0,0,0,0,0,0]
[null,null,"Puente",null,0,{"$f":"IFERROR(F248*$E235,\" \")","v":0},0,0,0,0,0,0,0,0,0,0,0]
[null,"Costo total",null,null,{"$f":"+SUM(E230:E235)","v":0},0,0,0,0,0,0,0,0,{"$f":"+SUM(N230:N235)","v":0},0,0,0]
[]
[]
[null,"15.3 Cronograma de ejecución física"]
[]
[null,"Región\nGeográfica",{"$f":"$C$88","v":0},null,null,"Cronograma"]
[null,"Proyecto/ Tramo","Actividad","Unidad de medida","Meta",1,2,3,4,5,6,7,8,9,10,11,12]
[null,"Tramo 01",{"$f":"+C230","v":"Carretera"},{"$f":"+F218","v":"Km "},{"$f":"+SUM(F243:Q243)","v":0}]
[null,null,"Puente","Km ",{"$f":"+SUM(F244:Q244)","v":0}]
[null,"Tramo 02",{"$f":"+C232","v":"Carretera"},"Km ",0]
[null,null,"Puente","Km ",0]
[null,"Tramo 03",{"$f":"+C234","v":"Carretera"},"Km ",0]
[null,null,"Puente","Km ",0]
[]
[]
[null,"15.4 Costos de operación y mantenimiento con y sin proyecto"]
[null,null,null,null,null,null,null,null,null,null,null,null,null,null,null,null,null,1,2,3,4,5,6,7,8,9,10,11,12,13,14,15,16,17,18,19,20]
[null,"COSTOS",null,"AÑOS (Soles)",null,null,null,null,null,null,null,null,null,null,null,null,null,4,{"$f":"+R253+1","v":5},6,7,8,9,10,11,12,13,14,15,16,17,18,19,20,{"$f":"+AH253+1","v":21},{"$f":"+AI253+1","v":22},{"$f":"+AJ253+1","v":23}]
[null,null,null,1,2,3,4,5,6,7,8,9,10]
[null,"SIN PROYECTO","OPERACIÓN",{"$f":"0","v":0},{"$f":"0","v":0},{"$f":"0","v":0},{"$f":"0","v":0},{"$f":"0","v":0},{"$f":"0","v":0},{"$f":"0","v":0},{"$f":"0","v":0},{"$f":"0","v":0},{"$f":"0","v":0}]
[null,null,"MANTENIMIENTO",{"$f":"VLOOKUP($F$273,'E1.Evaluación (B-C)'!$B$196:$X$201,R253,0)","v":0},{"$f":"VLOOKUP($F$273,'E1.Evaluación (B-C)'!$B$196:$X$201,S253,0)","v":0},{"$f":"VLOOKUP($F$273,'E1.Evaluación (B-C)'!$B$196:$X$201,T253,0)","v":0},{"$f":"VLOOKUP($F$273,'E1.Evaluación (B-C)'!$B$196:$X$201,U253,0)","v":0},{"$f":"VLOOKUP($F$273,'E1.Evaluación (B-C)'!$B$196:$X$201,V253,0)","v":0},{"$f":"VLOOKUP($F$273,'E1.Evaluación (B-C)'!$B$196:$X$201,W253,0)","v":0},{"$f":"VLOOKUP($F$273,'E1.Evaluación (B-C)'!$B$196:$X$201,X253,0)","v":0},{"$f":"VLOOKUP($F$273,'E1.Evaluación (B-C)'!$B$196:$X$201,Y253,0)","v":0},{"$f":"VLOOKUP($F$273,'E1.Evaluación (B-C)'!$B$196:$X$201,Z253,0)","v":0},{"$f":"VLOOKUP($F$273,'E1.Evaluación (B-C)'!$B$196:$X$201,AA253,0)","v":0}]
[null,"CON PROYECTO","OPERACIÓN",{"$f":"0","v":0},{"$f":"0","v":0},{"$f":"0","v":0},{"$f":"0","v":0},{"$f":"0","v":0},{"$f":"0","v":0},{"$f":"0","v":0},{"$f":"0","v":0},{"$f":"0","v":0},{"$f":"0","v":0}]
[null,null,"MANTENIMIENTO",{"$f":"VLOOKUP($F$272,'E1.Evaluación (B-C)'!$B$196:$X$201,R253,0)","v":0},{"$f":"VLOOKUP($F$272,'E1.Evaluación (B-C)'!$B$196:$X$201,S253,0)","v":0},{"$f":"VLOOKUP($F$272,'E1.Evaluación (B-C)'!$B$196:$X$201,T253,0)","v":0},{"$f":"VLOOKUP($F$272,'E1.Evaluación (B-C)'!$B$196:$X$201,U253,0)","v":0},{"$f":"VLOOKUP($F$272,'E1.Evaluación (B-C)'!$B$196:$X$201,V253,0)","v":0},{"$f":"VLOOKUP($F$272,'E1.Evaluación (B-C)'!$B$196:$X$201,W253,0)","v":0},{"$f":"VLOOKUP($F$272,'E1.Evaluación (B-C)'!$B$196:$X$201,X253,0)","v":0},{"$f":"VLOOKUP($F$272,'E1.Evaluación (B-C)'!$B$196:$X$201,Y253,0)","v":0},{"$f":"VLOOKUP($F$272,'E1.Evaluación (B-C)'!$B$196:$X$201,Z253,0)","v":0},{"$f":"VLOOKUP($F$272,'E1.Evaluación (B-C)'!$B$196:$X$201,AA253,0)","v":0}]
[null,"INCREMENTAL","OPERACIÓN",{"$f":"0","v":0},{"$f":"0","v":0},{"$f":"0","v":0},{"$f":"0","v":0},{"$f":"0","v":0},{"$f":"0","v":0},{"$f":"0","v":0},{"$f":"0","v":0},{"$f":"0","v":0},{"$f":"0","v":0}]
[null,null,"MANTENIMIENTO",{"$f":"VLOOKUP($F$271,'E1.Evaluación (B-C)'!$B$196:$X$201,R253,0)","v":0},{"$f":"VLOOKUP($F$271,'E1.Evaluación (B-C)'!$B$196:$X$201,S253,0)","v":0},{"$f":"VLOOKUP($F$271,'E1.Evaluación (B-C)'!$B$196:$X$201,T253,0)","v":0},{"$f":"VLOOKUP($F$271,'E1.Evaluación (B-C)'!$B$196:$X$201,U253,0)","v":0},{"$f":"VLOOKUP($F$271,'E1.Evaluación (B-C)'!$B$196:$X$201,V253,0)","v":0},{"$f":"VLOOKUP($F$271,'E1.Evaluación (B-C)'!$B$196:$X$201,W253,0)","v":0},{"$f":"VLOOKUP($F$271,'E1.Evaluación (B-C)'!$B$196:$X$201,X253,0)","v":0},{"$f":"VLOOKUP($F$271,'E1.Evaluación (B-C)'!$B$196:$X$201,Y253,0)","v":0},{"$f":"VLOOKUP($F$271,'E1.Evaluación (B-C)'!$B$196:$X$201,Z253,0)","v":0},{"$f":"VLOOKUP($F$271,'E1.Evaluación (B-C)'!$B$196:$X$201,AA253,0)","v":0}]
[]
[null,"COSTOS",null,"AÑOS (Soles)"]
[null,null,null,11,12,13,14,15,16,17,18,19,20]
[null,"SIN PROYECTO","OPERACIÓN",{"$f":"0","v":0},{"$f":"0","v":0},{"$f":"0","v":0},{"$f":"0","v":0},{"$f":"0","v":0},{"$f":"0","v":0},{"$f":"0","v":0},{"$f":"0","v":0},{"$f":"0","v":0},{"$f":"0","v":0}]
[null,null,"MANTENIMIENTO",{"$f":"VLOOKUP($F$273,'E1.Evaluación (B-C)'!$B$196:$X$201,AB253,0)","v":0},{"$f":"VLOOKUP($F$273,'E1.Evaluación (B-C)'!$B$196:$X$201,AC253,0)","v":0},{"$f":"VLOOKUP($F$273,'E1.Evaluación (B-C)'!$B$196:$X$201,AD253,0)","v":0},{"$f":"VLOOKUP($F$273,'E1.Evaluación (B-C)'!$B$196:$X$201,AE253,0)","v":0},{"$f":"VLOOKUP($F$273,'E1.Evaluación (B-C)'!$B$196:$X$201,AF253,0)","v":0},{"$f":"VLOOKUP($F$273,'E1.Evaluación (B-C)'!$B$196:$X$201,AG253,0)","v":0},{"$f":"VLOOKUP($F$273,'E1.Evaluación (B-C)'!$B$196:$X$201,AH253,0)","v":0},{"$f":"VLOOKUP($F$273,'E1.Evaluación (B-C)'!$B$196:$X$201,AI253,0)","v":0},{"$f":"VLOOKUP($F$273,'E1.Evaluación (B-C)'!$B$196:$X$201,AJ253,0)","v":0},{"$f":"VLOOKUP($F$273,'E1.Evaluación (B-C)'!$B$196:$X$201,AK253,0)","v":0}]
[null,"CON PROYECTO","OPERACIÓN",{"$f":"0","v":0},{"$f":"0","v":0},{"$f":"0","v":0},{"$f":"0","v":0},{"$f":"0","v":0},{"$f":"0","v":0},{"$f":"0","v":0},{"$f":"0","v":0},{"$f":"0","v":0},{"$f":"0","v":0}]
[null,null,"MANTENIMIENTO",{"$f":"VLOOKUP($F$272,'E1.Evaluación (B-C)'!$B$196:$X$201,AB253,0)","v":0},{"$f":"VLOOKUP($F$272,'E1.Evaluación (B-C)'!$B$196:$X$201,AC253,0)","v":0},{"$f":"VLOOKUP($F$272,'E1.Evaluación (B-C)'!$B$196:$X$201,AD253,0)","v":0},{"$f":"VLOOKUP($F$272,'E1.Evaluación (B-C)'!$B$196:$X$201,AE253,0)","v":0},{"$f":"VLOOKUP($F$272,'E1.Evaluación (B-C)'!$B$196:$X$201,AF253,0)","v":0},{"$f":"VLOOKUP($F$272,'E1.Evaluación (B-C)'!$B$196:$X$201,AG253,0)","v":0},{"$f":"VLOOKUP($F$272,'E1.Evaluación (B-C)'!$B$196:$X$201,AH253,0)","v":0},{"$f":"VLOOKUP($F$272,'E1.Evaluación (B-C)'!$B$196:$X$201,AI253,0)","v":0},{"$f":"VLOOKUP($F$272,'E1.Evaluación (B-C)'!$B$196:$X$201,AJ253,0)","v":0},{"$f":"VLOOKUP($F$272,'E1.Evaluación (B-C)'!$B$196:$X$201,AK253,0)","v":0}]
[null,"INCREMENTAL","OPERACIÓN",{"$f":"0","v":0},{"$f":"0","v":0},{"$f":"0","v":0},{"$f":"0","v":0},{"$f":"0","v":0},{"$f":"0","v":0},{"$f":"0","v":0},{"$f":"0","v":0},{"$f":"0","v":0},{"$f":"0","v":0}]
[null,null,"MANTENIMIENTO",{"$f":"VLOOKUP($F$271,'E1.Evaluación (B-C)'!$B$196:$X$201,AB253,0)","v":0},{"$f":"VLOOKUP($F$271,'E1.Evaluación (B-C)'!$B$196:$X$201,AC253,0)","v":0},{"$f":"VLOOKUP($F$271,'E1.Evaluación (B-C)'!$B$196:$X$201,AD253,0)","v":0},{"$f":"VLOOKUP($F$271,'E1.Evaluación (B-C)'!$B$196:$X$201,AE253,0)","v":0},{"$f":"VLOOKUP($F$271,'E1.Evaluación (B-C)'!$B$196:$X$201,AF253,0)","v":0},{"$f":"VLOOKUP($F$271,'E1.Evaluación (B-C)'!$B$196:$X$201,AG253,0)","v":0},{"$f":"VLOOKUP($F$271,'E1.Evaluación (B-C)'!$B$196:$X$201,AH253,0)","v":0},{"$f":"VLOOKUP($F$271,'E1.Evaluación (B-C)'!$B$196:$X$201,AI253,0)","v":0},{"$f":"VLOOKUP($F$271,'E1.Evaluación (B-C)'!$B$196:$X$201,AJ253,0)","v":0},{"$f":"VLOOKUP($F$271,'E1.Evaluación (B-C)'!$B$196:$X$201,AK253,0)","v":0}]
[]
[null,"16. CRITERIO DE DECISIÓN DE INVERSIÓN",null,null,null,{"$f":"D272&B259","v":"Costo/EficienciaINCREMENTAL"}]
[null,null,null,"Costo/Eficiencia",null,{"$f":"D272&B257","v":"Costo/EficienciaCON PROYECTO"}]
[null,null,null,null,null,{"$f":"D272&B255","v":"Costo/EficienciaSIN PROYECTO"}]
[null,"17. EVALUACION SOCIAL"]
[]
[null,"Tipo*",null,null,null,"Alternativa 1",null,"Alternativa 2"]
[null,"Beneficio/Costo",null,"VAN",null,{"$f":"+'E1.Evaluación (B-C)'!F185","v":0},null,{"$f":"+'E1.Evaluación (B-C)'!V185","v":0}]
[null,null,null,"B/C",null,{"$f":"+'E1.Evaluación (B-C)'!F186","v":0},null,{"$f":"+'E1.Evaluación (B-C)'!V186","v":0}]
[null,null,null,"TIR",null,{"$f":"+'E1.Evaluación (B-C)'!F187","v":0},null,{"$f":"+'E1.Evaluación (B-C)'!V187","v":0}]
[null,"Costo/Eficiencia",null,"Valor Actual de los Costos (VACS)",null,{"$f":"+'D1.Evaluación (C-E)'!C62","v":0},null,{"$f":"+'D1.Evaluación (C-E)'!I62","v":0}]
[null,null,null,"Costo Anual Equivalente (CAE)",null,{"$f":"+'D1.Evaluación (C-E)'!C64","v":0},null,{"$f":"+'D1.Evaluación (C-E)'!I64","v":0}]
[null,null,null,"VACS/Km",null,{"$f":"+'D1.Evaluación (C-E)'!C65","v":0},null,{"$f":"+'D1.Evaluación (C-E)'!I65","v":0}]
[null,null,null,"Línea de Corte",null,0,null,0]
[null,null,null,"Cumple Linea  de Corte (S/ / Km)",null,{"$f":"IF(F282=\"0\",\"\",IF(F283<=F282,\"SI CUMPLE\",\" NO CUMPLE\"))","v":"SI CUMPLE"},null,{"$f":"IF(H282=\"0\",\"\",IF(H283<=H282,\"SI CUMPLE\",\" NO CUMPLE\"))","v":"SI CUMPLE"}]
[null,"* A precios sociales"]
[]
[null,"18. SOSTENIBILIDAD"]
[]
[null,"18.1  Responsable de la operación y mantenimiento del proyecto"]
[]
[]
[null,"18.2 ¿Es la Unidad Ejecutora de Inversiones la responsable de la Operación y Mantenimiento del proyecto de inversión con cargo a su Presupuesto Institucional?"]
[]
[]
[]
[null,"Documento",null,"Entidad / Organización",null,"Compromiso"]
[]
[]
[]
[]
[]
[]
[null,"18.3    ¿El área donde se ubica el proyecto ha sido afectada por algún desastre?"]
[]
[]
[]
[null,"Medidas consideradas en el Proyecto para Mitigar el Riesgo de Desastre"]
[null,"Peligros","Ocurrencia","Nivel","Probabilidad de Ocurrencia","Medida de Reducción de Riesgo en el Contexto de Cambio Climático"]
[null,"Sismos"]
[null,"Tsunamis"]
[null,"Heladas"]
[null,"Friajes"]
[null,"Erupciones Volcánicas"]
[null,"Sequías"]
[null,"Granizadas"]
[null,"Lluvias intensas."]
[null,"Avalanchas"]
[null,"Flujos de lodo (Huaicos)"]
[null,"Deslizamientos"]
[null,"Inundaciones"]
[null,"Vientos fuertes"]
[null,"Otros (Especificar):"]
[]
[null,"19. MODALIDAD DE EJECUCIÓN"]
[]
[null,"Nº","TIPO DE EJECUCIÓN",null,null,null,"Elegir Modalidad de Ejecución (X)"]
[null,1,"ADMINISTRACIÓN DIRECTA"]
[null,2,"ADMINISTRACIÓN INDIRECTA - POR CONTRATA"]
[null,3,"ADMINISTRACIÓN INDIRECTA - ASOCIACIÓN PÚBLICA PRIVADA (APP)"]
[null,4,"ADMINISTRACIÓN INDIRECTA - OBRAS POR IMPUESTOS"]
[null,5,"ADMINISTRACIÓN INDIRECTA - GOBIERNO A GOBIERNO"]
[]
[null,"20. TIPO DE FUENTE DE FINANCIAMIENTO"]
[null,1,"RECURSOS ORDINARIOS"]
[null,2,"RECURSOS DIRECTAMENTE RECAUDADOS"]
[null,3,"RECURSOS POR OPERACIONES OFICIALES DE CREDITO"]
[null,4,"DONACIONES Y TRANSFERENCIAS"]
[null,5,"RECURSOS DETERMINADOS"]
[]
[null,"21. IMPACTO AMBIENTAL",null,"El Proyecto cuenta con Clasificación Ambiental"]
[]
[null,"ETAPAS DEL PROYECTO","IMPACTOS NEGATIVOS","MEDIDAS DE PREVENCIÓN, CONTROL Y/O MITIGACIÓN","MEDIOS DE VERIFICACIÓN DEL CUMPLIMIENTO",null,"FRECUENCIA DE EJECUCIÓN","COSTO (S/)"]
[null,"EJECUCIÓN"]
[]
[]
[null,"FUNCIONAMIENTO"]
[]
[]
[null,"(*): El Monto de Prevención, Control y/o Mitigación deberá estar incluido en el Costo de Inversión (16.1) en la etapa de ejecución y los costos durante el funcionamiento en los costos de operación y mantenimiento (16.4)"]
[]
[null,"22. COMPETENCIA EN LAS QUE SE ENMARCA EL PROYECTO DE INVERSIÓN"]
[null,"La Unidad Formuladora declara que el presente proyecto de inversión es competencia de su nivel de Gobierno.",null,null,null,null,null,null,"SI",null,"NO"]
[null,"Caso contrario y sólo de ser competencia local, el GL involucrado autoriza su Formulación y Evaluación mediante (Convenio): _________________ de fecha: ___________"]
[]
[null,"23. CONCLUSIONES Y RECOMENDACIONES"]
[]
[]
[]
[]
[null,"24 RESULTADO DE LA FORMULACION Y EVALUACIÓN"]
[]
[null,null,"VIABLE          :"]
[]
[null,null,"NO VIABLE     :"]
[]
[null,"25. ANEXOS"]
[null,"Anexo N° 01","Estudio de Tráfico "]
[null,"Anexo N° 02","Formatos de Reconocimiento de campo"]
[null,null,"Formato N° 1: Datos Generales."]
[null,null,"Formato N° 2: Topografía."]
[null,null,"Formato N° 3A: Registro de excavación de calicatas"]
[null,null,"Formato N° 3B: Daños en la superficie de rodadura"]
[null,null,"Formato N° 4: Canteras y Fuentes de Agua."]
[null,null,"Formato N° 5A: Obras de Arte."]
[null,null,"Formato N° 5B: Obras de Drenaje."]
[null,null,"Formato N° 6: Señalización."]
[null,null,"Formato N° 7: Puntos Críticos.  "]
[null,"Anexo N° 03","Sustentos del dimensionamiento, ubicación y tecnología del proyecto de inversión"]
[null,null,"Planos de Ubicación en *KMZ"]
[null,null,"Planos en Planta"]
[null,null,"Planos de Sección Transversal Típica y perfil"]
[null,null,"Diseño de Pavimentos"]
[null,"Anexo N° 04","Presupuesto del proyecto de inversión "]
[null,"Anexo N° 05","Actas y/o Acuerdos del proyecto de inversión."]
[]
[null,"NOTA:"]
[null,"Los Anexos y Formatos indicados se encuentran en el Instructivo"]
[]
[null,"26. FIRMAS"]
[]
[]
[]
[]
[null,"     Responsable de la formulación y evaluación del proyecto",null,null,null,null,"Responsable de la Unidad Formuladora"]

{"sheet":"A1.Trafico","index":1,"n_rows":219,"n_cols":163,"rows_kept":219,"cut":false,"hidden":false,"merged":[[135,53,136,53],[135,55,135,57],[135,58,135,60],[73,28,73,29],[73,30,74,30],[73,32,73,34],[73,35,73,37],[135,28,135,29],[135,30,136,30],[135,32,135,34],[135,35,135,37],[73,31,74,31],[73,42,73,45],[73,47,74,47],[73,48,74,48],[73,49,74,49],[73,50,74,50],[73,38,73,41],[12,122,13,122],[73,74,73,75],[73,76,74,76],[73,78,73,80],[73,81,73,83],[62,116,62,117],[12,116,13,116],[12,117,13,117],[12,118,13,118],[12,119,13,119],[68,99,68,103],[68,120,68,121],[62,93,62,94],[12,84,12,87],[12,88,12,91],[12,94,13,94],[12,97,12,98],[12,99,13,99],[12,101,12,103],[62,1,62,2],[73,72,74,72],[73,61,73,64],[73,65,73,68],[73,70,74,70],[12,104,12,106],[12,107,12,110],[12,111,12,114],[12,120,12,121],[73,51,73,52],[73,53,74,53],[73,55,73,57],[73,58,73,60],[66,1,66,22],[68,5,68,6],[68,7,68,12],[73,25,74,25],[73,19,73,22],[73,26,74,26],[73,27,74,27],[73,24,74,24],[68,28,68,29],[12,95,13,95],[12,100,13,100],[4,140,4,156],[4,117,4,133],[4,94,4,110],[4,71,4,87],[4,48,4,64],[4,26,4,42],[4,1,4,22],[185,139,185,140],[185,24,185,25],[185,47,185,48],[185,70,185,71],[185,93,185,94],[185,116,185,117],[135,130,135,133],[135,111,135,114],[135,116,136,116],[135,117,136,117],[135,118,136,118],[135,119,136,119],[135,50,136,50],[135,77,136,77],[135,107,135,110],[135,88,135,91],[135,93,136,93],[135,157,135,160],[135,146,136,146],[135,153,135,156],[135,134,135,137],[135,139,136,139],[135,140,136,140],[135,141,136,141],[135,142,136,142],[135,100,136,100],[135,143,135,144],[135,145,136,145],[135,147,135,149],[135,150,135,152],[135,120,135,121],[135,122,136,122],[135,124,135,126],[135,127,135,129],[135,101,135,103],[135,104,135,106],[135,25,136,25],[135,26,136,26],[135,27,136,27],[135,42,135,45],[135,47,136,47],[135,48,136,48],[135,1,136,1],[135,2,136,2],[135,3,136,3],[135,4,136,4],[135,8,136,8],[135,12,135,14],[135,15,135,18],[135,5,135,6],[135,7,136,7],[135,9,135,11],[135,31,136,31],[135,38,135,41],[135,19,135,22],[135,24,136,24],[123,139,123,140],[130,99,130,103],[130,120,130,121],[128,1,128,22],[130,5,130,6],[130,7,130,12],[130,28,130,29],[130,30,130,34],[130,51,130,52],[130,122,130,126],[123,24,123,25],[123,47,123,48],[123,70,123,71],[123,93,123,94],[123,116,123,117],[130,53,130,57],[130,74,130,75],[130,76,130,80],[130,97,130,98],[128,139,128,160],[130,143,130,144],[130,145,130,149],[128,24,128,45],[73,123,74,123],[73,107,73,110],[73,111,73,114],[73,116,74,116],[73,117,74,117],[73,157,73,160],[73,141,74,141],[73,142,74,142],[73,146,74,146],[73,130,73,133],[73,134,73,137],[73,139,74,139],[73,140,74,140],[73,153,73,156],[73,143,73,144],[73,145,74,145],[73,147,73,149],[73,150,73,152],[68,145,68,149],[68,51,68,52],[68,53,68,57],[68,74,68,75],[68,76,68,80],[68,97,68,98],[68,122,68,126],[73,124,73,126],[73,127,73,129],[68,143,68,144],[73,73,74,73],[73,77,74,77],[73,84,73,87],[73,88,73,91],[73,93,74,93],[73,94,74,94],[73,118,74,118],[73,119,74,119],[73,120,73,121],[73,122,74,122],[73,97,73,98],[73,99,74,99],[73,101,73,103],[73,104,73,106],[7,122,7,126],[7,120,7,121],[9,110,9,114],[12,147,12,149],[12,150,12,152],[12,72,13,72],[12,73,13,73],[12,77,13,77],[7,74,7,75],[7,99,7,103],[12,93,13,93],[12,74,12,75],[12,76,13,76],[12,78,12,80],[12,81,12,83],[12,124,12,126],[12,127,12,129],[12,143,12,144],[12,145,13,145],[12,123,13,123],[12,130,12,133],[12,134,12,137],[7,97,7,98],[12,96,13,96],[12,153,12,156],[12,157,12,160],[62,139,62,140],[7,145,7,149],[12,139,13,139],[12,140,13,140],[12,141,13,141],[12,142,13,142],[12,146,13,146],[7,143,7,144],[62,70,62,71],[12,61,12,64],[12,65,12,68],[73,71,74,71],[73,95,74,95],[73,96,74,96],[73,100,74,100],[12,53,13,53],[12,55,12,57],[12,58,12,60],[73,54,74,54],[68,30,68,34],[7,51,7,52],[7,28,7,29],[7,30,7,34],[12,24,13,24],[12,25,13,25],[12,26,13,26],[12,27,13,27],[62,47,62,48],[12,49,13,49],[12,50,13,50],[12,51,12,52],[12,28,12,29],[12,30,13,30],[12,32,12,34],[185,1,185,2],[123,1,123,2],[73,1,74,1],[73,2,74,2],[73,3,74,3],[73,4,74,4],[73,8,74,8],[73,12,73,14],[73,15,73,18],[73,5,73,6],[73,7,74,7],[73,9,73,11],[5,1,5,22],[12,1,13,1],[12,2,13,2],[12,3,13,3],[12,4,13,4],[12,8,13,8],[12,12,12,14],[7,7,7,12],[7,5,7,6],[12,5,12,6],[12,7,13,7],[12,9,12,11],[12,15,12,18],[12,19,12,22],[5,24,5,45],[5,47,5,68],[5,70,5,91],[5,93,5,114],[5,116,5,137],[5,139,5,160],[66,24,66,45],[66,47,66,68],[66,70,66,91],[66,93,66,114],[66,116,66,137],[66,139,66,160],[12,38,12,41],[12,31,13,31],[7,53,7,57],[12,54,13,54],[7,76,7,80],[12,70,13,70],[12,71,13,71],[12,47,13,47],[12,48,13,48],[12,42,12,45],[62,24,62,25],[12,35,12,37],[135,61,135,64],[128,47,128,68],[128,70,128,91],[128,93,128,114],[128,116,128,137],[135,49,136,49],[135,84,135,87],[135,65,135,68],[135,70,136,70],[135,71,136,71],[135,72,136,72],[135,73,136,73],[135,94,136,94],[135,95,136,95],[135,54,136,54],[135,96,136,96],[135,123,136,123],[135,97,135,98],[135,99,136,99],[135,74,135,75],[135,76,136,76],[135,78,135,80],[135,81,135,83],[135,51,135,52]]}
[]
[]
[]
[]
[null,"FORMATO DE CLASIFICACION VEHICULAR",null,null,null,null,null,null,null,null,null,null,null,null,null,null,null,null,null,null,null,null,null,null,null,null,"FORMATO DE CLASIFICACION VEHICULAR",null,null,null,null,null,null,null,null,null,null,null,null,null,null,null,null,null,null,null,null,null,"FORMATO DE CLASIFICACION VEHICULAR",null,null,null,null,null,null,null,null,null,null,null,null,null,null,null,null,null,null,null,null,null,null,"FORMATO DE CLASIFICACION VEHICULAR",null,null,null,null,null,null,null,null,null,null,null,null,null,null,null,null,null,null,null,null,null,null,"FORMATO DE CLASIFICACION VEHICULAR",null,null,null,null,null,null,null,null,null,null,null,null,null,null,null,null,null,null,null,null,null,null,"FORMATO DE CLASIFICACION VEHICULAR",null,null,null,null,null,null,null,null,null,null,null,null,null,null,null,null,null,null,null,null,null,null,"FORMATO DE CLASIFICACION VEHICULAR"]
[null,"ESTUDIO DE TRAFICO - ESTACIÓN PRINCIPAL 1 - LUNES",null,null,null,null,null,null,null,null,null,null,null,null,null,null,null,null,null,null,null,null,null,null,"ESTUDIO DE TRAFICO - ESTACIÓN PRINCIPAL 1 - MARTES",null,null,null,null,null,null,null,null,null,null,null,null,null,null,null,null,null,null,null,null,null,null,"ESTUDIO DE TRAFICO - ESTACIÓN PRINCIPAL 1 - MIERCOLES",null,null,null,null,null,null,null,null,null,null,null,null,null,null,null,null,null,null,null,null,null,null,"ESTUDIO DE TRAFICO - ESTACIÓN PRINCIPAL 1 - JUEVES",null,null,null,null,null,null,null,null,null,null,null,null,null,null,null,null,null,null,null,null,null,null,"ESTUDIO DE TRAFICO - ESTACIÓN PRINCIPAL 1 - VIERNES",null,null,null,null,null,null,null,null,null,null,null,null,null,null,null,null,null,null,null,null,null,null,"ESTUDIO DE TRAFICO - ESTACIÓN PRINCIPAL 1 - SABADO",null,null,null,null,null,null,null,null,null,null,null,null,null,null,null,null,null,null,null,null,null,null,"ESTUDIO DE TRAFICO - ESTACIÓN PRINCIPAL 1 - DOMINGO"]
[]
[null,"ESTACIÓN PRINCIPAL DE LA CARRETERA",null,null,null,1,null,null,null,null,null,null,null,null,null,null,"ESTACION",null,null,null,null,null,null,null,"ESTACIÓN PRINCIPAL DE LA CARRETERA",null,null,null,1,null,null,null,null,null,null,null,null,null,null,"ESTACION",null,null,null,null,null,null,null,"ESTACIÓN PRINCIPAL DE LA CARRETERA",null,null,null,1,null,null,null,null,null,null,null,null,null,null,"ESTACION",null,null,null,null,null,null,null,"ESTACIÓN PRINCIPAL DE LA CARRETERA",null,null,null,1,null,null,null,null,null,null,null,null,null,null,"ESTACION",null,null,null,null,null,null,null,"ESTACIÓN PRINCIPAL DE LA CARRETERA",null,null,null,1,null,null,null,null,null,null,null,null,null,null,"ESTACION",null,null,null,null,null,null,null,"ESTACIÓN PRINCIPAL DE LA CARRETERA",null,null,null,1,null,null,null,null,null,null,null,null,null,null,"ESTACION",null,null,null,null,null,null,null,"ESTACIÓN PRINCIPAL DE LA CARRETERA",null,null,null,1,null,null,null,null,null,null,null,null,null,null,"ESTACION"]
[null,"SENTIDO",null,null,null,null,null," E",null,null,null,null," S",null,null,null,"CODIGO DE LA ESTACION",null,null,null,null,null,null,null,"SENTIDO",null,null,null,null,null," E",null,null,null," S",null,null,null,null,"CODIGO DE LA ESTACION",null,null,null,null,null,null,null,"SENTIDO",null,null,null,null,null," E",null,null,null," S",null,null,null,null,"CODIGO DE LA ESTACION",null,null,null,null,null,null,null,"SENTIDO",null,null,null,null,null," E",null,null,null," S",null,null,null,null,"CODIGO DE LA ESTACION",null,null,null,null,null,null,null,"SENTIDO",null,null,null,null,null," E",null,null,null," S",null,null,null,null,"CODIGO DE LA ESTACION",null,null,null,null,null,null,null,"SENTIDO",null,null,null,null,null," E",null,null,null," S",null,null,null,null,"CODIGO DE LA ESTACION",null,null,null,null,null,null,null,"SENTIDO",null,null,null,null,null," E",null,null,null," S",null,null,null,null,"CODIGO DE LA ESTACION"]
[null,"UBICACIÓN ",null,null,null,null,null,null,null,null,null,null,null,null,null,null,"DIA Y FECHA",null,null,null,null,null,null,null,"UBICACIÓN ",null,null,null,null,null,null,null,null,null,null,null,null,null,null,"DIA Y FECHA",null,null,null,null,null,null,null,"UBICACIÓN ",null,null,null,null,null,null,null,null,null,null,null,null,null,null,"DIA Y FECHA",null,null,null,null,null,null,null,"UBICACIÓN ",null,null,null,null,null,null,null,null,null,null,null,null,null,null,"DIA Y FECHA",null,null,null,null,null,null,null,"UBICACIÓN ",null,null,null,null,null,null,null,null,null,null,null,null,null,null,"DIA Y FECHA",null,null,null,null,null,null,null,"UBICACIÓN ",null,null,null,null,null,null,null,null,null,null,null,null,null,null,"DIA Y FECHA",null,null,null,null,null,null,null,"UBICACIÓN ",null,null,null,null,null,null,null,null,null,null,null,null,null,null,"DIA Y FECHA"]
[null,"DIA","Lunes",null,null,null,null,null,null,null,null,null,null,null,null,null,null,null,null,null,null,null,null,null,"DIA","Martes",null,null,null,null,null,null,null,null,null,null,null,null,null,null,null,null,null,null,null,null,null,"DIA","Miércoles",null,null,null,null,null,null,null,null,null,null,null,null,null,null,null,null,null,null,null,null,null,"DIA","Jueves",null,null,null,null,null,null,null,null,null,null,null,null,null,null,null,null,null,null,null,null,null,"DIA","Viernes",null,null,null,null,null,null,null,null,null,null,null,null,null,null,null,null,null,null,null,null,null,"DIA","Sábado",null,null,null,null,null,null,null,null,null,null,null,null,null,null,null,null,null,null,null,null,null,"DIA","Domingo"]
[]
[null,"HORA","SENTI\nDO","AUTO","STATION WAGON","CAMIONETAS",null,"RURAL\nCombi","MICRO","BUS",null,null,"CAMION",null,null,"SEMI TRAYLER",null,null,null,"TRAYLER",null,null,null,null,"HORA","SENTI\nDO","AUTO","STATION WAGON","CAMIONETAS",null,"RURAL\nCombi","MICRO","BUS",null,null,"CAMION",null,null,"SEMI TRAYLER",null,null,null,"TRAYLER",null,null,null,null,"HORA","SENTI\nDO","AUTO","STATION WAGON","CAMIONETAS",null,"RURAL\nCombi","MICRO","BUS",null,null,"CAMION",null,null,"SEMI TRAYLER",null,null,null,"TRAYLER",null,null,null,null,"HORA","SENTI\nDO","AUTO","STATION WAGON","CAMIONETAS",null,"RURAL\nCombi","MICRO","BUS",null,null,"CAMION",null,null,"SEMI TRAYLER",null,null,null,"TRAYLER",null,null,null,null,"HORA","SENTI\nDO","AUTO","STATION WAGON","CAMIONETAS",null,"RURAL\nCombi","MICRO","BUS",null,null,"CAMION",null,null,"SEMI TRAYLER",null,null,null,"TRAYLER",null,null,null,null,"HORA","SENTI\nDO","AUTO","STATION WAGON","CAMIONETAS",null,"RURAL\nCombi","MICRO","BUS",null,null,"CAMION",null,null,"SEMI TRAYLER",null,null,null,"TRAYLER",null,null,null,null,"HORA","SENTI\nDO","AUTO","STATION WAGON","CAMIONETAS",null,"RURAL\nCombi","MICRO","BUS",null,null,"CAMION",null,null,"SEMI TRAYLER",null,null,null,"TRAYLER"]
[null,null,null,null,null,"PICK UP","PANEL",null,null,"2 E","3 E","4 E","2 E","3 E","4 E","2S1/2S2","2S3","3S1/3S2",">= 3S3","2T2","2T3","3T2",">=3T3",null,null,null,null,null,"PICK UP","PANEL",null,null,"2 E","3 E","4 E","2 E","3 E","4 E","2S1/2S2","2S3","3S1/3S2",">= 3S3","2T2","2T3","3T2",">=3T3",null,null,null,null,null,"PICK UP","PANEL",null,null,"2 E","3 E","4 E","2 E","3 E","4 E","2S1/2S2","2S3","3S1/3S2",">= 3S3","2T2","2T3","3T2",">=3T3",null,null,null,null,null,"PICK UP","PANEL",null,null,"2 E","3 E","4 E","2 E","3 E","4 E","2S1/2S2","2S3","3S1/3S2",">= 3S3","2T2","2T3","3T2",">=3T3",null,null,null,null,null,"PICK UP","PANEL",null,null,"2 E","3 E","4 E","2 E","3 E","4 E","2S1/2S2","2S3","3S1/3S2",">= 3S3","2T2","2T3","3T2",">=3T3",null,null,null,null,null,"PICK UP","PANEL",null,null,"2 E","3 E","4 E","2 E","3 E","4 E","2S1/2S2","2S3","3S1/3S2",">= 3S3","2T2","2T3","3T2",">=3T3",null,null,null,null,null,"PICK UP","PANEL",null,null,"2 E","3 E","4 E","2 E","3 E","4 E","2S1/2S2","2S3","3S1/3S2",">= 3S3","2T2","2T3","3T2",">=3T3"]
[null,"00-01","E",null,null,null,null,null,null,null,null,null,null,null,null,null,null,null,null,null,null,null,null,null,"00-01","E",null,null,null,null,null,null,null,null,null,null,null,null,null,null,null,null,null,null,null,null,null,"00-01","E",null,null,null,null,null,null,null,null,null,null,null,null,null,null,null,null,null,null,null,null,null,"00-01","E",null,null,null,null,null,null,null,null,null,null,null,null,null,null,null,null,null,null,null,null,null,"00-01","E",null,null,null,null,null,null,null,null,null,null,null,null,null,null,null,null,null,null,null,null,null,"00-01","E",null,null,null,null,null,null,null,null,null,null,null,null,null,null,null,null,null,null,null,null,null,"00-01","E"]
[null,null,"S",null,null,null,null,null,null,null,null,null,null,null,null,null,null,null,null,null,null,null,null,null,null,"S",null,null,null,null,null,null,null,null,null,null,null,null,null,null,null,null,null,null,null,null,null,null,"S",null,null,null,null,null,null,null,null,null,null,null,null,null,null,null,null,null,null,null,null,null,null,"S",null,null,null,null,null,null,null,null,null,null,null,null,null,null,null,null,null,null,null,null,null,null,"S",null,null,null,null,null,null,null,null,null,null,null,null,null,null,null,null,null,null,null,null,null,null,"S",null,null,null,null,null,null,null,null,null,null,null,null,null,null,null,null,null,null,null,null,null,null,"S"]
[null,"01-02","E",null,null,null,null,null,null,null,null,null,null,null,null,null,null,null,null,null,null,null,null,null,"01-02","E",null,null,null,null,null,null,null,null,null,null,null,null,null,null,null,null,null,null,null,null,null,"01-02","E",null,null,null,null,null,null,null,null,null,null,null,null,null,null,null,null,null,null,null,null,null,"01-02","E",null,null,null,null,null,null,null,null,null,null,null,null,null,null,null,null,null,null,null,null,null,"01-02","E",null,null,null,null,null,null,null,null,null,null,null,null,null,null,null,null,null,null,null,null,null,"01-02","E",null,null,null,null,null,null,null,null,null,null,null,null,null,null,null,null,null,null,null,null,null,"01-02","E"]
[null,null,"S",null,null,null,null,null,null,null,null,null,null,null,null,null,null,null,null,null,null,null,null,null,null,"S",null,null,null,null,null,null,null,null,null,null,null,null,null,null,null,null,null,null,null,null,null,null,"S",null,null,null,null,null,null,null,null,null,null,null,null,null,null,null,null,null,null,null,null,null,null,"S",null,null,null,null,null,null,null,null,null,null,null,null,null,null,null,null,null,null,null,null,null,null,"S",null,null,null,null,null,null,null,null,null,null,null,null,null,null,null,null,null,null,null,null,null,null,"S",null,null,null,null,null,null,null,null,null,null,null,null,null,null,null,null,null,null,null,null,null,null,"S"]
[null,"02-03","E",null,null,null,null,null,null,null,null,null,null,null,null,null,null,null,null,null,null,null,null,null,"02-03","E",null,null,null,null,null,null,null,null,null,null,null,null,null,null,null,null,null,null,null,null,null,"02-03","E",null,null,null,null,null,null,null,null,null,null,null,null,null,null,null,null,null,null,null,null,null,"02-03","E",null,null,null,null,null,null,null,null,null,null,null,null,null,null,null,null,null,null,null,null,null,"02-03","E",null,null,null,null,null,null,null,null,null,null,null,null,null,null,null,null,null,null,null,null,null,"02-03","E",null,null,null,null,null,null,null,null,null,null,null,null,null,null,null,null,null,null,null,null,null,"02-03","E"]
[null,null,"S",null,null,null,null,null,null,null,null,null,null,null,null,null,null,null,null,null,null,null,null,null,null,"S",null,null,null,null,null,null,null,null,null,null,null,null,null,null,null,null,null,null,null,null,null,null,"S",null,null,null,null,null,null,null,null,null,null,null,null,null,null,null,null,null,null,null,null,null,null,"S",null,null,null,null,null,null,null,null,null,null,null,null,null,null,null,null,null,null,null,null,null,null,"S",null,null,null,null,null,null,null,null,null,null,null,null,null,null,null,null,null,null,null,null,null,null,"S",null,null,null,null,null,null,null,null,null,null,null,null,null,null,null,null,null,null,null,null,null,null,"S"]
[null,"03-04","E",null,null,null,null,null,null,null,null,null,null,null,null,null,null,null,null,null,null,null,null,null,"03-04","E",null,null,null,null,null,null,null,null,null,null,null,null,null,null,null,null,null,null,null,null,null,"03-04","E",null,null,null,null,null,null,null,null,null,null,null,null,null,null,null,null,null,null,null,null,null,"03-04","E",null,null,null,null,null,null,null,null,null,null,null,null,null,null,null,null,null,null,null,null,null,"03-04","E",null,null,null,null,null,null,null,null,null,null,null,null,null,null,null,null,null,null,null,null,null,"03-04","E",null,null,null,null,null,null,null,null,null,null,null,null,null,null,null,null,null,null,null,null,null,"03-04","E"]
[null,null,"S",null,null,null,null,null,null,null,null,null,null,null,null,null,null,null,null,null,null,null,null,null,null,"S",null,null,null,null,null,null,null,null,null,null,null,null,null,null,null,null,null,null,null,null,null,null,"S",null,null,null,null,null,null,null,null,null,null,null,null,null,null,null,null,null,null,null,null,null,null,"S",null,null,null,null,null,null,null,null,null,null,null,null,null,null,null,null,null,null,null,null,null,null,"S",null,null,null,null,null,null,null,null,null,null,null,null,null,null,null,null,null,null,null,null,null,null,"S",null,null,null,null,null,null,null,null,null,null,null,null,null,null,null,null,null,null,null,null,null,null,"S"]
[null,"04-05","E",null,null,null,null,null,null,null,null,null,null,null,null,null,null,null,null,null,null,null,null,null,"04-05","E",null,null,null,null,null,null,null,null,null,null,null,null,null,null,null,null,null,null,null,null,null,"04-05","E",null,null,null,null,null,null,null,null,null,null,null,null,null,null,null,null,null,null,null,null,null,"04-05","E",null,null,null,null,null,null,null,null,null,null,null,null,null,null,null,null,null,null,null,null,null,"04-05","E",null,null,null,null,null,null,null,null,null,null,null,null,null,null,null,null,null,null,null,null,null,"04-05","E",null,null,null,null,null,null,null,null,null,null,null,null,null,null,null,null,null,null,null,null,null,"04-05","E"]
[null,null,"S",null,null,null,null,null,null,null,null,null,null,null,null,null,null,null,null,null,null,null,null,null,null,"S",null,null,null,null,null,null,null,null,null,null,null,null,null,null,null,null,null,null,null,null,null,null,"S",null,null,null,null,null,null,null,null,null,null,null,null,null,null,null,null,null,null,null,null,null,null,"S",null,null,null,null,null,null,null,null,null,null,null,null,null,null,null,null,null,null,null,null,null,null,"S",null,null,null,null,null,null,null,null,null,null,null,null,null,null,null,null,null,null,null,null,null,null,"S",null,null,null,null,null,null,null,null,null,null,null,null,null,null,null,null,null,null,null,null,null,null,"S"]
[null,"05-06","E",null,null,null,null,null,null,null,null,null,null,null,null,null,null,null,null,null,null,null,null,null,"05-06","E",null,null,null,null,null,null,null,null,null,null,null,null,null,null,null,null,null,null,null,null,null,"05-06","E",null,null,null,null,null,null,null,null,null,null,null,null,null,null,null,null,null,null,null,null,null,"05-06","E",null,null,null,null,null,null,null,null,null,null,null,null,null,null,null,null,null,null,null,null,null,"05-06","E",null,null,null,null,null,null,null,null,null,null,null,null,null,null,null,null,null,null,null,null,null,"05-06","E",null,null,null,null,null,null,null,null,null,null,null,null,null,null,null,null,null,null,null,null,null,"05-06","E"]
[null,null,"S",null,null,null,null,null,null,null,null,null,null,null,null,null,null,null,null,null,null,null,null,null,null,"S",null,null,null,null,null,null,null,null,null,null,null,null,null,null,null,null,null,null,null,null,null,null,"S",null,null,null,null,null,null,null,null,null,null,null,null,null,null,null,null,null,null,null,null,null,null,"S",null,null,null,null,null,null,null,null,null,null,null,null,null,null,null,null,null,null,null,null,null,null,"S",null,null,null,null,null,null,null,null,null,null,null,null,null,null,null,null,null,null,null,null,null,null,"S",null,null,null,null,null,null,null,null,null,null,null,null,null,null,null,null,null,null,null,null,null,null,"S"]
[null,"06-07","E",null,null,null,null,null,null,null,null,null,null,null,null,null,null,null,null,null,null,null,null,null,"06-07","E",null,null,null,null,null,null,null,null,null,null,null,null,null,null,null,null,null,null,null,null,null,"06-07","E",null,null,null,null,null,null,null,null,null,null,null,null,null,null,null,null,null,null,null,null,null,"06-07","E",null,null,null,null,null,null,null,null,null,null,null,null,null,null,null,null,null,null,null,null,null,"06-07","E",null,null,null,null,null,null,null,null,null,null,null,null,null,null,null,null,null,null,null,null,null,"06-07","E",null,null,null,null,null,null,null,null,null,null,null,null,null,null,null,null,null,null,null,null,null,"06-07","E"]
[null,null,"S",null,null,null,null,null,null,null,null,null,null,null,null,null,null,null,null,null,null,null,null,null,null,"S",null,null,null,null,null,null,null,null,null,null,null,null,null,null,null,null,null,null,null,null,null,null,"S",null,null,null,null,null,null,null,null,null,null,null,null,null,null,null,null,null,null,null,null,null,null,"S",null,null,null,null,null,null,null,null,null,null,null,null,null,null,null,null,null,null,null,null,null,null,"S",null,null,null,null,null,null,null,null,null,null,null,null,null,null,null,null,null,null,null,null,null,null,"S",null,null,null,null,null,null,null,null,null,null,null,null,null,null,null,null,null,null,null,null,null,null,"S"]
[null,"07-08","E",null,null,null,null,null,null,null,null,null,null,null,null,null,null,null,null,null,null,null,null,null,"07-08","E",null,null,null,null,null,null,null,null,null,null,null,null,null,null,null,null,null,null,null,null,null,"07-08","E",null,null,null,null,null,null,null,null,null,null,null,null,null,null,null,null,null,null,null,null,null,"07-08","E",null,null,null,null,null,null,null,null,null,null,null,null,null,null,null,null,null,null,null,null,null,"07-08","E",null,null,null,null,null,null,null,null,null,null,null,null,null,null,null,null,null,null,null,null,null,"07-08","E",null,null,null,null,null,null,null,null,null,null,null,null,null,null,null,null,null,null,null,null,null,"07-08","E"]
[null,null,"S",null,null,null,null,null,null,null,null,null,null,null,null,null,null,null,null,null,null,null,null,null,null,"S",null,null,null,null,null,null,null,null,null,null,null,null,null,null,null,null,null,null,null,null,null,null,"S",null,null,null,null,null,null,null,null,null,null,null,null,null,null,null,null,null,null,null,null,null,null,"S",null,null,null,null,null,null,null,null,null,null,null,null,null,null,null,null,null,null,null,null,null,null,"S",null,null,null,null,null,null,null,null,null,null,null,null,null,null,null,null,null,null,null,null,null,null,"S",null,null,null,null,null,null,null,null,null,null,null,null,null,null,null,null,null,null,null,null,null,null,"S"]
[null,"08-09","E",null,null,null,null,null,null,null,null,null,null,null,null,null,null,null,null,null,null,null,null,null,"08-09","E",null,null,null,null,null,null,null,null,null,null,null,null,null,null,null,null,null,null,null,null,null,"08-09","E",null,null,null,null,null,null,null,null,null,null,null,null,null,null,null,null,null,null,null,null,null,"08-09","E",null,null,null,null,null,null,null,null,null,null,null,null,null,null,null,null,null,null,null,null,null,"08-09","E",null,null,null,null,null,null,null,null,null,null,null,null,null,null,null,null,null,null,null,null,null,"08-09","E",null,null,null,null,null,null,null,null,null,null,null,null,null,null,null,null,null,null,null,null,null,"08-09","E"]
[null,null,"S",null,null,null,null,null,null,null,null,null,null,null,null,null,null,null,null,null,null,null,null,null,null,"S",null,null,null,null,null,null,null,null,null,null,null,null,null,null,null,null,null,null,null,null,null,null,"S",null,null,null,null,null,null,null,null,null,null,null,null,null,null,null,null,null,null,null,null,null,null,"S",null,null,null,null,null,null,null,null,null,null,null,null,null,null,null,null,null,null,null,null,null,null,"S",null,null,null,null,null,null,null,null,null,null,null,null,null,null,null,null,null,null,null,null,null,null,"S",null,null,null,null,null,null,null,null,null,null,null,null,null,null,null,null,null,null,null,null,null,null,"S"]
[null,"09-10","E",null,null,null,null,null,null,null,null,null,null,null,null,null,null,null,null,null,null,null,null,null,"09-10","E",null,null,null,null,null,null,null,null,null,null,null,null,null,null,null,null,null,null,null,null,null,"09-10","E",null,null,null,null,null,null,null,null,null,null,null,null,null,null,null,null,null,null,null,null,null,"09-10","E",null,null,null,null,null,null,null,null,null,null,null,null,null,null,null,null,null,null,null,null,null,"09-10","E",null,null,null,null,null,null,null,null,null,null,null,null,null,null,null,null,null,null,null,null,null,"09-10","E",null,null,null,null,null,null,null,null,null,null,null,null,null,null,null,null,null,null,null,null,null,"09-10","E"]
[null,null,"S",null,null,null,null,null,null,null,null,null,null,null,null,null,null,null,null,null,null,null,null,null,null,"S",null,null,null,null,null,null,null,null,null,null,null,null,null,null,null,null,null,null,null,null,null,null,"S",null,null,null,null,null,null,null,null,null,null,null,null,null,null,null,null,null,null,null,null,null,null,"S",null,null,null,null,null,null,null,null,null,null,null,null,null,null,null,null,null,null,null,null,null,null,"S",null,null,null,null,null,null,null,null,null,null,null,null,null,null,null,null,null,null,null,null,null,null,"S",null,null,null,null,null,null,null,null,null,null,null,null,null,null,null,null,null,null,null,null,null,null,"S"]
[null,"10-11","E",null,null,null,null,null,null,null,null,null,null,null,null,null,null,null,null,null,null,null,null,null,"10-11","E",null,null,null,null,null,null,null,null,null,null,null,null,null,null,null,null,null,null,null,null,null,"10-11","E",null,null,null,null,null,null,null,null,null,null,null,null,null,null,null,null,null,null,null,null,null,"10-11","E",null,null,null,null,null,null,null,null,null,null,null,null,null,null,null,null,null,null,null,null,null,"10-11","E",null,null,null,null,null,null,null,null,null,null,null,null,null,null,null,null,null,null,null,null,null,"10-11","E",null,null,null,null,null,null,null,null,null,null,null,null,null,null,null,null,null,null,null,null,null,"10-11","E"]
[null,null,"S",null,null,null,null,null,null,null,null,null,null,null,null,null,null,null,null,null,null,null,null,null,null,"S",null,null,null,null,null,null,null,null,null,null,null,null,null,null,null,null,null,null,null,null,null,null,"S",null,null,null,null,null,null,null,null,null,null,null,null,null,null,null,null,null,null,null,null,null,null,"S",null,null,null,null,null,null,null,null,null,null,null,null,null,null,null,null,null,null,null,null,null,null,"S",null,null,null,null,null,null,null,null,null,null,null,null,null,null,null,null,null,null,null,null,null,null,"S",null,null,null,null,null,null,null,null,null,null,null,null,null,null,null,null,null,null,null,null,null,null,"S"]
[null,"11-12","E",null,null,null,null,null,null,null,null,null,null,null,null,null,null,null,null,null,null,null,null,null,"11-12","E",null,null,null,null,null,null,null,null,null,null,null,null,null,null,null,null,null,null,null,null,null,"11-12","E",null,null,null,null,null,null,null,null,null,null,null,null,null,null,null,null,null,null,null,null,null,"11-12","E",null,null,null,null,null,null,null,null,null,null,null,null,null,null,null,null,null,null,null,null,null,"11-12","E",null,null,null,null,null,null,null,null,null,null,null,null,null,null,null,null,null,null,null,null,null,"11-12","E",null,null,null,null,null,null,null,null,null,null,null,null,null,null,null,null,null,null,null,null,null,"11-12","E"]
[null,null,"S",null,null,null,null,null,null,null,null,null,null,null,null,null,null,null,null,null,null,null,null,null,null,"S",null,null,null,null,null,null,null,null,null,null,null,null,null,null,null,null,null,null,null,null,null,null,"S",null,null,null,null,null,null,null,null,null,null,null,null,null,null,null,null,null,null,null,null,null,null,"S",null,null,null,null,null,null,null,null,null,null,null,null,null,null,null,null,null,null,null,null,null,null,"S",null,null,null,null,null,null,null,null,null,null,null,null,null,null,null,null,null,null,null,null,null,null,"S",null,null,null,null,null,null,null,null,null,null,null,null,null,null,null,null,null,null,null,null,null,null,"S"]
[null,"12-13","E",null,null,null,null,null,null,null,null,null,null,null,null,null,null,null,null,null,null,null,null,null,"12-13","E",null,null,null,null,null,null,null,null,null,null,null,null,null,null,null,null,null,null,null,null,null,"12-13","E",null,null,null,null,null,null,null,null,null,null,null,null,null,null,null,null,null,null,null,null,null,"12-13","E",null,null,null,null,null,null,null,null,null,null,null,null,null,null,null,null,null,null,null,null,null,"12-13","E",null,null,null,null,null,null,null,null,null,null,null,null,null,null,null,null,null,null,null,null,null,"12-13","E",null,null,null,null,null,null,null,null,null,null,null,null,null,null,null,null,null,null,null,null,null,"12-13","E"]
[null,null,"S",null,null,null,null,null,null,null,null,null,null,null,null,null,null,null,null,null,null,null,null,null,null,"S",null,null,null,null,null,null,null,null,null,null,null,null,null,null,null,null,null,null,null,null,null,null,"S",null,null,null,null,null,null,null,null,null,null,null,null,null,null,null,null,null,null,null,null,null,null,"S",null,null,null,null,null,null,null,null,null,null,null,null,null,null,null,null,null,null,null,null,null,null,"S",null,null,null,null,null,null,null,null,null,null,null,null,null,null,null,null,null,null,null,null,null,null,"S",null,null,null,null,null,null,null,null,null,null,null,null,null,null,null,null,null,null,null,null,null,null,"S"]
[null,"13-14","E",null,null,null,null,null,null,null,null,null,null,null,null,null,null,null,null,null,null,null,null,null,"13-14","E",null,null,null,null,null,null,null,null,null,null,null,null,null,null,null,null,null,null,null,null,null,"13-14","E",null,null,null,null,null,null,null,null,null,null,null,null,null,null,null,null,null,null,null,null,null,"13-14","E",null,null,null,null,null,null,null,null,null,null,null,null,null,null,null,null,null,null,null,null,null,"13-14","E",null,null,null,null,null,null,null,null,null,null,null,null,null,null,null,null,null,null,null,null,null,"13-14","E",null,null,null,null,null,null,null,null,null,null,null,null,null,null,null,null,null,null,null,null,null,"13-14","E"]
[null,null,"S",null,null,null,null,null,null,null,null,null,null,null,null,null,null,null,null,null,null,null,null,null,null,"S",null,null,null,null,null,null,null,null,null,null,null,null,null,null,null,null,null,null,null,null,null,null,"S",null,null,null,null,null,null,null,null,null,null,null,null,null,null,null,null,null,null,null,null,null,null,"S",null,null,null,null,null,null,null,null,null,null,null,null,null,null,null,null,null,null,null,null,null,null,"S",null,null,null,null,null,null,null,null,null,null,null,null,null,null,null,null,null,null,null,null,null,null,"S",null,null,null,null,null,null,null,null,null,null,null,null,null,null,null,null,null,null,null,null,null,null,"S"]
[null,"14-15","E",null,null,null,null,null,null,null,null,null,null,null,null,null,null,null,null,null,null,null,null,null,"14-15","E",null,null,null,null,null,null,null,null,null,null,null,null,null,null,null,null,null,null,null,null,null,"14-15","E",null,null,null,null,null,null,null,null,null,null,null,null,null,null,null,null,null,null,null,null,null,"14-15","E",null,null,null,null,null,null,null,null,null,null,null,null,null,null,null,null,null,null,null,null,null,"14-15","E",null,null,null,null,null,null,null,null,null,null,null,null,null,null,null,null,null,null,null,null,null,"14-15","E",null,null,null,null,null,null,null,null,null,null,null,null,null,null,null,null,null,null,null,null,null,"14-15","E"]
[null,null,"S",null,null,null,null,null,null,null,null,null,null,null,null,null,null,null,null,null,null,null,null,null,null,"S",null,null,null,null,null,null,null,null,null,null,null,null,null,null,null,null,null,null,null,null,null,null,"S",null,null,null,null,null,null,null,null,null,null,null,null,null,null,null,null,null,null,null,null,null,null,"S",null,null,null,null,null,null,null,null,null,null,null,null,null,null,null,null,null,null,null,null,null,null,"S",null,null,null,null,null,null,null,null,null,null,null,null,null,null,null,null,null,null,null,null,null,null,"S",null,null,null,null,null,null,null,null,null,null,null,null,null,null,null,null,null,null,null,null,null,null,"S"]
[null,"15-16","E",null,null,null,null,null,null,null,null,null,null,null,null,null,null,null,null,null,null,null,null,null,"15-16","E",null,null,null,null,null,null,null,null,null,null,null,null,null,null,null,null,null,null,null,null,null,"15-16","E",null,null,null,null,null,null,null,null,null,null,null,null,null,null,null,null,null,null,null,null,null,"15-16","E",null,null,null,null,null,null,null,null,null,null,null,null,null,null,null,null,null,null,null,null,null,"15-16","E",null,null,null,null,null,null,null,null,null,null,null,null,null,null,null,null,null,null,null,null,null,"15-16","E",null,null,null,null,null,null,null,null,null,null,null,null,null,null,null,null,null,null,null,null,null,"15-16","E"]
[null,null,"S",null,null,null,null,null,null,null,null,null,null,null,null,null,null,null,null,null,null,null,null,null,null,"S",null,null,null,null,null,null,null,null,null,null,null,null,null,null,null,null,null,null,null,null,null,null,"S",null,null,null,null,null,null,null,null,null,null,null,null,null,null,null,null,null,null,null,null,null,null,"S",null,null,null,null,null,null,null,null,null,null,null,null,null,null,null,null,null,null,null,null,null,null,"S",null,null,null,null,null,null,null,null,null,null,null,null,null,null,null,null,null,null,null,null,null,null,"S",null,null,null,null,null,null,null,null,null,null,null,null,null,null,null,null,null,null,null,null,null,null,"S"]
[null,"16-17","E",null,null,null,null,null,null,null,null,null,null,null,null,null,null,null,null,null,null,null,null,null,"16-17","E",null,null,null,null,null,null,null,null,null,null,null,null,null,null,null,null,null,null,null,null,null,"16-17","E",null,null,null,null,null,null,null,null,null,null,null,null,null,null,null,null,null,null,null,null,null,"16-17","E",null,null,null,null,null,null,null,null,null,null,null,null,null,null,null,null,null,null,null,null,null,"16-17","E",null,null,null,null,null,null,null,null,null,null,null,null,null,null,null,null,null,null,null,null,null,"16-17","E",null,null,null,null,null,null,null,null,null,null,null,null,null,null,null,null,null,null,null,null,null,"16-17","E"]
[null,null,"S",null,null,null,null,null,null,null,null,null,null,null,null,null,null,null,null,null,null,null,null,null,null,"S",null,null,null,null,null,null,null,null,null,null,null,null,null,null,null,null,null,null,null,null,null,null,"S",null,null,null,null,null,null,null,null,null,null,null,null,null,null,null,null,null,null,null,null,null,null,"S",null,null,null,null,null,null,null,null,null,null,null,null,null,null,null,null,null,null,null,null,null,null,"S",null,null,null,null,null,null,null,null,null,null,null,null,null,null,null,null,null,null,null,null,null,null,"S",null,null,null,null,null,null,null,null,null,null,null,null,null,null,null,null,null,null,null,null,null,null,"S"]
[null,"17-18","E",null,null,null,null,null,null,null,null,null,null,null,null,null,null,null,null,null,null,null,null,null,"17-18","E",null,null,null,null,null,null,null,null,null,null,null,null,null,null,null,null,null,null,null,null,null,"17-18","E",null,null,null,null,null,null,null,null,null,null,null,null,null,null,null,null,null,null,null,null,null,"17-18","E",null,null,null,null,null,null,null,null,null,null,null,null,null,null,null,null,null,null,null,null,null,"17-18","E",null,null,null,null,null,null,null,null,null,null,null,null,null,null,null,null,null,null,null,null,null,"17-18","E",null,null,null,null,null,null,null,null,null,null,null,null,null,null,null,null,null,null,null,null,null,"17-18","E"]
[null,null,"S",null,null,null,null,null,null,null,null,null,null,null,null,null,null,null,null,null,null,null,null,null,null,"S",null,null,null,null,null,null,null,null,null,null,null,null,null,null,null,null,null,null,null,null,null,null,"S",null,null,null,null,null,null,null,null,null,null,null,null,null,null,null,null,null,null,null,null,null,null,"S",null,null,null,null,null,null,null,null,null,null,null,null,null,null,null,null,null,null,null,null,null,null,"S",null,null,null,null,null,null,null,null,null,null,null,null,null,null,null,null,null,null,null,null,null,null,"S",null,null,null,null,null,null,null,null,null,null,null,null,null,null,null,null,null,null,null,null,null,null,"S"]
[null,"18-19","E",null,null,null,null,null,null,null,null,null,null,null,null,null,null,null,null,null,null,null,null,null,"18-19","E",null,null,null,null,null,null,null,null,null,null,null,null,null,null,null,null,null,null,null,null,null,"18-19","E",null,null,null,null,null,null,null,null,null,null,null,null,null,null,null,null,null,null,null,null,null,"18-19","E",null,null,null,null,null,null,null,null,null,null,null,null,null,null,null,null,null,null,null,null,null,"18-19","E",null,null,null,null,null,null,null,null,null,null,null,null,null,null,null,null,null,null,null,null,null,"18-19","E",null,null,null,null,null,null,null,null,null,null,null,null,null,null,null,null,null,null,null,null,null,"18-19","E"]
[null,null,"S",null,null,null,null,null,null,null,null,null,null,null,null,null,null,null,null,null,null,null,null,null,null,"S",null,null,null,null,null,null,null,null,null,null,null,null,null,null,null,null,null,null,null,null,null,null,"S",null,null,null,null,null,null,null,null,null,null,null,null,null,null,null,null,null,null,null,null,null,null,"S",null,null,null,null,null,null,null,null,null,null,null,null,null,null,null,null,null,null,null,null,null,null,"S",null,null,null,null,null,null,null,null,null,null,null,null,null,null,null,null,null,null,null,null,null,null,"S",null,null,null,null,null,null,null,null,null,null,null,null,null,null,null,null,null,null,null,null,null,null,"S"]
[null,"19-20","E",null,null,null,null,null,null,null,null,null,null,null,null,null,null,null,null,null,null,null,null,null,"19-20","E",null,null,null,null,null,null,null,null,null,null,null,null,null,null,null,null,null,null,null,null,null,"19-20","E",null,null,null,null,null,null,null,null,null,null,null,null,null,null,null,null,null,null,null,null,null,"19-20","E",null,null,null,null,null,null,null,null,null,null,null,null,null,null,null,null,null,null,null,null,null,"19-20","E",null,null,null,null,null,null,null,null,null,null,null,null,null,null,null,null,null,null,null,null,null,"19-20","E",null,null,null,null,null,null,null,null,null,null,null,null,null,null,null,null,null,null,null,null,null,"19-20","E"]
[null,null,"S",null,null,null,null,null,null,null,null,null,null,null,null,null,null,null,null,null,null,null,null,null,null,"S",null,null,null,null,null,null,null,null,null,null,null,null,null,null,null,null,null,null,null,null,null,null,"S",null,null,null,null,null,null,null,null,null,null,null,null,null,null,null,null,null,null,null,null,null,null,"S",null,null,null,null,null,null,null,null,null,null,null,null,null,null,null,null,null,null,null,null,null,null,"S",null,null,null,null,null,null,null,null,null,null,null,null,null,null,null,null,null,null,null,null,null,null,"S",null,null,null,null,null,null,null,null,null,null,null,null,null,null,null,null,null,null,null,null,null,null,"S"]
[null,"20-21","E",null,null,null,null,null,null,null,null,null,null,null,null,null,null,null,null,null,null,null,null,null,"20-21","E",null,null,null,null,null,null,null,null,null,null,null,null,null,null,null,null,null,null,null,null,null,"20-21","E",null,null,null,null,null,null,null,null,null,null,null,null,null,null,null,null,null,null,null,null,null,"20-21","E",null,null,null,null,null,null,null,null,null,null,null,null,null,null,null,null,null,null,null,null,null,"20-21","E",null,null,null,null,null,null,null,null,null,null,null,null,null,null,null,null,null,null,null,null,null,"20-21","E",null,null,null,null,null,null,null,null,null,null,null,null,null,null,null,null,null,null,null,null,null,"20-21","E"]
[null,null,"S",null,null,null,null,null,null,null,null,null,null,null,null,null,null,null,null,null,null,null,null,null,null,"S",null,null,null,null,null,null,null,null,null,null,null,null,null,null,null,null,null,null,null,null,null,null,"S",null,null,null,null,null,null,null,null,null,null,null,null,null,null,null,null,null,null,null,null,null,null,"S",null,null,null,null,null,null,null,null,null,null,null,null,null,null,null,null,null,null,null,null,null,null,"S",null,null,null,null,null,null,null,null,null,null,null,null,null,null,null,null,null,null,null,null,null,null,"S",null,null,null,null,null,null,null,null,null,null,null,null,null,null,null,null,null,null,null,null,null,null,"S"]
[null,"21-22","E",null,null,null,null,null,null,null,null,null,null,null,null,null,null,null,null,null,null,null,null,null,"21-22","E",null,null,null,null,null,null,null,null,null,null,null,null,null,null,null,null,null,null,null,null,null,"21-22","E",null,null,null,null,null,null,null,null,null,null,null,null,null,null,null,null,null,null,null,null,null,"21-22","E",null,null,null,null,null,null,null,null,null,null,null,null,null,null,null,null,null,null,null,null,null,"21-22","E",null,null,null,null,null,null,null,null,null,null,null,null,null,null,null,null,null,null,null,null,null,"21-22","E",null,null,null,null,null,null,null,null,null,null,null,null,null,null,null,null,null,null,null,null,null,"21-22","E"]
[null,null,"S",null,null,null,null,null,null,null,null,null,null,null,null,null,null,null,null,null,null,null,null,null,null,"S",null,null,null,null,null,null,null,null,null,null,null,null,null,null,null,null,null,null,null,null,null,null,"S",null,null,null,null,null,null,null,null,null,null,null,null,null,null,null,null,null,null,null,null,null,null,"S",null,null,null,null,null,null,null,null,null,null,null,null,null,null,null,null,null,null,null,null,null,null,"S",null,null,null,null,null,null,null,null,null,null,null,null,null,null,null,null,null,null,null,null,null,null,"S",null,null,null,null,null,null,null,null,null,null,null,null,null,null,null,null,null,null,null,null,null,null,"S"]
[null,"22-23","E",null,null,null,null,null,null,null,null,null,null,null,null,null,null,null,null,null,null,null,null,null,"22-23","E",null,null,null,null,null,null,null,null,null,null,null,null,null,null,null,null,null,null,null,null,null,"22-23","E",null,null,null,null,null,null,null,null,null,null,null,null,null,null,null,null,null,null,null,null,null,"22-23","E",null,null,null,null,null,null,null,null,null,null,null,null,null,null,null,null,null,null,null,null,null,"22-23","E",null,null,null,null,null,null,null,null,null,null,null,null,null,null,null,null,null,null,null,null,null,"22-23","E",null,null,null,null,null,null,null,null,null,null,null,null,null,null,null,null,null,null,null,null,null,"22-23","E"]
[null,null,"S",null,null,null,null,null,null,null,null,null,null,null,null,null,null,null,null,null,null,null,null,null,null,"S",null,null,null,null,null,null,null,null,null,null,null,null,null,null,null,null,null,null,null,null,null,null,"S",null,null,null,null,null,null,null,null,null,null,null,null,null,null,null,null,null,null,null,null,null,null,"S",null,null,null,null,null,null,null,null,null,null,null,null,null,null,null,null,null,null,null,null,null,null,"S",null,null,null,null,null,null,null,null,null,null,null,null,null,null,null,null,null,null,null,null,null,null,"S",null,null,null,null,null,null,null,null,null,null,null,null,null,null,null,null,null,null,null,null,null,null,"S"]
[null,"23-24","E",null,null,null,null,null,null,null,null,null,null,null,null,null,null,null,null,null,null,null,null,null,"23-24","E",null,null,null,null,null,null,null,null,null,null,null,null,null,null,null,null,null,null,null,null,null,"23-24","E",null,null,null,null,null,null,null,null,null,null,null,null,null,null,null,null,null,null,null,null,null,"23-24","E",null,null,null,null,null,null,null,null,null,null,null,null,null,null,null,null,null,null,null,null,null,"23-24","E",null,null,null,null,null,null,null,null,null,null,null,null,null,null,null,null,null,null,null,null,null,"23-24","E",null,null,null,null,null,null,null,null,null,null,null,null,null,null,null,null,null,null,null,null,null,"23-24","E"]
[null,null,"S",null,null,null,null,null,null,null,null,null,null,null,null,null,null,null,null,null,null,null,null,null,null,"S",null,null,null,null,null,null,null,null,null,null,null,null,null,null,null,null,null,null,null,null,null,null,"S",null,null,null,null,null,null,null,null,null,null,null,null,null,null,null,null,null,null,null,null,null,null,"S",null,null,null,null,null,null,null,null,null,null,null,null,null,null,null,null,null,null,null,null,null,null,"S",null,null,null,null,null,null,null,null,null,null,null,null,null,null,null,null,null,null,null,null,null,null,"S",null,null,null,null,null,null,null,null,null,null,null,null,null,null,null,null,null,null,null,null,null,null,"S"]
[null,"PARCIAL:",null,{"$f":"SUM(D15:D62)","v":0},0,0,0,0,0,0,0,0,0,0,0,0,0,0,0,0,0,0,0,null,"PARCIAL:",null,{"$f":"SUM(AA15:AA62)","v":0},0,0,0,0,0,0,0,{"$f":"SUM(AI15:AI62)","v":0},{"$f":"SUM(AJ15:AJ62)","v":0},0,0,0,0,0,0,0,0,0,0,null,"PARCIAL:",null,{"$f":"SUM(AX15:AX62)","v":0},0,0,0,0,0,0,0,0,0,0,0,0,0,0,0,0,0,0,0,null,"PARCIAL:",null,{"$f":"SUM(BU15:BU62)","v":0},0,0,0,0,0,0,0,0,0,0,0,0,0,0,0,0,0,0,0,null,"PARCIAL:",null,{"$f":"SUM(CR15:CR62)","v":0},0,0,0,0,0,0,0,0,0,0,0,0,0,0,0,0,0,0,0,null,"PARCIAL:",null,{"$f":"SUM(DO15:DO62)","v":0},0,0,0,0,0,0,0,0,0,0,0,0,0,0,0,0,0,0,0,null,"PARCIAL:",null,{"$f":"SUM(EL15:EL62)","v":0},0,0,0,0,0,0,0,0,0,0,0,0,0,0,0,0,0,0,0,null,{"$f":"SUM(D63:W63,AA63:AT63,AX63:BQ63,BU63:CN63,CR63:DK63,DO63:EH63,EL63:FE63)","v":0}]
[null,"ENCUESTADOR :  ______________________",null,null,null,null,"           JEFE DE BRIGADA : ____________________",null,null,null,null,null,"                 ING.RESPONS: __________________",null,null,null,null,null,"SUPERV.MTC : ________________________",null,null,null,null,null,"ENCUESTADOR :  ______________________",null,null,null,null,"           JEFE DE BRIGADA : ____________________",null,null,null,null,"                 ING.RESPONS: __________________",null,null,null,null,null,null,"SUPERV.MTC : ________________________",null,null,null,null,null,"ENCUESTADOR :  ______________________",null,null,null,null,"           JEFE DE BRIGADA : ____________________",null,null,null,null,"                 ING.RESPONS: __________________",null,null,null,null,null,null,"SUPERV.MTC : ________________________",null,null,null,null,null,"ENCUESTADOR :  ______________________",null,null,null,null,"           JEFE DE BRIGADA : ____________________",null,null,null,null,"                 ING.RESPONS: __________________",null,null,null,null,null,null,"SUPERV.MTC : ________________________",null,null,null,null,null,"ENCUESTADOR :  ______________________",null,null,null,null,"           JEFE DE BRIGADA : ____________________",null,null,null,null,"                 ING.RESPONS: __________________",null,null,null,null,null,null,"SUPERV.MTC : ________________________",null,null,null,null,null,"ENCUESTADOR :  ______________________",null,null,null,null,"           JEFE DE BRIGADA : ____________________",null,null,null,null,"                 ING.RESPONS: __________________",null,null,null,null,null,null,"SUPERV.MTC : ________________________",null,null,null,null,null,"ENCUESTADOR :  ______________________",null,null,null,null,"           JEFE DE BRIGADA : ____________________",null,null,null,null,"                 ING.RESPONS: __________________",null,null,null,null,null,null,"SUPERV.MTC : ________________________"]
[]
[]
[null,"ESTUDIO DE TRAFICO - ESTACIÓN PRINCIPAL 2 - LUNES",null,null,null,null,null,null,null,null,null,null,null,null,null,null,null,null,null,null,null,null,null,null,"ESTUDIO DE TRAFICO - ESTACIÓN PRINCIPAL 2 - MARTES",null,null,null,null,null,null,null,null,null,null,null,null,null,null,null,null,null,null,null,null,null,null,"ESTUDIO DE TRAFICO - ESTACIÓN PRINCIPAL 2 - MIERCOLES",null,null,null,null,null,null,null,null,null,null,null,null,null,null,null,null,null,null,null,null,null,null,"ESTUDIO DE TRAFICO - ESTACIÓN PRINCIPAL 2 - JUEVES",null,null,null,null,null,null,null,null,null,null,null,null,null,null,null,null,null,null,null,null,null,null,"ESTUDIO DE TRAFICO - ESTACIÓN PRINCIPAL 2 - VIERNES",null,null,null,null,null,null,null,null,null,null,null,null,null,null,null,null,null,null,null,null,null,null,"ESTUDIO DE TRAFICO - ESTACIÓN PRINCIPAL 2 - SABADO",null,null,null,null,null,null,null,null,null,null,null,null,null,null,null,null,null,null,null,null,null,null,"ESTUDIO DE TRAFICO - ESTACIÓN PRINCIPAL 2 - DOMINGO"]
[]
[null,"ESTACIÓN PRINCIPAL DE LA CARRETERA",null,null,null,2,null,null,null,null,null,null,null,null,null,null,"ESTACION",null,null,null,null,null,null,null,"ESTACIÓN PRINCIPAL DE LA CARRETERA",null,null,null,2,null,null,null,null,null,null,null,null,null,null,"ESTACION",null,null,null,null,null,null,null,"ESTACIÓN PRINCIPAL DE LA CARRETERA",null,null,null,2,null,null,null,null,null,null,null,null,null,null,"ESTACION",null,null,null,null,null,null,null,"ESTACIÓN PRINCIPAL DE LA CARRETERA",null,null,null,2,null,null,null,null,null,null,null,null,null,null,"ESTACION",null,null,null,null,null,null,null,"ESTACIÓN PRINCIPAL DE LA CARRETERA",null,null,null,2,null,null,null,null,null,null,null,null,null,null,"ESTACION",null,null,null,null,null,null,null,"ESTACIÓN PRINCIPAL DE LA CARRETERA",null,null,null,2,null,null,null,null,null,null,null,null,null,null,"ESTACION",null,null,null,null,null,null,null,"ESTACIÓN PRINCIPAL DE LA CARRETERA",null,null,null,2,null,null,null,null,null,null,null,null,null,null,"ESTACION"]
[null,"SENTIDO",null,null,null,null,null," E",null,null,null,null," S",null,null,null,"CODIGO DE LA ESTACION",null,null,null,null,null,null,null,"SENTIDO",null,null,null,null,null," E",null,null,null," S",null,null,null,null,"CODIGO DE LA ESTACION",null,null,null,null,null,null,null,"SENTIDO",null,null,null,null,null," E",null,null,null," S",null,null,null,null,"CODIGO DE LA ESTACION",null,null,null,null,null,null,null,"SENTIDO",null,null,null,null,null," E",null,null,null," S",null,null,null,null,"CODIGO DE LA ESTACION",null,null,null,null,null,null,null,"SENTIDO",null,null,null,null,null," E",null,null,null," S",null,null,null,null,"CODIGO DE LA ESTACION",null,null,null,null,null,null,null,"SENTIDO",null,null,null,null,null," E",null,null,null," S",null,null,null,null,"CODIGO DE LA ESTACION",null,null,null,null,null,null,null,"SENTIDO",null,null,null,null,null," E",null,null,null," S",null,null,null,null,"CODIGO DE LA ESTACION"]
[null,"UBICACIÓN ",null,null,null,null,null,null,null,null,null,null,null,null,null,null,"DIA Y FECHA",null,null,null,null,null,null,null,"UBICACIÓN ",null,null,null,null,null,null,null,null,null,null,null,null,null,null,"DIA Y FECHA",null,null,null,null,null,null,null,"UBICACIÓN ",null,null,null,null,null,null,null,null,null,null,null,null,null,null,"DIA Y FECHA",null,null,null,null,null,null,null,"UBICACIÓN ",null,null,null,null,null,null,null,null,null,null,null,null,null,null,"DIA Y FECHA",null,null,null,null,null,null,null,"UBICACIÓN ",null,null,null,null,null,null,null,null,null,null,null,null,null,null,"DIA Y FECHA",null,null,null,null,null,null,null,"UBICACIÓN ",null,null,null,null,null,null,null,null,null,null,null,null,null,null,"DIA Y FECHA",null,null,null,null,null,null,null,"UBICACIÓN ",null,null,null,null,null,null,null,null,null,null,null,null,null,null,"DIA Y FECHA"]
[null,"DIA","Lunes",null,null,null,null,null,null,null,null,null,null,null,null,null,null,null,null,null,null,null,null,null,"DIA","Martes",null,null,null,null,null,null,null,null,null,null,null,null,null,null,null,null,null,null,null,null,null,"DIA","Miércoles",null,null,null,null,null,null,null,null,null,null,null,null,null,null,null,null,null,null,null,null,null,"DIA","Jueves",null,null,null,null,null,null,null,null,null,null,null,null,null,null,null,null,null,null,null,null,null,"DIA","Viernes",null,null,null,null,null,null,null,null,null,null,null,null,null,null,null,null,null,null,null,null,null,"DIA","Sábado",null,null,null,null,null,null,null,null,null,null,null,null,null,null,null,null,null,null,null,null,null,"DIA","Domingo"]
[]
[null,"HORA","SENTI\nDO","AUTO","STATION WAGON","CAMIONETAS",null,"RURAL\nCombi","MICRO","BUS",null,null,"CAMION",null,null,"SEMI TRAYLER",null,null,null,"TRAYLER",null,null,null,null,"HORA","SENTI\nDO","AUTO","STATION WAGON","CAMIONETAS",null,"RURAL\nCombi","MICRO","BUS",null,null,"CAMION",null,null,"SEMI TRAYLER",null,null,null,"TRAYLER",null,null,null,null,"HORA","SENTI\nDO","AUTO","STATION WAGON","CAMIONETAS",null,"RURAL\nCombi","MICRO","BUS",null,null,"CAMION",null,null,"SEMI TRAYLER",null,null,null,"TRAYLER",null,null,null,null,"HORA","SENTI\nDO","AUTO","STATION WAGON","CAMIONETAS",null,"RURAL\nCombi","MICRO","BUS",null,null,"CAMION",null,null,"SEMI TRAYLER",null,null,null,"TRAYLER",null,null,null,null,"HORA","SENTI\nDO","AUTO","STATION WAGON","CAMIONETAS",null,"RURAL\nCombi","MICRO","BUS",null,null,"CAMION",null,null,"SEMI TRAYLER",null,null,null,"TRAYLER",null,null,null,null,"HORA","SENTI\nDO","AUTO","STATION WAGON","CAMIONETAS",null,"RURAL\nCombi","MICRO","BUS",null,null,"CAMION",null,null,"SEMI TRAYLER",null,null,null,"TRAYLER",null,null,null,null,"HORA","SENTI\nDO","AUTO","STATION WAGON","CAMIONETAS",null,"RURAL\nCombi","MICRO","BUS",null,null,"CAMION",null,null,"SEMI TRAYLER",null,null,null,"TRAYLER"]
[null,null,null,null,null,"PICK UP","PANEL",null,null,"2 E","3 E","4 E","2 E","3 E","4 E","2S1/2S2","2S3","3S1/3S2",">= 3S3","2T2","2T3","3T2",">=3T3",null,null,null,null,null,"PICK UP","PANEL",null,null,"2 E","3 E","4 E","2 E","3 E","4 E","2S1/2S2","2S3","3S1/3S2",">= 3S3","2T2","2T3","3T2",">=3T3",null,null,null,null,null,"PICK UP","PANEL",null,null,"2 E","3 E","4 E","2 E","3 E","4 E","2S1/2S2","2S3","3S1/3S2",">= 3S3","2T2","2T3","3T2",">=3T3",null,null,null,null,null,"PICK UP","PANEL",null,null,"2 E","3 E","4 E","2 E","3 E","4 E","2S1/2S2","2S3","3S1/3S2",">= 3S3","2T2","2T3","3T2",">=3T3",null,null,null,null,null,"PICK UP","PANEL",null,null,"2 E","3 E","4 E","2 E","3 E","4 E","2S1/2S2","2S3","3S1/3S2",">= 3S3","2T2","2T3","3T2",">=3T3",null,null,null,null,null,"PICK UP","PANEL",null,null,"2 E","3 E","4 E","2 E","3 E","4 E","2S1/2S2","2S3","3S1/3S2",">= 3S3","2T2","2T3","3T2",">=3T3",null,null,null,null,null,"PICK UP","PANEL",null,null,"2 E","3 E","4 E","2 E","3 E","4 E","2S1/2S2","2S3","3S1/3S2",">= 3S3","2T2","2T3","3T2",">=3T3"]
[null,"00-01","E",null,null,null,null,null,null,null,null,null,null,null,null,null,null,null,null,null,null,null,null,null,"00-01","E",null,null,null,null,null,null,null,null,null,null,null,null,null,null,null,null,null,null,null,null,null,"00-01","E",null,null,null,null,null,null,null,null,null,null,null,null,null,null,null,null,null,null,null,null,null,"00-01","E",null,null,null,null,null,null,null,null,null,null,null,null,null,null,null,null,null,null,null,null,null,"00-01","E",null,null,null,null,null,null,null,null,null,null,null,null,null,null,null,null,null,null,null,null,null,"00-01","E",null,null,null,null,null,null,null,null,null,null,null,null,null,null,null,null,null,null,null,null,null,"00-01","E"]
[null,null,"S",null,null,null,null,null,null,null,null,null,null,null,null,null,null,null,null,null,null,null,null,null,null,"S",null,null,null,null,null,null,null,null,null,null,null,null,null,null,null,null,null,null,null,null,null,null,"S",null,null,null,null,null,null,null,null,null,null,null,null,null,null,null,null,null,null,null,null,null,null,"S",null,null,null,null,null,null,null,null,null,null,null,null,null,null,null,null,null,null,null,null,null,null,"S",null,null,null,null,null,null,null,null,null,null,null,null,null,null,null,null,null,null,null,null,null,null,"S",null,null,null,null,null,null,null,null,null,null,null,null,null,null,null,null,null,null,null,null,null,null,"S"]
[null,"01-02","E",null,null,null,null,null,null,null,null,null,null,null,null,null,null,null,null,null,null,null,null,null,"01-02","E",null,null,null,null,null,null,null,null,null,null,null,null,null,null,null,null,null,null,null,null,null,"01-02","E",null,null,null,null,null,null,null,null,null,null,null,null,null,null,null,null,null,null,null,null,null,"01-02","E",null,null,null,null,null,null,null,null,null,null,null,null,null,null,null,null,null,null,null,null,null,"01-02","E",null,null,null,null,null,null,null,null,null,null,null,null,null,null,null,null,null,null,null,null,null,"01-02","E",null,null,null,null,null,null,null,null,null,null,null,null,null,null,null,null,null,null,null,null,null,"01-02","E"]
[null,null,"S",null,null,null,null,null,null,null,null,null,null,null,null,null,null,null,null,null,null,null,null,null,null,"S",null,null,null,null,null,null,null,null,null,null,null,null,null,null,null,null,null,null,null,null,null,null,"S",null,null,null,null,null,null,null,null,null,null,null,null,null,null,null,null,null,null,null,null,null,null,"S",null,null,null,null,null,null,null,null,null,null,null,null,null,null,null,null,null,null,null,null,null,null,"S",null,null,null,null,null,null,null,null,null,null,null,null,null,null,null,null,null,null,null,null,null,null,"S",null,null,null,null,null,null,null,null,null,null,null,null,null,null,null,null,null,null,null,null,null,null,"S"]
[null,"02-03","E",null,null,null,null,null,null,null,null,null,null,null,null,null,null,null,null,null,null,null,null,null,"02-03","E",null,null,null,null,null,null,null,null,null,null,null,null,null,null,null,null,null,null,null,null,null,"02-03","E",null,null,null,null,null,null,null,null,null,null,null,null,null,null,null,null,null,null,null,null,null,"02-03","E",null,null,null,null,null,null,null,null,null,null,null,null,null,null,null,null,null,null,null,null,null,"02-03","E",null,null,null,null,null,null,null,null,null,null,null,null,null,null,null,null,null,null,null,null,null,"02-03","E",null,null,null,null,null,null,null,null,null,null,null,null,null,null,null,null,null,null,null,null,null,"02-03","E"]
[null,null,"S",null,null,null,null,null,null,null,null,null,null,null,null,null,null,null,null,null,null,null,null,null,null,"S",null,null,null,null,null,null,null,null,null,null,null,null,null,null,null,null,null,null,null,null,null,null,"S",null,null,null,null,null,null,null,null,null,null,null,null,null,null,null,null,null,null,null,null,null,null,"S",null,null,null,null,null,null,null,null,null,null,null,null,null,null,null,null,null,null,null,null,null,null,"S",null,null,null,null,null,null,null,null,null,null,null,null,null,null,null,null,null,null,null,null,null,null,"S",null,null,null,null,null,null,null,null,null,null,null,null,null,null,null,null,null,null,null,null,null,null,"S"]
[null,"03-04","E",null,null,null,null,null,null,null,null,null,null,null,null,null,null,null,null,null,null,null,null,null,"03-04","E",null,null,null,null,null,null,null,null,null,null,null,null,null,null,null,null,null,null,null,null,null,"03-04","E",null,null,null,null,null,null,null,null,null,null,null,null,null,null,null,null,null,null,null,null,null,"03-04","E",null,null,null,null,null,null,null,null,null,null,null,null,null,null,null,null,null,null,null,null,null,"03-04","E",null,null,null,null,null,null,null,null,null,null,null,null,null,null,null,null,null,null,null,null,null,"03-04","E",null,null,null,null,null,null,null,null,null,null,null,null,null,null,null,null,null,null,null,null,null,"03-04","E"]
[null,null,"S",null,null,null,null,null,null,null,null,null,null,null,null,null,null,null,null,null,null,null,null,null,null,"S",null,null,null,null,null,null,null,null,null,null,null,null,null,null,null,null,null,null,null,null,null,null,"S",null,null,null,null,null,null,null,null,null,null,null,null,null,null,null,null,null,null,null,null,null,null,"S",null,null,null,null,null,null,null,null,null,null,null,null,null,null,null,null,null,null,null,null,null,null,"S",null,null,null,null,null,null,null,null,null,null,null,null,null,null,null,null,null,null,null,null,null,null,"S",null,null,null,null,null,null,null,null,null,null,null,null,null,null,null,null,null,null,null,null,null,null,"S"]
[null,"04-05","E",null,null,null,null,null,null,null,null,null,null,null,null,null,null,null,null,null,null,null,null,null,"04-05","E",null,null,null,null,null,null,null,null,null,null,null,null,null,null,null,null,null,null,null,null,null,"04-05","E",null,null,null,null,null,null,null,null,null,null,null,null,null,null,null,null,null,null,null,null,null,"04-05","E",null,null,null,null,null,null,null,null,null,null,null,null,null,null,null,null,null,null,null,null,null,"04-05","E",null,null,null,null,null,null,null,null,null,null,null,null,null,null,null,null,null,null,null,null,null,"04-05","E",null,null,null,null,null,null,null,null,null,null,null,null,null,null,null,null,null,null,null,null,null,"04-05","E"]
[null,null,"S",null,null,null,null,null,null,null,null,null,null,null,null,null,null,null,null,null,null,null,null,null,null,"S",null,null,null,null,null,null,null,null,null,null,null,null,null,null,null,null,null,null,null,null,null,null,"S",null,null,null,null,null,null,null,null,null,null,null,null,null,null,null,null,null,null,null,null,null,null,"S",null,null,null,null,null,null,null,null,null,null,null,null,null,null,null,null,null,null,null,null,null,null,"S",null,null,null,null,null,null,null,null,null,null,null,null,null,null,null,null,null,null,null,null,null,null,"S",null,null,null,null,null,null,null,null,null,null,null,null,null,null,null,null,null,null,null,null,null,null,"S"]
[null,"05-06","E",null,null,null,null,null,null,null,null,null,null,null,null,null,null,null,null,null,null,null,null,null,"05-06","E",null,null,null,null,null,null,null,null,null,null,null,null,null,null,null,null,null,null,null,null,null,"05-06","E",null,null,null,null,null,null,null,null,null,null,null,null,null,null,null,null,null,null,null,null,null,"05-06","E",null,null,null,null,null,null,null,null,null,null,null,null,null,null,null,null,null,null,null,null,null,"05-06","E",null,null,null,null,null,null,null,null,null,null,null,null,null,null,null,null,null,null,null,null,null,"05-06","E",null,null,null,null,null,null,null,null,null,null,null,null,null,null,null,null,null,null,null,null,null,"05-06","E"]
[null,null,"S",null,null,null,null,null,null,null,null,null,null,null,null,null,null,null,null,null,null,null,null,null,null,"S",null,null,null,null,null,null,null,null,null,null,null,null,null,null,null,null,null,null,null,null,null,null,"S",null,null,null,null,null,null,null,null,null,null,null,null,null,null,null,null,null,null,null,null,null,null,"S",null,null,null,null,null,null,null,null,null,null,null,null,null,null,null,null,null,null,null,null,null,null,"S",null,null,null,null,null,null,null,null,null,null,null,null,null,null,null,null,null,null,null,null,null,null,"S",null,null,null,null,null,null,null,null,null,null,null,null,null,null,null,null,null,null,null,null,null,null,"S"]
[null,"06-07","E",null,null,null,null,null,null,null,null,null,null,null,null,null,null,null,null,null,null,null,null,null,"06-07","E",null,null,null,null,null,null,null,null,null,null,null,null,null,null,null,null,null,null,null,null,null,"06-07","E",null,null,null,null,null,null,null,null,null,null,null,null,null,null,null,null,null,null,null,null,null,"06-07","E",null,null,null,null,null,null,null,null,null,null,null,null,null,null,null,null,null,null,null,null,null,"06-07","E",null,null,null,null,null,null,null,null,null,null,null,null,null,null,null,null,null,null,null,null,null,"06-07","E",null,null,null,null,null,null,null,null,null,null,null,null,null,null,null,null,null,null,null,null,null,"06-07","E"]
[null,null,"S",null,null,null,null,null,null,null,null,null,null,null,null,null,null,null,null,null,null,null,null,null,null,"S",null,null,null,null,null,null,null,null,null,null,null,null,null,null,null,null,null,null,null,null,null,null,"S",null,null,null,null,null,null,null,null,null,null,null,null,null,null,null,null,null,null,null,null,null,null,"S",null,null,null,null,null,null,null,null,null,null,null,null,null,null,null,null,null,null,null,null,null,null,"S",null,null,null,null,null,null,null,null,null,null,null,null,null,null,null,null,null,null,null,null,null,null,"S",null,null,null,null,null,null,null,null,null,null,null,null,null,null,null,null,null,null,null,null,null,null,"S"]
[null,"07-08","E",null,null,null,null,null,null,null,null,null,null,null,null,null,null,null,null,null,null,null,null,null,"07-08","E",null,null,null,null,null,null,null,null,null,null,null,null,null,null,null,null,null,null,null,null,null,"07-08","E",null,null,null,null,null,null,null,null,null,null,null,null,null,null,null,null,null,null,null,null,null,"07-08","E",null,null,null,null,null,null,null,null,null,null,null,null,null,null,null,null,null,null,null,null,null,"07-08","E",null,null,null,null,null,null,null,null,null,null,null,null,null,null,null,null,null,null,null,null,null,"07-08","E",null,null,null,null,null,null,null,null,null,null,null,null,null,null,null,null,null,null,null,null,null,"07-08","E"]
[null,null,"S",null,null,null,null,null,null,null,null,null,null,null,null,null,null,null,null,null,null,null,null,null,null,"S",null,null,null,null,null,null,null,null,null,null,null,null,null,null,null,null,null,null,null,null,null,null,"S",null,null,null,null,null,null,null,null,null,null,null,null,null,null,null,null,null,null,null,null,null,null,"S",null,null,null,null,null,null,null,null,null,null,null,null,null,null,null,null,null,null,null,null,null,null,"S",null,null,null,null,null,null,null,null,null,null,null,null,null,null,null,null,null,null,null,null,null,null,"S",null,null,null,null,null,null,null,null,null,null,null,null,null,null,null,null,null,null,null,null,null,null,"S"]
[null,"08-09","E",null,null,null,null,null,null,null,null,null,null,null,null,null,null,null,null,null,null,null,null,null,"08-09","E",null,null,null,null,null,null,null,null,null,null,null,null,null,null,null,null,null,null,null,null,null,"08-09","E",null,null,null,null,null,null,null,null,null,null,null,null,null,null,null,null,null,null,null,null,null,"08-09","E",null,null,null,null,null,null,null,null,null,null,null,null,null,null,null,null,null,null,null,null,null,"08-09","E",null,null,null,null,null,null,null,null,null,null,null,null,null,null,null,null,null,null,null,null,null,"08-09","E",null,null,null,null,null,null,null,null,null,null,null,null,null,null,null,null,null,null,null,null,null,"08-09","E"]
[null,null,"S",null,null,null,null,null,null,null,null,null,null,null,null,null,null,null,null,null,null,null,null,null,null,"S",null,null,null,null,null,null,null,null,null,null,null,null,null,null,null,null,null,null,null,null,null,null,"S",null,null,null,null,null,null,null,null,null,null,null,null,null,null,null,null,null,null,null,null,null,null,"S",null,null,null,null,null,null,null,null,null,null,null,null,null,null,null,null,null,null,null,null,null,null,"S",null,null,null,null,null,null,null,null,null,null,null,null,null,null,null,null,null,null,null,null,null,null,"S",null,null,null,null,null,null,null,null,null,null,null,null,null,null,null,null,null,null,null,null,null,null,"S"]
[null,"09-10","E",null,null,null,null,null,null,null,null,null,null,null,null,null,null,null,null,null,null,null,null,null,"09-10","E",null,null,null,null,null,null,null,null,null,null,null,null,null,null,null,null,null,null,null,null,null,"09-10","E",null,null,null,null,null,null,null,null,null,null,null,null,null,null,null,null,null,null,null,null,null,"09-10","E",null,null,null,null,null,null,null,null,null,null,null,null,null,null,null,null,null,null,null,null,null,"09-10","E",null,null,null,null,null,null,null,null,null,null,null,null,null,null,null,null,null,null,null,null,null,"09-10","E",null,null,null,null,null,null,null,null,null,null,null,null,null,null,null,null,null,null,null,null,null,"09-10","E"]
[null,null,"S",null,null,null,null,null,null,null,null,null,null,null,null,null,null,null,null,null,null,null,null,null,null,"S",null,null,null,null,null,null,null,null,null,null,null,null,null,null,null,null,null,null,null,null,null,null,"S",null,null,null,null,null,null,null,null,null,null,null,null,null,null,null,null,null,null,null,null,null,null,"S",null,null,null,null,null,null,null,null,null,null,null,null,null,null,null,null,null,null,null,null,null,null,"S",null,null,null,null,null,null,null,null,null,null,null,null,null,null,null,null,null,null,null,null,null,null,"S",null,null,null,null,null,null,null,null,null,null,null,null,null,null,null,null,null,null,null,null,null,null,"S"]
[null,"10-11","E",null,null,null,null,null,null,null,null,null,null,null,null,null,null,null,null,null,null,null,null,null,"10-11","E",null,null,null,null,null,null,null,null,null,null,null,null,null,null,null,null,null,null,null,null,null,"10-11","E",null,null,null,null,null,null,null,null,null,null,null,null,null,null,null,null,null,null,null,null,null,"10-11","E",null,null,null,null,null,null,null,null,null,null,null,null,null,null,null,null,null,null,null,null,null,"10-11","E",null,null,null,null,null,null,null,null,null,null,null,null,null,null,null,null,null,null,null,null,null,"10-11","E",null,null,null,null,null,null,null,null,null,null,null,null,null,null,null,null,null,null,null,null,null,"10-11","E"]
[null,null,"S",null,null,null,null,null,null,null,null,null,null,null,null,null,null,null,null,null,null,null,null,null,null,"S",null,null,null,null,null,null,null,null,null,null,null,null,null,null,null,null,null,null,null,null,null,null,"S",null,null,null,null,null,null,null,null,null,null,null,null,null,null,null,null,null,null,null,null,null,null,"S",null,null,null,null,null,null,null,null,null,null,null,null,null,null,null,null,null,null,null,null,null,null,"S",null,null,null,null,null,null,null,null,null,null,null,null,null,null,null,null,null,null,null,null,null,null,"S",null,null,null,null,null,null,null,null,null,null,null,null,null,null,null,null,null,null,null,null,null,null,"S"]
[null,"11-12","E",null,null,null,null,null,null,null,null,null,null,null,null,null,null,null,null,null,null,null,null,null,"11-12","E",null,null,null,null,null,null,null,null,null,null,null,null,null,null,null,null,null,null,null,null,null,"11-12","E",null,null,null,null,null,null,null,null,null,null,null,null,null,null,null,null,null,null,null,null,null,"11-12","E",null,null,null,null,null,null,null,null,null,null,null,null,null,null,null,null,null,null,null,null,null,"11-12","E",null,null,null,null,null,null,null,null,null,null,null,null,null,null,null,null,null,null,null,null,null,"11-12","E",null,null,null,null,null,null,null,null,null,null,null,null,null,null,null,null,null,null,null,null,null,"11-12","E"]
[null,null,"S",null,null,null,null,null,null,null,null,null,null,null,null,null,null,null,null,null,null,null,null,null,null,"S",null,null,null,null,null,null,null,null,null,null,null,null,null,null,null,null,null,null,null,null,null,null,"S",null,null,null,null,null,null,null,null,null,null,null,null,null,null,null,null,null,null,null,null,null,null,"S",null,null,null,null,null,null,null,null,null,null,null,null,null,null,null,null,null,null,null,null,null,null,"S",null,null,null,null,null,null,null,null,null,null,null,null,null,null,null,null,null,null,null,null,null,null,"S",null,null,null,null,null,null,null,null,null,null,null,null,null,null,null,null,null,null,null,null,null,null,"S"]
[null,"12-13","E",null,null,null,null,null,null,null,null,null,null,null,null,null,null,null,null,null,null,null,null,null,"12-13","E",null,null,null,null,null,null,null,null,null,null,null,null,null,null,null,null,null,null,null,null,null,"12-13","E",null,null,null,null,null,null,null,null,null,null,null,null,null,null,null,null,null,null,null,null,null,"12-13","E",null,null,null,null,null,null,null,null,null,null,null,null,null,null,null,null,null,null,null,null,null,"12-13","E",null,null,null,null,null,null,null,null,null,null,null,null,null,null,null,null,null,null,null,null,null,"12-13","E",null,null,null,null,null,null,null,null,null,null,null,null,null,null,null,null,null,null,null,null,null,"12-13","E"]
[null,null,"S",null,null,null,null,null,null,null,null,null,null,null,null,null,null,null,null,null,null,null,null,null,null,"S",null,null,null,null,null,null,null,null,null,null,null,null,null,null,null,null,null,null,null,null,null,null,"S",null,null,null,null,null,null,null,null,null,null,null,null,null,null,null,null,null,null,null,null,null,null,"S",null,null,null,null,null,null,null,null,null,null,null,null,null,null,null,null,null,null,null,null,null,null,"S",null,null,null,null,null,null,null,null,null,null,null,null,null,null,null,null,null,null,null,null,null,null,"S",null,null,null,null,null,null,null,null,null,null,null,null,null,null,null,null,null,null,null,null,null,null,"S"]
[null,"13-14","E",null,null,null,null,null,null,null,null,null,null,null,null,null,null,null,null,null,null,null,null,null,"13-14","E",null,null,null,null,null,null,null,null,null,null,null,null,null,null,null,null,null,null,null,null,null,"13-14","E",null,null,null,null,null,null,null,null,null,null,null,null,null,null,null,null,null,null,null,null,null,"13-14","E",null,null,null,null,null,null,null,null,null,null,null,null,null,null,null,null,null,null,null,null,null,"13-14","E",null,null,null,null,null,null,null,null,null,null,null,null,null,null,null,null,null,null,null,null,null,"13-14","E",null,null,null,null,null,null,null,null,null,null,null,null,null,null,null,null,null,null,null,null,null,"13-14","E"]
[null,null,"S",null,null,null,null,null,null,null,null,null,null,null,null,null,null,null,null,null,null,null,null,null,null,"S",null,null,null,null,null,null,null,null,null,null,null,null,null,null,null,null,null,null,null,null,null,null,"S",null,null,null,null,null,null,null,null,null,null,null,null,null,null,null,null,null,null,null,null,null,null,"S",null,null,null,null,null,null,null,null,null,null,null,null,null,null,null,null,null,null,null,null,null,null,"S",null,null,null,null,null,null,null,null,null,null,null,null,null,null,null,null,null,null,null,null,null,null,"S",null,null,null,null,null,null,null,null,null,null,null,null,null,null,null,null,null,null,null,null,null,null,"S"]
[null,"14-15","E",null,null,null,null,null,null,null,null,null,null,null,null,null,null,null,null,null,null,null,null,null,"14-15","E",null,null,null,null,null,null,null,null,null,null,null,null,null,null,null,null,null,null,null,null,null,"14-15","E",null,null,null,null,null,null,null,null,null,null,null,null,null,null,null,null,null,null,null,null,null,"14-15","E",null,null,null,null,null,null,null,null,null,null,null,null,null,null,null,null,null,null,null,null,null,"14-15","E",null,null,null,null,null,null,null,null,null,null,null,null,null,null,null,null,null,null,null,null,null,"14-15","E",null,null,null,null,null,null,null,null,null,null,null,null,null,null,null,null,null,null,null,null,null,"14-15","E"]
[null,null,"S",null,null,null,null,null,null,null,null,null,null,null,null,null,null,null,null,null,null,null,null,null,null,"S",null,null,null,null,null,null,null,null,null,null,null,null,null,null,null,null,null,null,null,null,null,null,"S",null,null,null,null,null,null,null,null,null,null,null,null,null,null,null,null,null,null,null,null,null,null,"S",null,null,null,null,null,null,null,null,null,null,null,null,null,null,null,null,null,null,null,null,null,null,"S",null,null,null,null,null,null,null,null,null,null,null,null,null,null,null,null,null,null,null,null,null,null,"S",null,null,null,null,null,null,null,null,null,null,null,null,null,null,null,null,null,null,null,null,null,null,"S"]
[null,"15-16","E",null,null,null,null,null,null,null,null,null,null,null,null,null,null,null,null,null,null,null,null,null,"15-16","E",null,null,null,null,null,null,null,null,null,null,null,null,null,null,null,null,null,null,null,null,null,"15-16","E",null,null,null,null,null,null,null,null,null,null,null,null,null,null,null,null,null,null,null,null,null,"15-16","E",null,null,null,null,null,null,null,null,null,null,null,null,null,null,null,null,null,null,null,null,null,"15-16","E",null,null,null,null,null,null,null,null,null,null,null,null,null,null,null,null,null,null,null,null,null,"15-16","E",null,null,null,null,null,null,null,null,null,null,null,null,null,null,null,null,null,null,null,null,null,"15-16","E"]
[null,null,"S",null,null,null,null,null,null,null,null,null,null,null,null,null,null,null,null,null,null,null,null,null,null,"S",null,null,null,null,null,null,null,null,null,null,null,null,null,null,null,null,null,null,null,null,null,null,"S",null,null,null,null,null,null,null,null,null,null,null,null,null,null,null,null,null,null,null,null,null,null,"S",null,null,null,null,null,null,null,null,null,null,null,null,null,null,null,null,null,null,null,null,null,null,"S",null,null,null,null,null,null,null,null,null,null,null,null,null,null,null,null,null,null,null,null,null,null,"S",null,null,null,null,null,null,null,null,null,null,null,null,null,null,null,null,null,null,null,null,null,null,"S"]
[null,"16-17","E",null,null,null,null,null,null,null,null,null,null,null,null,null,null,null,null,null,null,null,null,null,"16-17","E",null,null,null,null,null,null,null,null,null,null,null,null,null,null,null,null,null,null,null,null,null,"16-17","E",null,null,null,null,null,null,null,null,null,null,null,null,null,null,null,null,null,null,null,null,null,"16-17","E",null,null,null,null,null,null,null,null,null,null,null,null,null,null,null,null,null,null,null,null,null,"16-17","E",null,null,null,null,null,null,null,null,null,null,null,null,null,null,null,null,null,null,null,null,null,"16-17","E",null,null,null,null,null,null,null,null,null,null,null,null,null,null,null,null,null,null,null,null,null,"16-17","E"]
[null,null,"S",null,null,null,null,null,null,null,null,null,null,null,null,null,null,null,null,null,null,null,null,null,null,"S",null,null,null,null,null,null,null,null,null,null,null,null,null,null,null,null,null,null,null,null,null,null,"S",null,null,null,null,null,null,null,null,null,null,null,null,null,null,null,null,null,null,null,null,null,null,"S",null,null,null,null,null,null,null,null,null,null,null,null,null,null,null,null,null,null,null,null,null,null,"S",null,null,null,null,null,null,null,null,null,null,null,null,null,null,null,null,null,null,null,null,null,null,"S",null,null,null,null,null,null,null,null,null,null,null,null,null,null,null,null,null,null,null,null,null,null,"S"]
[null,"17-18","E",null,null,null,null,null,null,null,null,null,null,null,null,null,null,null,null,null,null,null,null,null,"17-18","E",null,null,null,null,null,null,null,null,null,null,null,null,null,null,null,null,null,null,null,null,null,"17-18","E",null,null,null,null,null,null,null,null,null,null,null,null,null,null,null,null,null,null,null,null,null,"17-18","E",null,null,null,null,null,null,null,null,null,null,null,null,null,null,null,null,null,null,null,null,null,"17-18","E",null,null,null,null,null,null,null,null,null,null,null,null,null,null,null,null,null,null,null,null,null,"17-18","E",null,null,null,null,null,null,null,null,null,null,null,null,null,null,null,null,null,null,null,null,null,"17-18","E"]
[null,null,"S",null,null,null,null,null,null,null,null,null,null,null,null,null,null,null,null,null,null,null,null,null,null,"S",null,null,null,null,null,null,null,null,null,null,null,null,null,null,null,null,null,null,null,null,null,null,"S",null,null,null,null,null,null,null,null,null,null,null,null,null,null,null,null,null,null,null,null,null,null,"S",null,null,null,null,null,null,null,null,null,null,null,null,null,null,null,null,null,null,null,null,null,null,"S",null,null,null,null,null,null,null,null,null,null,null,null,null,null,null,null,null,null,null,null,null,null,"S",null,null,null,null,null,null,null,null,null,null,null,null,null,null,null,null,null,null,null,null,null,null,"S"]
[null,"18-19","E",null,null,null,null,null,null,null,null,null,null,null,null,null,null,null,null,null,null,null,null,null,"18-19","E",null,null,null,null,null,null,null,null,null,null,null,null,null,null,null,null,null,null,null,null,null,"18-19","E",null,null,null,null,null,null,null,null,null,null,null,null,null,null,null,null,null,null,null,null,null,"18-19","E",null,null,null,null,null,null,null,null,null,null,null,null,null,null,null,null,null,null,null,null,null,"18-19","E",null,null,null,null,null,null,null,null,null,null,null,null,null,null,null,null,null,null,null,null,null,"18-19","E",null,null,null,null,null,null,null,null,null,null,null,null,null,null,null,null,null,null,null,null,null,"18-19","E"]
[null,null,"S",null,null,null,null,null,null,null,null,null,null,null,null,null,null,null,null,null,null,null,null,null,null,"S",null,null,null,null,null,null,null,null,null,null,null,null,null,null,null,null,null,null,null,null,null,null,"S",null,null,null,null,null,null,null,null,null,null,null,null,null,null,null,null,null,null,null,null,null,null,"S",null,null,null,null,null,null,null,null,null,null,null,null,null,null,null,null,null,null,null,null,null,null,"S",null,null,null,null,null,null,null,null,null,null,null,null,null,null,null,null,null,null,null,null,null,null,"S",null,null,null,null,null,null,null,null,null,null,null,null,null,null,null,null,null,null,null,null,null,null,"S"]
[null,"19-20","E",null,null,null,null,null,null,null,null,null,null,null,null,null,null,null,null,null,null,null,null,null,"19-20","E",null,null,null,null,null,null,null,null,null,null,null,null,null,null,null,null,null,null,null,null,null,"19-20","E",null,null,null,null,null,null,null,null,null,null,null,null,null,null,null,null,null,null,null,null,null,"19-20","E",null,null,null,null,null,null,null,null,null,null,null,null,null,null,null,null,null,null,null,null,null,"19-20","E",null,null,null,null,null,null,null,null,null,null,null,null,null,null,null,null,null,null,null,null,null,"19-20","E",null,null,null,null,null,null,null,null,null,null,null,null,null,null,null,null,null,null,null,null,null,"19-20","E"]
[null,null,"S",null,null,null,null,null,null,null,null,null,null,null,null,null,null,null,null,null,null,null,null,null,null,"S",null,null,null,null,null,null,null,null,null,null,null,null,null,null,null,null,null,null,null,null,null,null,"S",null,null,null,null,null,null,null,null,null,null,null,null,null,null,null,null,null,null,null,null,null,null,"S",null,null,null,null,null,null,null,null,null,null,null,null,null,null,null,null,null,null,null,null,null,null,"S",null,null,null,null,null,null,null,null,null,null,null,null,null,null,null,null,null,null,null,null,null,null,"S",null,null,null,null,null,null,null,null,null,null,null,null,null,null,null,null,null,null,null,null,null,null,"S"]
[null,"20-21","E",null,null,null,null,null,null,null,null,null,null,null,null,null,null,null,null,null,null,null,null,null,"20-21","E",null,null,null,null,null,null,null,null,null,null,null,null,null,null,null,null,null,null,null,null,null,"20-21","E",null,null,null,null,null,null,null,null,null,null,null,null,null,null,null,null,null,null,null,null,null,"20-21","E",null,null,null,null,null,null,null,null,null,null,null,null,null,null,null,null,null,null,null,null,null,"20-21","E",null,null,null,null,null,null,null,null,null,null,null,null,null,null,null,null,null,null,null,null,null,"20-21","E",null,null,null,null,null,null,null,null,null,null,null,null,null,null,null,null,null,null,null,null,null,"20-21","E"]
[null,null,"S",null,null,null,null,null,null,null,null,null,null,null,null,null,null,null,null,null,null,null,null,null,null,"S",null,null,null,null,null,null,null,null,null,null,null,null,null,null,null,null,null,null,null,null,null,null,"S",null,null,null,null,null,null,null,null,null,null,null,null,null,null,null,null,null,null,null,null,null,null,"S",null,null,null,null,null,null,null,null,null,null,null,null,null,null,null,null,null,null,null,null,null,null,"S",null,null,null,null,null,null,null,null,null,null,null,null,null,null,null,null,null,null,null,null,null,null,"S",null,null,null,null,null,null,null,null,null,null,null,null,null,null,null,null,null,null,null,null,null,null,"S"]
[null,"21-22","E",null,null,null,null,null,null,null,null,null,null,null,null,null,null,null,null,null,null,null,null,null,"21-22","E",null,null,null,null,null,null,null,null,null,null,null,null,null,null,null,null,null,null,null,null,null,"21-22","E",null,null,null,null,null,null,null,null,null,null,null,null,null,null,null,null,null,null,null,null,null,"21-22","E",null,null,null,null,null,null,null,null,null,null,null,null,null,null,null,null,null,null,null,null,null,"21-22","E",null,null,null,null,null,null,null,null,null,null,null,null,null,null,null,null,null,null,null,null,null,"21-22","E",null,null,null,null,null,null,null,null,null,null,null,null,null,null,null,null,null,null,null,null,null,"21-22","E"]
[null,null,"S",null,null,null,null,null,null,null,null,null,null,null,null,null,null,null,null,null,null,null,null,null,null,"S",null,null,null,null,null,null,null,null,null,null,null,null,null,null,null,null,null,null,null,null,null,null,"S",null,null,null,null,null,null,null,null,null,null,null,null,null,null,null,null,null,null,null,null,null,null,"S",null,null,null,null,null,null,null,null,null,null,null,null,null,null,null,null,null,null,null,null,null,null,"S",null,null,null,null,null,null,null,null,null,null,null,null,null,null,null,null,null,null,null,null,null,null,"S",null,null,null,null,null,null,null,null,null,null,null,null,null,null,null,null,null,null,null,null,null,null,"S"]
[null,"22-23","E",null,null,null,null,null,null,null,null,null,null,null,null,null,null,null,null,null,null,null,null,null,"22-23","E",null,null,null,null,null,null,null,null,null,null,null,null,null,null,null,null,null,null,null,null,null,"22-23","E",null,null,null,null,null,null,null,null,null,null,null,null,null,null,null,null,null,null,null,null,null,"22-23","E",null,null,null,null,null,null,null,null,null,null,null,null,null,null,null,null,null,null,null,null,null,"22-23","E",null,null,null,null,null,null,null,null,null,null,null,null,null,null,null,null,null,null,null,null,null,"22-23","E",null,null,null,null,null,null,null,null,null,null,null,null,null,null,null,null,null,null,null,null,null,"22-23","E"]
[null,null,"S",null,null,null,null,null,null,null,null,null,null,null,null,null,null,null,null,null,null,null,null,null,null,"S",null,null,null,null,null,null,null,null,null,null,null,null,null,null,null,null,null,null,null,null,null,null,"S",null,null,null,null,null,null,null,null,null,null,null,null,null,null,null,null,null,null,null,null,null,null,"S",null,null,null,null,null,null,null,null,null,null,null,null,null,null,null,null,null,null,null,null,null,null,"S",null,null,null,null,null,null,null,null,null,null,null,null,null,null,null,null,null,null,null,null,null,null,"S",null,null,null,null,null,null,null,null,null,null,null,null,null,null,null,null,null,null,null,null,null,null,"S"]
[null,"23-24","E",null,null,null,null,null,null,null,null,null,null,null,null,null,null,null,null,null,null,null,null,null,"23-24","E",null,null,null,null,null,null,null,null,null,null,null,null,null,null,null,null,null,null,null,null,null,"23-24","E",null,null,null,null,null,null,null,null,null,null,null,null,null,null,null,null,null,null,null,null,null,"23-24","E",null,null,null,null,null,null,null,null,null,null,null,null,null,null,null,null,null,null,null,null,null,"23-24","E",null,null,null,null,null,null,null,null,null,null,null,null,null,null,null,null,null,null,null,null,null,"23-24","E",null,null,null,null,null,null,null,null,null,null,null,null,null,null,null,null,null,null,null,null,null,"23-24","E"]
[null,null,"S",null,null,null,null,null,null,null,null,null,null,null,null,null,null,null,null,null,null,null,null,null,null,"S",null,null,null,null,null,null,null,null,null,null,null,null,null,null,null,null,null,null,null,null,null,null,"S",null,null,null,null,null,null,null,null,null,null,null,null,null,null,null,null,null,null,null,null,null,null,"S",null,null,null,null,null,null,null,null,null,null,null,null,null,null,null,null,null,null,null,null,null,null,"S",null,null,null,null,null,null,null,null,null,null,null,null,null,null,null,null,null,null,null,null,null,null,"S",null,null,null,null,null,null,null,null,null,null,null,null,null,null,null,null,null,null,null,null,null,null,"S"]
[null,"PARCIAL:",null,{"$f":"SUM(D76:D123)","v":0},0,0,0,0,0,0,0,0,0,0,0,0,0,0,0,0,0,0,0,null,"PARCIAL:",null,{"$f":"SUM(AA76:AA123)","v":0},0,0,0,0,0,0,0,0,0,0,0,0,0,0,0,0,0,0,0,null,"PARCIAL:",null,{"$f":"SUM(AX76:AX123)","v":0},0,0,0,0,0,0,0,0,0,0,0,0,0,0,0,0,0,0,0,null,"PARCIAL:",null,{"$f":"SUM(BU76:BU123)","v":0},0,0,0,0,0,0,0,0,0,0,0,0,0,0,0,0,0,0,0,null,"PARCIAL:",null,{"$f":"SUM(CR76:CR123)","v":0},0,0,0,0,0,0,0,0,0,0,0,0,0,0,0,0,0,0,0,null,"PARCIAL:",null,{"$f":"SUM(DO76:DO123)","v":0},0,0,0,0,0,0,0,0,0,0,0,0,0,0,0,0,0,0,0,null,"PARCIAL:",null,{"$f":"SUM(EL76:EL123)","v":0},0,0,0,0,0,0,0,0,0,0,0,0,0,0,0,0,0,0,0,null,{"$f":"SUM(D124:W124,AA124:AT124,AX124:BQ124,BU124:CN124,CR124:DK124,DO124:EH124,EL124:FE124)","v":0}]
[null,"ENCUESTADOR :  ______________________",null,null,null,null,"           JEFE DE BRIGADA : ____________________",null,null,null,null,null,"                 ING.RESPONS: __________________",null,null,null,null,null,"SUPERV.MTC : ________________________",null,null,null,null,null,"ENCUESTADOR :  ______________________",null,null,null,null,"           JEFE DE BRIGADA : ____________________",null,null,null,null,"                 ING.RESPONS: __________________",null,null,null,null,null,null,"SUPERV.MTC : ________________________",null,null,null,null,null,"ENCUESTADOR :  ______________________",null,null,null,null,"           JEFE DE BRIGADA : ____________________",null,null,null,null,"                 ING.RESPONS: __________________",null,null,null,null,null,null,"SUPERV.MTC : ________________________",null,null,null,null,null,"ENCUESTADOR :  ______________________",null,null,null,null,"           JEFE DE BRIGADA : ____________________",null,null,null,null,"                 ING.RESPONS: __________________",null,null,null,null,null,null,"SUPERV.MTC : ________________________",null,null,null,null,null,"ENCUESTADOR :  ______________________",null,null,null,null,"           JEFE DE BRIGADA : ____________________",null,null,null,null,"                 ING.RESPONS: __________________",null,null,null,null,null,null,"SUPERV.MTC : ________________________",null,null,null,null,null,"ENCUESTADOR :  ______________________",null,null,null,null,"           JEFE DE BRIGADA : ____________________",null,null,null,null,"                 ING.RESPONS: __________________",null,null,null,null,null,null,"SUPERV.MTC : ________________________",null,null,null,null,null,"ENCUESTADOR :  ______________________",null,null,null,null,"           JEFE DE BRIGADA : ____________________",null,null,null,null,"                 ING.RESPONS: __________________",null,null,null,null,null,null,"SUPERV.MTC : ________________________"]
[]
[]
[]
[null,"ESTUDIO DE TRAFICO - ESTACIÓN PRINCIPAL 3 - LUNES",null,null,null,null,null,null,null,null,null,null,null,null,null,null,null,null,null,null,null,null,null,null,"ESTUDIO DE TRAFICO - ESTACIÓN PRINCIPAL 3 - MARTES",null,null,null,null,null,null,null,null,null,null,null,null,null,null,null,null,null,null,null,null,null,null,"ESTUDIO DE TRAFICO - ESTACIÓN PRINCIPAL 3 - MIERCOLES",null,null,null,null,null,null,null,null,null,null,null,null,null,null,null,null,null,null,null,null,null,null,"ESTUDIO DE TRAFICO - ESTACIÓN PRINCIPAL 3 - JUEVES",null,null,null,null,null,null,null,null,null,null,null,null,null,null,null,null,null,null,null,null,null,null,"ESTUDIO DE TRAFICO - ESTACIÓN PRINCIPAL 3 - VIERNES",null,null,null,null,null,null,null,null,null,null,null,null,null,null,null,null,null,null,null,null,null,null,"ESTUDIO DE TRAFICO - ESTACIÓN PRINCIPAL 3 - SABADO",null,null,null,null,null,null,null,null,null,null,null,null,null,null,null,null,null,null,null,null,null,null,"ESTUDIO DE TRAFICO - ESTACIÓN PRINCIPAL 3 - DOMINGO"]
[]
[null,"ESTACIÓN PRINCIPAL DE LA CARRETERA",null,null,null,3,null,null,null,null,null,null,null,null,null,null,"ESTACION",null,null,null,null,null,null,null,"ESTACIÓN PRINCIPAL DE LA CARRETERA",null,null,null,3,null,null,null,null,null,null,null,null,null,null,"ESTACION",null,null,null,null,null,null,null,"ESTACIÓN PRINCIPAL DE LA CARRETERA",null,null,null,3,null,null,null,null,null,null,null,null,null,null,"ESTACION",null,null,null,null,null,null,null,"ESTACIÓN PRINCIPAL DE LA CARRETERA",null,null,null,3,null,null,null,null,null,null,null,null,null,null,"ESTACION",null,null,null,null,null,null,null,"ESTACIÓN PRINCIPAL DE LA CARRETERA",null,null,null,3,null,null,null,null,null,null,null,null,null,null,"ESTACION",null,null,null,null,null,null,null,"ESTACIÓN PRINCIPAL DE LA CARRETERA",null,null,null,3,null,null,null,null,null,null,null,null,null,null,"ESTACION",null,null,null,null,null,null,null,"ESTACIÓN PRINCIPAL DE LA CARRETERA",null,null,null,3,null,null,null,null,null,null,null,null,null,null,"ESTACION"]
[null,"SENTIDO",null,null,null,null,null," E",null,null,null,null," S",null,null,null,"CODIGO DE LA ESTACION",null,null,null,null,null,null,null,"SENTIDO",null,null,null,null,null," E",null,null,null," S",null,null,null,null,"CODIGO DE LA ESTACION",null,null,null,null,null,null,null,"SENTIDO",null,null,null,null,null," E",null,null,null," S",null,null,null,null,"CODIGO DE LA ESTACION",null,null,null,null,null,null,null,"SENTIDO",null,null,null,null,null," E",null,null,null," S",null,null,null,null,"CODIGO DE LA ESTACION",null,null,null,null,null,null,null,"SENTIDO",null,null,null,null,null," E",null,null,null," S",null,null,null,null,"CODIGO DE LA ESTACION",null,null,null,null,null,null,null,"SENTIDO",null,null,null,null,null," E",null,null,null," S",null,null,null,null,"CODIGO DE LA ESTACION",null,null,null,null,null,null,null,"SENTIDO",null,null,null,null,null," E",null,null,null," S",null,null,null,null,"CODIGO DE LA ESTACION"]
[null,"UBICACIÓN ",null,null,null,null,null,null,null,null,null,null,null,null,null,null,"DIA Y FECHA",null,null,null,null,null,null,null,"UBICACIÓN ",null,null,null,null,null,null,null,null,null,null,null,null,null,null,"DIA Y FECHA",null,null,null,null,null,null,null,"UBICACIÓN ",null,null,null,null,null,null,null,null,null,null,null,null,null,null,"DIA Y FECHA",null,null,null,null,null,null,null,"UBICACIÓN ",null,null,null,null,null,null,null,null,null,null,null,null,null,null,"DIA Y FECHA",null,null,null,null,null,null,null,"UBICACIÓN ",null,null,null,null,null,null,null,null,null,null,null,null,null,null,"DIA Y FECHA",null,null,null,null,null,null,null,"UBICACIÓN ",null,null,null,null,null,null,null,null,null,null,null,null,null,null,"DIA Y FECHA",null,null,null,null,null,null,null,"UBICACIÓN ",null,null,null,null,null,null,null,null,null,null,null,null,null,null,"DIA Y FECHA"]
[null,"DIA","Lunes",null,null,null,null,null,null,null,null,null,null,null,null,null,null,null,null,null,null,null,null,null,"DIA","Martes",null,null,null,null,null,null,null,null,null,null,null,null,null,null,null,null,null,null,null,null,null,"DIA","Miércoles",null,null,null,null,null,null,null,null,null,null,null,null,null,null,null,null,null,null,null,null,null,"DIA","Jueves",null,null,null,null,null,null,null,null,null,null,null,null,null,null,null,null,null,null,null,null,null,"DIA","Viernes",null,null,null,null,null,null,null,null,null,null,null,null,null,null,null,null,null,null,null,null,null,"DIA","Sábado",null,null,null,null,null,null,null,null,null,null,null,null,null,null,null,null,null,null,null,null,null,"DIA","Domingo"]
[]
[null,"HORA","SENTI\nDO","AUTO","STATION WAGON","CAMIONETAS",null,"RURAL\nCombi","MICRO","BUS",null,null,"CAMION",null,null,"SEMI TRAYLER",null,null,null,"TRAYLER",null,null,null,null,"HORA","SENTI\nDO","AUTO","STATION WAGON","CAMIONETAS",null,"RURAL\nCombi","MICRO","BUS",null,null,"CAMION",null,null,"SEMI TRAYLER",null,null,null,"TRAYLER",null,null,null,null,"HORA","SENTI\nDO","AUTO","STATION WAGON","CAMIONETAS",null,"RURAL\nCombi","MICRO","BUS",null,null,"CAMION",null,null,"SEMI TRAYLER",null,null,null,"TRAYLER",null,null,null,null,"HORA","SENTI\nDO","AUTO","STATION WAGON","CAMIONETAS",null,"RURAL\nCombi","MICRO","BUS",null,null,"CAMION",null,null,"SEMI TRAYLER",null,null,null,"TRAYLER",null,null,null,null,"HORA","SENTI\nDO","AUTO","STATION WAGON","CAMIONETAS",null,"RURAL\nCombi","MICRO","BUS",null,null,"CAMION",null,null,"SEMI TRAYLER",null,null,null,"TRAYLER",null,null,null,null,"HORA","SENTI\nDO","AUTO","STATION WAGON","CAMIONETAS",null,"RURAL\nCombi","MICRO","BUS",null,null,"CAMION",null,null,"SEMI TRAYLER",null,null,null,"TRAYLER",null,null,null,null,"HORA","SENTI\nDO","AUTO","STATION WAGON","CAMIONETAS",null,"RURAL\nCombi","MICRO","BUS",null,null,"CAMION",null,null,"SEMI TRAYLER",null,null,null,"TRAYLER"]
[null,null,null,null,null,"PICK UP","PANEL",null,null,"2 E","3 E","4 E","2 E","3 E","4 E","2S1/2S2","2S3","3S1/3S2",">= 3S3","2T2","2T3","3T2",">=3T3",null,null,null,null,null,"PICK UP","PANEL",null,null,"2 E","3 E","4 E","2 E","3 E","4 E","2S1/2S2","2S3","3S1/3S2",">= 3S3","2T2","2T3","3T2",">=3T3",null,null,null,null,null,"PICK UP","PANEL",null,null,"2 E","3 E","4 E","2 E","3 E","4 E","2S1/2S2","2S3","3S1/3S2",">= 3S3","2T2","2T3","3T2",">=3T3",null,null,null,null,null,"PICK UP","PANEL",null,null,"2 E","3 E","4 E","2 E","3 E","4 E","2S1/2S2","2S3","3S1/3S2",">= 3S3","2T2","2T3","3T2",">=3T3",null,null,null,null,null,"PICK UP","PANEL",null,null,"2 E","3 E","4 E","2 E","3 E","4 E","2S1/2S2","2S3","3S1/3S2",">= 3S3","2T2","2T3","3T2",">=3T3",null,null,null,null,null,"PICK UP","PANEL",null,null,"2 E","3 E","4 E","2 E","3 E","4 E","2S1/2S2","2S3","3S1/3S2",">= 3S3","2T2","2T3","3T2",">=3T3",null,null,null,null,null,"PICK UP","PANEL",null,null,"2 E","3 E","4 E","2 E","3 E","4 E","2S1/2S2","2S3","3S1/3S2",">= 3S3","2T2","2T3","3T2",">=3T3"]
[null,"00-01","E",null,null,null,null,null,null,null,null,null,null,null,null,null,null,null,null,null,null,null,null,null,"00-01","E",null,null,null,null,null,null,null,null,null,null,null,null,null,null,null,null,null,null,null,null,null,"00-01","E",null,null,null,null,null,null,null,null,null,null,null,null,null,null,null,null,null,null,null,null,null,"00-01","E",null,null,null,null,null,null,null,null,null,null,null,null,null,null,null,null,null,null,null,null,null,"00-01","E",null,null,null,null,null,null,null,null,null,null,null,null,null,null,null,null,null,null,null,null,null,"00-01","E",null,null,null,null,null,null,null,null,null,null,null,null,null,null,null,null,null,null,null,null,null,"00-01","E"]
[null,null,"S",null,null,null,null,null,null,null,null,null,null,null,null,null,null,null,null,null,null,null,null,null,null,"S",null,null,null,null,null,null,null,null,null,null,null,null,null,null,null,null,null,null,null,null,null,null,"S",null,null,null,null,null,null,null,null,null,null,null,null,null,null,null,null,null,null,null,null,null,null,"S",null,null,null,null,null,null,null,null,null,null,null,null,null,null,null,null,null,null,null,null,null,null,"S",null,null,null,null,null,null,null,null,null,null,null,null,null,null,null,null,null,null,null,null,null,null,"S",null,null,null,null,null,null,null,null,null,null,null,null,null,null,null,null,null,null,null,null,null,null,"S"]
[null,"01-02","E",null,null,null,null,null,null,null,null,null,null,null,null,null,null,null,null,null,null,null,null,null,"01-02","E",null,null,null,null,null,null,null,null,null,null,null,null,null,null,null,null,null,null,null,null,null,"01-02","E",null,null,null,null,null,null,null,null,null,null,null,null,null,null,null,null,null,null,null,null,null,"01-02","E",null,null,null,null,null,null,null,null,null,null,null,null,null,null,null,null,null,null,null,null,null,"01-02","E",null,null,null,null,null,null,null,null,null,null,null,null,null,null,null,null,null,null,null,null,null,"01-02","E",null,null,null,null,null,null,null,null,null,null,null,null,null,null,null,null,null,null,null,null,null,"01-02","E"]
[null,null,"S",null,null,null,null,null,null,null,null,null,null,null,null,null,null,null,null,null,null,null,null,null,null,"S",null,null,null,null,null,null,null,null,null,null,null,null,null,null,null,null,null,null,null,null,null,null,"S",null,null,null,null,null,null,null,null,null,null,null,null,null,null,null,null,null,null,null,null,null,null,"S",null,null,null,null,null,null,null,null,null,null,null,null,null,null,null,null,null,null,null,null,null,null,"S",null,null,null,null,null,null,null,null,null,null,null,null,null,null,null,null,null,null,null,null,null,null,"S",null,null,null,null,null,null,null,null,null,null,null,null,null,null,null,null,null,null,null,null,null,null,"S"]
[null,"02-03","E",null,null,null,null,null,null,null,null,null,null,null,null,null,null,null,null,null,null,null,null,null,"02-03","E",null,null,null,null,null,null,null,null,null,null,null,null,null,null,null,null,null,null,null,null,null,"02-03","E",null,null,null,null,null,null,null,null,null,null,null,null,null,null,null,null,null,null,null,null,null,"02-03","E",null,null,null,null,null,null,null,null,null,null,null,null,null,null,null,null,null,null,null,null,null,"02-03","E",null,null,null,null,null,null,null,null,null,null,null,null,null,null,null,null,null,null,null,null,null,"02-03","E",null,null,null,null,null,null,null,null,null,null,null,null,null,null,null,null,null,null,null,null,null,"02-03","E"]
[null,null,"S",null,null,null,null,null,null,null,null,null,null,null,null,null,null,null,null,null,null,null,null,null,null,"S",null,null,null,null,null,null,null,null,null,null,null,null,null,null,null,null,null,null,null,null,null,null,"S",null,null,null,null,null,null,null,null,null,null,null,null,null,null,null,null,null,null,null,null,null,null,"S",null,null,null,null,null,null,null,null,null,null,null,null,null,null,null,null,null,null,null,null,null,null,"S",null,null,null,null,null,null,null,null,null,null,null,null,null,null,null,null,null,null,null,null,null,null,"S",null,null,null,null,null,null,null,null,null,null,null,null,null,null,null,null,null,null,null,null,null,null,"S"]
[null,"03-04","E",null,null,null,null,null,null,null,null,null,null,null,null,null,null,null,null,null,null,null,null,null,"03-04","E",null,null,null,null,null,null,null,null,null,null,null,null,null,null,null,null,null,null,null,null,null,"03-04","E",null,null,null,null,null,null,null,null,null,null,null,null,null,null,null,null,null,null,null,null,null,"03-04","E",null,null,null,null,null,null,null,null,null,null,null,null,null,null,null,null,null,null,null,null,null,"03-04","E",null,null,null,null,null,null,null,null,null,null,null,null,null,null,null,null,null,null,null,null,null,"03-04","E",null,null,null,null,null,null,null,null,null,null,null,null,null,null,null,null,null,null,null,null,null,"03-04","E"]
[null,null,"S",null,null,null,null,null,null,null,null,null,null,null,null,null,null,null,null,null,null,null,null,null,null,"S",null,null,null,null,null,null,null,null,null,null,null,null,null,null,null,null,null,null,null,null,null,null,"S",null,null,null,null,null,null,null,null,null,null,null,null,null,null,null,null,null,null,null,null,null,null,"S",null,null,null,null,null,null,null,null,null,null,null,null,null,null,null,null,null,null,null,null,null,null,"S",null,null,null,null,null,null,null,null,null,null,null,null,null,null,null,null,null,null,null,null,null,null,"S",null,null,null,null,null,null,null,null,null,null,null,null,null,null,null,null,null,null,null,null,null,null,"S"]
[null,"04-05","E",null,null,null,null,null,null,null,null,null,null,null,null,null,null,null,null,null,null,null,null,null,"04-05","E",null,null,null,null,null,null,null,null,null,null,null,null,null,null,null,null,null,null,null,null,null,"04-05","E",null,null,null,null,null,null,null,null,null,null,null,null,null,null,null,null,null,null,null,null,null,"04-05","E",null,null,null,null,null,null,null,null,null,null,null,null,null,null,null,null,null,null,null,null,null,"04-05","E",null,null,null,null,null,null,null,null,null,null,null,null,null,null,null,null,null,null,null,null,null,"04-05","E",null,null,null,null,null,null,null,null,null,null,null,null,null,null,null,null,null,null,null,null,null,"04-05","E"]
[null,null,"S",null,null,null,null,null,null,null,null,null,null,null,null,null,null,null,null,null,null,null,null,null,null,"S",null,null,null,null,null,null,null,null,null,null,null,null,null,null,null,null,null,null,null,null,null,null,"S",null,null,null,null,null,null,null,null,null,null,null,null,null,null,null,null,null,null,null,null,null,null,"S",null,null,null,null,null,null,null,null,null,null,null,null,null,null,null,null,null,null,null,null,null,null,"S",null,null,null,null,null,null,null,null,null,null,null,null,null,null,null,null,null,null,null,null,null,null,"S",null,null,null,null,null,null,null,null,null,null,null,null,null,null,null,null,null,null,null,null,null,null,"S"]
[null,"05-06","E",null,null,null,null,null,null,null,null,null,null,null,null,null,null,null,null,null,null,null,null,null,"05-06","E",null,null,null,null,null,null,null,null,null,null,null,null,null,null,null,null,null,null,null,null,null,"05-06","E",null,null,null,null,null,null,null,null,null,null,null,null,null,null,null,null,null,null,null,null,null,"05-06","E",null,null,null,null,null,null,null,null,null,null,null,null,null,null,null,null,null,null,null,null,null,"05-06","E",null,null,null,null,null,null,null,null,null,null,null,null,null,null,null,null,null,null,null,null,null,"05-06","E",null,null,null,null,null,null,null,null,null,null,null,null,null,null,null,null,null,null,null,null,null,"05-06","E"]
[null,null,"S",null,null,null,null,null,null,null,null,null,null,null,null,null,null,null,null,null,null,null,null,null,null,"S",null,null,null,null,null,null,null,null,null,null,null,null,null,null,null,null,null,null,null,null,null,null,"S",null,null,null,null,null,null,null,null,null,null,null,null,null,null,null,null,null,null,null,null,null,null,"S",null,null,null,null,null,null,null,null,null,null,null,null,null,null,null,null,null,null,null,null,null,null,"S",null,null,null,null,null,null,null,null,null,null,null,null,null,null,null,null,null,null,null,null,null,null,"S",null,null,null,null,null,null,null,null,null,null,null,null,null,null,null,null,null,null,null,null,null,null,"S"]
[null,"06-07","E",null,null,null,null,null,null,null,null,null,null,null,null,null,null,null,null,null,null,null,null,null,"06-07","E",null,null,null,null,null,null,null,null,null,null,null,null,null,null,null,null,null,null,null,null,null,"06-07","E",null,null,null,null,null,null,null,null,null,null,null,null,null,null,null,null,null,null,null,null,null,"06-07","E",null,null,null,null,null,null,null,null,null,null,null,null,null,null,null,null,null,null,null,null,null,"06-07","E",null,null,null,null,null,null,null,null,null,null,null,null,null,null,null,null,null,null,null,null,null,"06-07","E",null,null,null,null,null,null,null,null,null,null,null,null,null,null,null,null,null,null,null,null,null,"06-07","E"]
[null,null,"S",null,null,null,null,null,null,null,null,null,null,null,null,null,null,null,null,null,null,null,null,null,null,"S",null,null,null,null,null,null,null,null,null,null,null,null,null,null,null,null,null,null,null,null,null,null,"S",null,null,null,null,null,null,null,null,null,null,null,null,null,null,null,null,null,null,null,null,null,null,"S",null,null,null,null,null,null,null,null,null,null,null,null,null,null,null,null,null,null,null,null,null,null,"S",null,null,null,null,null,null,null,null,null,null,null,null,null,null,null,null,null,null,null,null,null,null,"S",null,null,null,null,null,null,null,null,null,null,null,null,null,null,null,null,null,null,null,null,null,null,"S"]
[null,"07-08","E",null,null,null,null,null,null,null,null,null,null,null,null,null,null,null,null,null,null,null,null,null,"07-08","E",null,null,null,null,null,null,null,null,null,null,null,null,null,null,null,null,null,null,null,null,null,"07-08","E",null,null,null,null,null,null,null,null,null,null,null,null,null,null,null,null,null,null,null,null,null,"07-08","E",null,null,null,null,null,null,null,null,null,null,null,null,null,null,null,null,null,null,null,null,null,"07-08","E",null,null,null,null,null,null,null,null,null,null,null,null,null,null,null,null,null,null,null,null,null,"07-08","E",null,null,null,null,null,null,null,null,null,null,null,null,null,null,null,null,null,null,null,null,null,"07-08","E"]
[null,null,"S",null,null,null,null,null,null,null,null,null,null,null,null,null,null,null,null,null,null,null,null,null,null,"S",null,null,null,null,null,null,null,null,null,null,null,null,null,null,null,null,null,null,null,null,null,null,"S",null,null,null,null,null,null,null,null,null,null,null,null,null,null,null,null,null,null,null,null,null,null,"S",null,null,null,null,null,null,null,null,null,null,null,null,null,null,null,null,null,null,null,null,null,null,"S",null,null,null,null,null,null,null,null,null,null,null,null,null,null,null,null,null,null,null,null,null,null,"S",null,null,null,null,null,null,null,null,null,null,null,null,null,null,null,null,null,null,null,null,null,null,"S"]
[null,"08-09","E",null,null,null,null,null,null,null,null,null,null,null,null,null,null,null,null,null,null,null,null,null,"08-09","E",null,null,null,null,null,null,null,null,null,null,null,null,null,null,null,null,null,null,null,null,null,"08-09","E",null,null,null,null,null,null,null,null,null,null,null,null,null,null,null,null,null,null,null,null,null,"08-09","E",null,null,null,null,null,null,null,null,null,null,null,null,null,null,null,null,null,null,null,null,null,"08-09","E",null,null,null,null,null,null,null,null,null,null,null,null,null,null,null,null,null,null,null,null,null,"08-09","E",null,null,null,null,null,null,null,null,null,null,null,null,null,null,null,null,null,null,null,null,null,"08-09","E"]
[null,null,"S",null,null,null,null,null,null,null,null,null,null,null,null,null,null,null,null,null,null,null,null,null,null,"S",null,null,null,null,null,null,null,null,null,null,null,null,null,null,null,null,null,null,null,null,null,null,"S",null,null,null,null,null,null,null,null,null,null,null,null,null,null,null,null,null,null,null,null,null,null,"S",null,null,null,null,null,null,null,null,null,null,null,null,null,null,null,null,null,null,null,null,null,null,"S",null,null,null,null,null,null,null,null,null,null,null,null,null,null,null,null,null,null,null,null,null,null,"S",null,null,null,null,null,null,null,null,null,null,null,null,null,null,null,null,null,null,null,null,null,null,"S"]
[null,"09-10","E",null,null,null,null,null,null,null,null,null,null,null,null,null,null,null,null,null,null,null,null,null,"09-10","E",null,null,null,null,null,null,null,null,null,null,null,null,null,null,null,null,null,null,null,null,null,"09-10","E",null,null,null,null,null,null,null,null,null,null,null,null,null,null,null,null,null,null,null,null,null,"09-10","E",null,null,null,null,null,null,null,null,null,null,null,null,null,null,null,null,null,null,null,null,null,"09-10","E",null,null,null,null,null,null,null,null,null,null,null,null,null,null,null,null,null,null,null,null,null,"09-10","E",null,null,null,null,null,null,null,null,null,null,null,null,null,null,null,null,null,null,null,null,null,"09-10","E"]
[null,null,"S",null,null,null,null,null,null,null,null,null,null,null,null,null,null,null,null,null,null,null,null,null,null,"S",null,null,null,null,null,null,null,null,null,null,null,null,null,null,null,null,null,null,null,null,null,null,"S",null,null,null,null,null,null,null,null,null,null,null,null,null,null,null,null,null,null,null,null,null,null,"S",null,null,null,null,null,null,null,null,null,null,null,null,null,null,null,null,null,null,null,null,null,null,"S",null,null,null,null,null,null,null,null,null,null,null,null,null,null,null,null,null,null,null,null,null,null,"S",null,null,null,null,null,null,null,null,null,null,null,null,null,null,null,null,null,null,null,null,null,null,"S"]
[null,"10-11","E",null,null,null,null,null,null,null,null,null,null,null,null,null,null,null,null,null,null,null,null,null,"10-11","E",null,null,null,null,null,null,null,null,null,null,null,null,null,null,null,null,null,null,null,null,null,"10-11","E",null,null,null,null,null,null,null,null,null,null,null,null,null,null,null,null,null,null,null,null,null,"10-11","E",null,null,null,null,null,null,null,null,null,null,null,null,null,null,null,null,null,null,null,null,null,"10-11","E",null,null,null,null,null,null,null,null,null,null,null,null,null,null,null,null,null,null,null,null,null,"10-11","E",null,null,null,null,null,null,null,null,null,null,null,null,null,null,null,null,null,null,null,null,null,"10-11","E"]
[null,null,"S",null,null,null,null,null,null,null,null,null,null,null,null,null,null,null,null,null,null,null,null,null,null,"S",null,null,null,null,null,null,null,null,null,null,null,null,null,null,null,null,null,null,null,null,null,null,"S",null,null,null,null,null,null,null,null,null,null,null,null,null,null,null,null,null,null,null,null,null,null,"S",null,null,null,null,null,null,null,null,null,null,null,null,null,null,null,null,null,null,null,null,null,null,"S",null,null,null,null,null,null,null,null,null,null,null,null,null,null,null,null,null,null,null,null,null,null,"S",null,null,null,null,null,null,null,null,null,null,null,null,null,null,null,null,null,null,null,null,null,null,"S"]
[null,"11-12","E",null,null,null,null,null,null,null,null,null,null,null,null,null,null,null,null,null,null,null,null,null,"11-12","E",null,null,null,null,null,null,null,null,null,null,null,null,null,null,null,null,null,null,null,null,null,"11-12","E",null,null,null,null,null,null,null,null,null,null,null,null,null,null,null,null,null,null,null,null,null,"11-12","E",null,null,null,null,null,null,null,null,null,null,null,null,null,null,null,null,null,null,null,null,null,"11-12","E",null,null,null,null,null,null,null,null,null,null,null,null,null,null,null,null,null,null,null,null,null,"11-12","E",null,null,null,null,null,null,null,null,null,null,null,null,null,null,null,null,null,null,null,null,null,"11-12","E"]
[null,null,"S",null,null,null,null,null,null,null,null,null,null,null,null,null,null,null,null,null,null,null,null,null,null,"S",null,null,null,null,null,null,null,null,null,null,null,null,null,null,null,null,null,null,null,null,null,null,"S",null,null,null,null,null,null,null,null,null,null,null,null,null,null,null,null,null,null,null,null,null,null,"S",null,null,null,null,null,null,null,null,null,null,null,null,null,null,null,null,null,null,null,null,null,null,"S",null,null,null,null,null,null,null,null,null,null,null,null,null,null,null,null,null,null,null,null,null,null,"S",null,null,null,null,null,null,null,null,null,null,null,null,null,null,null,null,null,null,null,null,null,null,"S"]
[null,"12-13","E",null,null,null,null,null,null,null,null,null,null,null,null,null,null,null,null,null,null,null,null,null,"12-13","E",null,null,null,null,null,null,null,null,null,null,null,null,null,null,null,null,null,null,null,null,null,"12-13","E",null,null,null,null,null,null,null,null,null,null,null,null,null,null,null,null,null,null,null,null,null,"12-13","E",null,null,null,null,null,null,null,null,null,null,null,null,null,null,null,null,null,null,null,null,null,"12-13","E",null,null,null,null,null,null,null,null,null,null,null,null,null,null,null,null,null,null,null,null,null,"12-13","E",null,null,null,null,null,null,null,null,null,null,null,null,null,null,null,null,null,null,null,null,null,"12-13","E"]
[null,null,"S",null,null,null,null,null,null,null,null,null,null,null,null,null,null,null,null,null,null,null,null,null,null,"S",null,null,null,null,null,null,null,null,null,null,null,null,null,null,null,null,null,null,null,null,null,null,"S",null,null,null,null,null,null,null,null,null,null,null,null,null,null,null,null,null,null,null,null,null,null,"S",null,null,null,null,null,null,null,null,null,null,null,null,null,null,null,null,null,null,null,null,null,null,"S",null,null,null,null,null,null,null,null,null,null,null,null,null,null,null,null,null,null,null,null,null,null,"S",null,null,null,null,null,null,null,null,null,null,null,null,null,null,null,null,null,null,null,null,null,null,"S"]
[null,"13-14","E",null,null,null,null,null,null,null,null,null,null,null,null,null,null,null,null,null,null,null,null,null,"13-14","E",null,null,null,null,null,null,null,null,null,null,null,null,null,null,null,null,null,null,null,null,null,"13-14","E",null,null,null,null,null,null,null,null,null,null,null,null,null,null,null,null,null,null,null,null,null,"13-14","E",null,null,null,null,null,null,null,null,null,null,null,null,null,null,null,null,null,null,null,null,null,"13-14","E",null,null,null,null,null,null,null,null,null,null,null,null,null,null,null,null,null,null,null,null,null,"13-14","E",null,null,null,null,null,null,null,null,null,null,null,null,null,null,null,null,null,null,null,null,null,"13-14","E"]
[null,null,"S",null,null,null,null,null,null,null,null,null,null,null,null,null,null,null,null,null,null,null,null,null,null,"S",null,null,null,null,null,null,null,null,null,null,null,null,null,null,null,null,null,null,null,null,null,null,"S",null,null,null,null,null,null,null,null,null,null,null,null,null,null,null,null,null,null,null,null,null,null,"S",null,null,null,null,null,null,null,null,null,null,null,null,null,null,null,null,null,null,null,null,null,null,"S",null,null,null,null,null,null,null,null,null,null,null,null,null,null,null,null,null,null,null,null,null,null,"S",null,null,null,null,null,null,null,null,null,null,null,null,null,null,null,null,null,null,null,null,null,null,"S"]
[null,"14-15","E",null,null,null,null,null,null,null,null,null,null,null,null,null,null,null,null,null,null,null,null,null,"14-15","E",null,null,null,null,null,null,null,null,null,null,null,null,null,null,null,null,null,null,null,null,null,"14-15","E",null,null,null,null,null,null,null,null,null,null,null,null,null,null,null,null,null,null,null,null,null,"14-15","E",null,null,null,null,null,null,null,null,null,null,null,null,null,null,null,null,null,null,null,null,null,"14-15","E",null,null,null,null,null,null,null,null,null,null,null,null,null,null,null,null,null,null,null,null,null,"14-15","E",null,null,null,null,null,null,null,null,null,null,null,null,null,null,null,null,null,null,null,null,null,"14-15","E"]
[null,null,"S",null,null,null,null,null,null,null,null,null,null,null,null,null,null,null,null,null,null,null,null,null,null,"S",null,null,null,null,null,null,null,null,null,null,null,null,null,null,null,null,null,null,null,null,null,null,"S",null,null,null,null,null,null,null,null,null,null,null,null,null,null,null,null,null,null,null,null,null,null,"S",null,null,null,null,null,null,null,null,null,null,null,null,null,null,null,null,null,null,null,null,null,null,"S",null,null,null,null,null,null,null,null,null,null,null,null,null,null,null,null,null,null,null,null,null,null,"S",null,null,null,null,null,null,null,null,null,null,null,null,null,null,null,null,null,null,null,null,null,null,"S"]
[null,"15-16","E",null,null,null,null,null,null,null,null,null,null,null,null,null,null,null,null,null,null,null,null,null,"15-16","E",null,null,null,null,null,null,null,null,null,null,null,null,null,null,null,null,null,null,null,null,null,"15-16","E",null,null,null,null,null,null,null,null,null,null,null,null,null,null,null,null,null,null,null,null,null,"15-16","E",null,null,null,null,null,null,null,null,null,null,null,null,null,null,null,null,null,null,null,null,null,"15-16","E",null,null,null,null,null,null,null,null,null,null,null,null,null,null,null,null,null,null,null,null,null,"15-16","E",null,null,null,null,null,null,null,null,null,null,null,null,null,null,null,null,null,null,null,null,null,"15-16","E"]
[null,null,"S",null,null,null,null,null,null,null,null,null,null,null,null,null,null,null,null,null,null,null,null,null,null,"S",null,null,null,null,null,null,null,null,null,null,null,null,null,null,null,null,null,null,null,null,null,null,"S",null,null,null,null,null,null,null,null,null,null,null,null,null,null,null,null,null,null,null,null,null,null,"S",null,null,null,null,null,null,null,null,null,null,null,null,null,null,null,null,null,null,null,null,null,null,"S",null,null,null,null,null,null,null,null,null,null,null,null,null,null,null,null,null,null,null,null,null,null,"S",null,null,null,null,null,null,null,null,null,null,null,null,null,null,null,null,null,null,null,null,null,null,"S"]
[null,"16-17","E",null,null,null,null,null,null,null,null,null,null,null,null,null,null,null,null,null,null,null,null,null,"16-17","E",null,null,null,null,null,null,null,null,null,null,null,null,null,null,null,null,null,null,null,null,null,"16-17","E",null,null,null,null,null,null,null,null,null,null,null,null,null,null,null,null,null,null,null,null,null,"16-17","E",null,null,null,null,null,null,null,null,null,null,null,null,null,null,null,null,null,null,null,null,null,"16-17","E",null,null,null,null,null,null,null,null,null,null,null,null,null,null,null,null,null,null,null,null,null,"16-17","E",null,null,null,null,null,null,null,null,null,null,null,null,null,null,null,null,null,null,null,null,null,"16-17","E"]
[null,null,"S",null,null,null,null,null,null,null,null,null,null,null,null,null,null,null,null,null,null,null,null,null,null,"S",null,null,null,null,null,null,null,null,null,null,null,null,null,null,null,null,null,null,null,null,null,null,"S",null,null,null,null,null,null,null,null,null,null,null,null,null,null,null,null,null,null,null,null,null,null,"S",null,null,null,null,null,null,null,null,null,null,null,null,null,null,null,null,null,null,null,null,null,null,"S",null,null,null,null,null,null,null,null,null,null,null,null,null,null,null,null,null,null,null,null,null,null,"S",null,null,null,null,null,null,null,null,null,null,null,null,null,null,null,null,null,null,null,null,null,null,"S"]
[null,"17-18","E",null,null,null,null,null,null,null,null,null,null,null,null,null,null,null,null,null,null,null,null,null,"17-18","E",null,null,null,null,null,null,null,null,null,null,null,null,null,null,null,null,null,null,null,null,null,"17-18","E",null,null,null,null,null,null,null,null,null,null,null,null,null,null,null,null,null,null,null,null,null,"17-18","E",null,null,null,null,null,null,null,null,null,null,null,null,null,null,null,null,null,null,null,null,null,"17-18","E",null,null,null,null,null,null,null,null,null,null,null,null,null,null,null,null,null,null,null,null,null,"17-18","E",null,null,null,null,null,null,null,null,null,null,null,null,null,null,null,null,null,null,null,null,null,"17-18","E"]
[null,null,"S",null,null,null,null,null,null,null,null,null,null,null,null,null,null,null,null,null,null,null,null,null,null,"S",null,null,null,null,null,null,null,null,null,null,null,null,null,null,null,null,null,null,null,null,null,null,"S",null,null,null,null,null,null,null,null,null,null,null,null,null,null,null,null,null,null,null,null,null,null,"S",null,null,null,null,null,null,null,null,null,null,null,null,null,null,null,null,null,null,null,null,null,null,"S",null,null,null,null,null,null,null,null,null,null,null,null,null,null,null,null,null,null,null,null,null,null,"S",null,null,null,null,null,null,null,null,null,null,null,null,null,null,null,null,null,null,null,null,null,null,"S"]
[null,"18-19","E",null,null,null,null,null,null,null,null,null,null,null,null,null,null,null,null,null,null,null,null,null,"18-19","E",null,null,null,null,null,null,null,null,null,null,null,null,null,null,null,null,null,null,null,null,null,"18-19","E",null,null,null,null,null,null,null,null,null,null,null,null,null,null,null,null,null,null,null,null,null,"18-19","E",null,null,null,null,null,null,null,null,null,null,null,null,null,null,null,null,null,null,null,null,null,"18-19","E",null,null,null,null,null,null,null,null,null,null,null,null,null,null,null,null,null,null,null,null,null,"18-19","E",null,null,null,null,null,null,null,null,null,null,null,null,null,null,null,null,null,null,null,null,null,"18-19","E"]
[null,null,"S",null,null,null,null,null,null,null,null,null,null,null,null,null,null,null,null,null,null,null,null,null,null,"S",null,null,null,null,null,null,null,null,null,null,null,null,null,null,null,null,null,null,null,null,null,null,"S",null,null,null,null,null,null,null,null,null,null,null,null,null,null,null,null,null,null,null,null,null,null,"S",null,null,null,null,null,null,null,null,null,null,null,null,null,null,null,null,null,null,null,null,null,null,"S",null,null,null,null,null,null,null,null,null,null,null,null,null,null,null,null,null,null,null,null,null,null,"S",null,null,null,null,null,null,null,null,null,null,null,null,null,null,null,null,null,null,null,null,null,null,"S"]
[null,"19-20","E",null,null,null,null,null,null,null,null,null,null,null,null,null,null,null,null,null,null,null,null,null,"19-20","E",null,null,null,null,null,null,null,null,null,null,null,null,null,null,null,null,null,null,null,null,null,"19-20","E",null,null,null,null,null,null,null,null,null,null,null,null,null,null,null,null,null,null,null,null,null,"19-20","E",null,null,null,null,null,null,null,null,null,null,null,null,null,null,null,null,null,null,null,null,null,"19-20","E",null,null,null,null,null,null,null,null,null,null,null,null,null,null,null,null,null,null,null,null,null,"19-20","E",null,null,null,null,null,null,null,null,null,null,null,null,null,null,null,null,null,null,null,null,null,"19-20","E"]
[null,null,"S",null,null,null,null,null,null,null,null,null,null,null,null,null,null,null,null,null,null,null,null,null,null,"S",null,null,null,null,null,null,null,null,null,null,null,null,null,null,null,null,null,null,null,null,null,null,"S",null,null,null,null,null,null,null,null,null,null,null,null,null,null,null,null,null,null,null,null,null,null,"S",null,null,null,null,null,null,null,null,null,null,null,null,null,null,null,null,null,null,null,null,null,null,"S",null,null,null,null,null,null,null,null,null,null,null,null,null,null,null,null,null,null,null,null,null,null,"S",null,null,null,null,null,null,null,null,null,null,null,null,null,null,null,null,null,null,null,null,null,null,"S"]
[null,"20-21","E",null,null,null,null,null,null,null,null,null,null,null,null,null,null,null,null,null,null,null,null,null,"20-21","E",null,null,null,null,null,null,null,null,null,null,null,null,null,null,null,null,null,null,null,null,null,"20-21","E",null,null,null,null,null,null,null,null,null,null,null,null,null,null,null,null,null,null,null,null,null,"20-21","E",null,null,null,null,null,null,null,null,null,null,null,null,null,null,null,null,null,null,null,null,null,"20-21","E",null,null,null,null,null,null,null,null,null,null,null,null,null,null,null,null,null,null,null,null,null,"20-21","E",null,null,null,null,null,null,null,null,null,null,null,null,null,null,null,null,null,null,null,null,null,"20-21","E"]
[null,null,"S",null,null,null,null,null,null,null,null,null,null,null,null,null,null,null,null,null,null,null,null,null,null,"S",null,null,null,null,null,null,null,null,null,null,null,null,null,null,null,null,null,null,null,null,null,null,"S",null,null,null,null,null,null,null,null,null,null,null,null,null,null,null,null,null,null,null,null,null,null,"S",null,null,null,null,null,null,null,null,null,null,null,null,null,null,null,null,null,null,null,null,null,null,"S",null,null,null,null,null,null,null,null,null,null,null,null,null,null,null,null,null,null,null,null,null,null,"S",null,null,null,null,null,null,null,null,null,null,null,null,null,null,null,null,null,null,null,null,null,null,"S"]
[null,"21-22","E",null,null,null,null,null,null,null,null,null,null,null,null,null,null,null,null,null,null,null,null,null,"21-22","E",null,null,null,null,null,null,null,null,null,null,null,null,null,null,null,null,null,null,null,null,null,"21-22","E",null,null,null,null,null,null,null,null,null,null,null,null,null,null,null,null,null,null,null,null,null,"21-22","E",null,null,null,null,null,null,null,null,null,null,null,null,null,null,null,null,null,null,null,null,null,"21-22","E",null,null,null,null,null,null,null,null,null,null,null,null,null,null,null,null,null,null,null,null,null,"21-22","E",null,null,null,null,null,null,null,null,null,null,null,null,null,null,null,null,null,null,null,null,null,"21-22","E"]
[null,null,"S",null,null,null,null,null,null,null,null,null,null,null,null,null,null,null,null,null,null,null,null,null,null,"S",null,null,null,null,null,null,null,null,null,null,null,null,null,null,null,null,null,null,null,null,null,null,"S",null,null,null,null,null,null,null,null,null,null,null,null,null,null,null,null,null,null,null,null,null,null,"S",null,null,null,null,null,null,null,null,null,null,null,null,null,null,null,null,null,null,null,null,null,null,"S",null,null,null,null,null,null,null,null,null,null,null,null,null,null,null,null,null,null,null,null,null,null,"S",null,null,null,null,null,null,null,null,null,null,null,null,null,null,null,null,null,null,null,null,null,null,"S"]
[null,"22-23","E",null,null,null,null,null,null,null,null,null,null,null,null,null,null,null,null,null,null,null,null,null,"22-23","E",null,null,null,null,null,null,null,null,null,null,null,null,null,null,null,null,null,null,null,null,null,"22-23","E",null,null,null,null,null,null,null,null,null,null,null,null,null,null,null,null,null,null,null,null,null,"22-23","E",null,null,null,null,null,null,null,null,null,null,null,null,null,null,null,null,null,null,null,null,null,"22-23","E",null,null,null,null,null,null,null,null,null,null,null,null,null,null,null,null,null,null,null,null,null,"22-23","E",null,null,null,null,null,null,null,null,null,null,null,null,null,null,null,null,null,null,null,null,null,"22-23","E"]
[null,null,"S",null,null,null,null,null,null,null,null,null,null,null,null,null,null,null,null,null,null,null,null,null,null,"S",null,null,null,null,null,null,null,null,null,null,null,null,null,null,null,null,null,null,null,null,null,null,"S",null,null,null,null,null,null,null,null,null,null,null,null,null,null,null,null,null,null,null,null,null,null,"S",null,null,null,null,null,null,null,null,null,null,null,null,null,null,null,null,null,null,null,null,null,null,"S",null,null,null,null,null,null,null,null,null,null,null,null,null,null,null,null,null,null,null,null,null,null,"S",null,null,null,null,null,null,null,null,null,null,null,null,null,null,null,null,null,null,null,null,null,null,"S"]
[null,"23-24","E",null,null,null,null,null,null,null,null,null,null,null,null,null,null,null,null,null,null,null,null,null,"23-24","E",null,null,null,null,null,null,null,null,null,null,null,null,null,null,null,null,null,null,null,null,null,"23-24","E",null,null,null,null,null,null,null,null,null,null,null,null,null,null,null,null,null,null,null,null,null,"23-24","E",null,null,null,null,null,null,null,null,null,null,null,null,null,null,null,null,null,null,null,null,null,"23-24","E",null,null,null,null,null,null,null,null,null,null,null,null,null,null,null,null,null,null,null,null,null,"23-24","E",null,null,null,null,null,null,null,null,null,null,null,null,null,null,null,null,null,null,null,null,null,"23-24","E"]
[null,null,"S",null,null,null,null,null,null,null,null,null,null,null,null,null,null,null,null,null,null,null,null,null,null,"S",null,null,null,null,null,null,null,null,null,null,null,null,null,null,null,null,null,null,null,null,null,null,"S",null,null,null,null,null,null,null,null,null,null,null,null,null,null,null,null,null,null,null,null,null,null,"S",null,null,null,null,null,null,null,null,null,null,null,null,null,null,null,null,null,null,null,null,null,null,"S",null,null,null,null,null,null,null,null,null,null,null,null,null,null,null,null,null,null,null,null,null,null,"S",null,null,null,null,null,null,null,null,null,null,null,null,null,null,null,null,null,null,null,null,null,null,"S"]
[null,"PARCIAL:",null,{"$f":"SUM(D138:D185)","v":0},0,0,0,0,0,0,0,0,0,0,0,0,0,0,0,0,0,0,0,null,"PARCIAL:",null,{"$f":"SUM(AA138:AA185)","v":0},0,0,0,0,0,0,0,0,0,0,0,0,0,0,0,0,0,0,0,null,"PARCIAL:",null,{"$f":"SUM(AX138:AX185)","v":0},0,0,0,0,0,0,0,0,0,0,0,0,0,0,0,0,0,0,0,null,"PARCIAL:",null,{"$f":"SUM(BU138:BU185)","v":0},0,0,0,0,0,0,0,0,0,0,0,0,0,0,0,0,0,0,0,null,"PARCIAL:",null,{"$f":"SUM(CR138:CR185)","v":0},0,0,0,0,0,0,0,0,0,0,0,0,0,0,0,0,0,0,0,null,"PARCIAL:",null,{"$f":"SUM(DO138:DO185)","v":0},0,0,0,0,0,0,0,0,0,0,0,0,0,0,0,0,0,0,0,null,"PARCIAL:",null,{"$f":"SUM(EL138:EL185)","v":0},0,0,0,0,0,0,0,0,0,0,0,0,0,0,0,0,0,0,0,null,{"$f":"SUM(D186:W186,AA186:AT186,AX186:BQ186,BU186:CN186,CR186:DK186,DO186:EH186,EL186:FE186)","v":0}]
[null,"ENCUESTADOR :  ______________________",null,null,null,null,"           JEFE DE BRIGADA : ____________________",null,null,null,null,null,"                 ING.RESPONS: __________________",null,null,null,null,null,"SUPERV.MTC : ________________________",null,null,null,null,null,"ENCUESTADOR :  ______________________",null,null,null,null,"           JEFE DE BRIGADA : ____________________",null,null,null,null,"                 ING.RESPONS: __________________",null,null,null,null,null,null,"SUPERV.MTC : ________________________",null,null,null,null,null,"ENCUESTADOR :  ______________________",null,null,null,null,"           JEFE DE BRIGADA : ____________________",null,null,null,null,"                 ING.RESPONS: __________________",null,null,null,null,null,null,"SUPERV.MTC : ________________________",null,null,null,null,null,"ENCUESTADOR :  ______________________",null,null,null,null,"           JEFE DE BRIGADA : ____________________",null,null,null,null,"                 ING.RESPONS: __________________",null,null,null,null,null,null,"SUPERV.MTC : ________________________",null,null,null,null,null,"ENCUESTADOR :  ______________________",null,null,null,null,"           JEFE DE BRIGADA : ____________________",null,null,null,null,"                 ING.RESPONS: __________________",null,null,null,null,null,null,"SUPERV.MTC : ________________________",null,null,null,null,null,"ENCUESTADOR :  ______________________",null,null,null,null,"           JEFE DE BRIGADA : ____________________",null,null,null,null,"                 ING.RESPONS: __________________",null,null,null,null,null,null,"SUPERV.MTC : ________________________",null,null,null,null,null,"ENCUESTADOR :  ______________________",null,null,null,null,"           JEFE DE BRIGADA : ____________________",null,null,null,null,"                 ING.RESPONS: __________________",null,null,null,null,null,null,"SUPERV.MTC : ________________________"]
[]
[]
[]
[]
[null,null,"T1",{"$f":"+D63","v":0},{"$f":"+E63","v":0},0,0,0,0,0,0,0,0,0,0,0,0,0,0,0,0,0,0,null,null,"T1",0,0,0,0,0,0,0,0,0,0,0,0,0,0,0,0,0,0,0,0,null,null,"T1",0,0,0,0,0,0,0,0,0,0,0,0,0,0,0,0,0,0,0,{"$f":"+BQ63","v":0},null,null,"T1",0,0,0,0,0,0,0,0,0,0,0,0,0,0,0,0,0,0,0,0,null,null,"T1",0,0,0,0,0,0,0,0,0,0,0,0,0,0,0,0,0,0,0,0,null,null,"T1",0,0,0,0,0,0,0,0,0,0,0,0,0,0,{"$f":"+EC63","v":0},0,0,0,0,0,null,null,"T1",0,0,0,0,0,0,0,0,0,0,0,0,0,0,0,0,0,0,0,0,null,{"$f":"MAX(FG186,FG124,FG63)","v":0}]
[null,null,"T2",{"$f":"+D124","v":0},{"$f":"+E124","v":0},0,0,0,0,0,0,0,0,0,0,0,0,0,0,0,0,0,0,null,null,"T2",0,0,0,0,0,0,0,0,0,0,0,0,0,0,0,0,0,0,0,0,null,null,"T2",0,0,0,0,0,0,0,0,0,0,0,0,0,0,0,0,0,0,0,{"$f":"+BQ124","v":0},null,null,"T2",0,0,0,0,0,0,0,0,0,0,0,0,0,0,0,0,0,0,0,0,null,null,"T2",0,0,0,0,0,0,0,0,0,0,0,0,0,0,0,0,0,0,0,0,null,null,"T2",0,0,0,0,0,0,0,0,0,0,0,0,0,0,{"$f":"+EC124","v":0},0,0,0,0,0,null,null,"T2",0,0,0,0,0,0,0,0,0,0,0,0,0,0,0,0,0,0,0,0]
[null,null,"T3",{"$f":"+D186","v":0},{"$f":"+E186","v":0},0,0,0,0,0,0,0,0,0,0,0,0,0,0,0,0,0,0,null,null,"T3",0,0,0,0,0,0,0,0,0,0,0,0,0,0,0,0,0,0,0,0,null,null,"T3",0,0,0,0,0,0,0,0,0,0,0,0,0,0,0,0,0,0,0,{"$f":"+BQ186","v":0},null,null,"T3",0,0,0,0,0,0,0,0,0,0,0,0,0,0,0,0,0,0,0,0,null,null,"T3",0,0,0,0,0,0,0,0,0,0,0,0,0,0,0,0,0,0,0,0,null,null,"T3",0,0,0,0,0,0,0,0,0,0,0,0,0,0,{"$f":"+EC186","v":0},0,0,0,0,0,null,null,"T3",0,0,0,0,0,0,0,0,0,0,0,0,0,0,0,0,0,0,0,0]
[]
[null,null,"T1",{"$f":"+D192","v":0},{"$f":"+E192","v":0},{"$f":"+F192+G192","v":0},{"$f":"+H192","v":0},{"$f":"+I192","v":0},0,0,0,0,0,0,0,0,0,0,0,0,0,0,null,null,null,"T1",{"$f":"+AA192","v":0},{"$f":"+AB192","v":0},{"$f":"+AC192+AD192","v":0},{"$f":"+AE192","v":0},{"$f":"+AF192","v":0},0,0,0,0,0,0,0,0,0,0,0,0,0,0,null,null,null,"T1",{"$f":"+AX192","v":0},{"$f":"+AY192","v":0},{"$f":"+AZ192+BA192","v":0},{"$f":"+BB192","v":0},{"$f":"+BC192","v":0},0,0,0,0,0,0,0,0,0,0,0,0,0,0,null,null,null,"T1",{"$f":"+BU192","v":0},{"$f":"+BV192","v":0},{"$f":"+BW192+BX192","v":0},{"$f":"+BY192","v":0},{"$f":"+BZ192","v":0},0,0,0,0,0,0,0,0,0,0,0,0,0,0,null,null,null,"T1",{"$f":"+CR192","v":0},{"$f":"+CS192","v":0},{"$f":"+CT192+CU192","v":0},{"$f":"+CV192","v":0},{"$f":"+CW192","v":0},0,0,0,0,0,0,0,0,0,0,0,0,0,0,null,null,null,"T1",{"$f":"+DO192","v":0},{"$f":"+DP192","v":0},{"$f":"+DQ192+DR192","v":0},{"$f":"+DS192","v":0},{"$f":"+DT192","v":0},0,0,0,0,0,0,0,0,0,0,0,0,0,0,null,null,null,"T1",{"$f":"+EL192","v":0},{"$f":"+EM192","v":0},{"$f":"+EN192+EO192","v":0},{"$f":"+EP192","v":0},{"$f":"+EQ192","v":0},0,0,0,0,0,0,0,0,0,0,0,0,0,0]
[null,null,"T2",{"$f":"+D193","v":0},0,{"$f":"+F193+G193","v":0},{"$f":"+H193","v":0},0,0,0,0,0,0,0,0,0,0,0,0,0,0,0,null,null,null,"T2",{"$f":"+AA193","v":0},0,{"$f":"+AC193+AD193","v":0},{"$f":"+AE193","v":0},0,0,0,0,0,0,0,0,0,0,0,0,0,0,0,null,null,null,"T2",{"$f":"+AX193","v":0},0,{"$f":"+AZ193+BA193","v":0},{"$f":"+BB193","v":0},0,0,0,0,0,0,0,0,0,0,0,0,0,0,0,null,null,null,"T2",{"$f":"+BU193","v":0},0,{"$f":"+BW193+BX193","v":0},{"$f":"+BY193","v":0},0,0,0,0,0,0,0,0,0,0,0,0,0,0,0,null,null,null,"T2",{"$f":"+CR193","v":0},0,{"$f":"+CT193+CU193","v":0},{"$f":"+CV193","v":0},0,0,0,0,0,0,0,0,0,0,0,0,0,0,0,null,null,null,"T2",{"$f":"+DO193","v":0},0,{"$f":"+DQ193+DR193","v":0},{"$f":"+DS193","v":0},0,0,0,0,0,0,0,0,0,0,0,0,0,0,0,null,null,null,"T2",{"$f":"+EL193","v":0},0,{"$f":"+EN193+EO193","v":0},{"$f":"+EP193","v":0},0,0,0,0,0,0,0,0,0,0,0,0,0,0,0]
[null,null,"T3",{"$f":"+D194","v":0},0,0,{"$f":"+H194","v":0},0,0,0,0,0,0,0,0,0,0,0,0,0,0,0,null,null,null,"T3",{"$f":"+AA194","v":0},0,0,{"$f":"+AE194","v":0},0,0,0,0,0,0,0,0,0,0,0,0,0,0,0,null,null,null,"T3",{"$f":"+AX194","v":0},0,0,{"$f":"+BB194","v":0},0,0,0,0,0,0,0,0,0,0,0,0,0,0,0,null,null,null,"T3",{"$f":"+BU194","v":0},0,0,{"$f":"+BY194","v":0},0,0,0,0,0,0,0,0,0,0,0,0,0,0,0,null,null,null,"T3",{"$f":"+CR194","v":0},0,0,{"$f":"+CV194","v":0},0,0,0,0,0,0,0,0,0,0,0,0,0,0,0,null,null,null,"T3",{"$f":"+DO194","v":0},0,0,{"$f":"+DS194","v":0},0,0,0,0,0,0,0,0,0,0,0,0,0,0,0,null,null,null,"T3",{"$f":"+EL194","v":0},0,0,{"$f":"+EP194","v":0},0,0,0,0,0,0,0,0,0,0,0,0,0,0,0]
[]
[null,null,null,"TRAMO 1","TRAMO 2","TRAMO 3",null,null,null,null,null,null,null,null,null,null,null,null,null,null,null,null,null,null,null,null,"TRAMO 1","TRAMO 2","TRAMO 3",null,null,null,null,null,null,null,null,null,null,null,null,null,null,null,null,null,null,null,null,"TRAMO 1","TRAMO 2","TRAMO 3",null,null,null,null,null,null,null,null,null,null,null,null,null,null,null,null,null,null,null,null,"TRAMO 1","TRAMO 2","TRAMO 3",null,null,null,null,null,null,null,null,null,null,null,null,null,null,null,null,null,null,null,null,"TRAMO 1","TRAMO 2","TRAMO 3",null,null,null,null,null,null,null,null,null,null,null,null,null,null,null,null,null,null,null,null,"TRAMO 1","TRAMO 2","TRAMO 3",null,null,null,null,null,null,null,null,null,null,null,null,null,null,null,null,null,null,null,null,"TRAMO 1","TRAMO 2","TRAMO 3"]
[null,"Automovil",null,{"$f":"TRANSPOSE(D196:V198)","v":0},0,0,null,null,null,null,null,null,null,null,null,null,null,null,null,null,null,null,null,null,"Automovil",null,{"$f":"TRANSPOSE(AA196:AS198)","v":0},0,0,null,null,null,null,null,null,null,null,null,null,null,null,null,null,null,null,null,null,"Automovil",null,{"$f":"TRANSPOSE(AX196:BP198)","v":0},0,0,null,null,null,null,null,null,null,null,null,null,null,null,null,null,null,null,null,null,"Automovil",null,{"$f":"TRANSPOSE(BU196:CM198)","v":0},0,0,null,null,null,null,null,null,null,null,null,null,null,null,null,null,null,null,null,null,"Automovil",null,{"$f":"TRANSPOSE(CR196:DJ198)","v":0},0,0,null,null,null,null,null,null,null,null,null,null,null,null,null,null,null,null,null,null,"Automovil",null,{"$f":"TRANSPOSE(DO196:EG198)","v":0},0,0,null,null,null,null,null,null,null,null,null,null,null,null,null,null,null,null,null,null,"Automovil",null,{"$f":"TRANSPOSE(EL196:FD198)","v":0},0,0]
[null,"Station Wagon",null,0,0,0,null,null,null,null,null,null,null,null,null,null,null,null,null,null,null,null,null,null,"Station Wagon",null,0,0,0,null,null,null,null,null,null,null,null,null,null,null,null,null,null,null,null,null,null,"Station Wagon",null,0,0,0,null,null,null,null,null,null,null,null,null,null,null,null,null,null,null,null,null,null,"Station Wagon",null,0,0,0,null,null,null,null,null,null,null,null,null,null,null,null,null,null,null,null,null,null,"Station Wagon",null,0,0,0,null,null,null,null,null,null,null,null,null,null,null,null,null,null,null,null,null,null,"Station Wagon",null,0,0,0,null,null,null,null,null,null,null,null,null,null,null,null,null,null,null,null,null,null,"Station Wagon",null,0,0,0]
[null,"Camioneta (Pickup/Panel)",null,0,0,0,null,null,null,null,null,null,null,null,null,null,null,null,null,null,null,null,null,null,"Camioneta (Pickup/Panel)",null,0,0,0,null,null,null,null,null,null,null,null,null,null,null,null,null,null,null,null,null,null,"Camioneta (Pickup/Panel)",null,0,0,0,null,null,null,null,null,null,null,null,null,null,null,null,null,null,null,null,null,null,"Camioneta (Pickup/Panel)",null,0,0,0,null,null,null,null,null,null,null,null,null,null,null,null,null,null,null,null,null,null,"Camioneta (Pickup/Panel)",null,0,0,0,null,null,null,null,null,null,null,null,null,null,null,null,null,null,null,null,null,null,"Camioneta (Pickup/Panel)",null,0,0,0,null,null,null,null,null,null,null,null,null,null,null,null,null,null,null,null,null,null,"Camioneta (Pickup/Panel)",null,0,0,0]
[null,"C.Rural (Combi)",null,0,0,0,null,null,null,null,null,null,null,null,null,null,null,null,null,null,null,null,null,null,"C.Rural (Combi)",null,0,0,0,null,null,null,null,null,null,null,null,null,null,null,null,null,null,null,null,null,null,"C.Rural (Combi)",null,0,0,0,null,null,null,null,null,null,null,null,null,null,null,null,null,null,null,null,null,null,"C.Rural (Combi)",null,0,0,0,null,null,null,null,null,null,null,null,null,null,null,null,null,null,null,null,null,null,"C.Rural (Combi)",null,0,0,0,null,null,null,null,null,null,null,null,null,null,null,null,null,null,null,null,null,null,"C.Rural (Combi)",null,0,0,0,null,null,null,null,null,null,null,null,null,null,null,null,null,null,null,null,null,null,"C.Rural (Combi)",null,0,0,0]
[null,"Micro",null,0,0,0,null,null,null,null,null,null,null,null,null,null,null,null,null,null,null,null,null,null,"Micro",null,0,0,0,null,null,null,null,null,null,null,null,null,null,null,null,null,null,null,null,null,null,"Micro",null,0,0,0,null,null,null,null,null,null,null,null,null,null,null,null,null,null,null,null,null,null,"Micro",null,0,0,0,null,null,null,null,null,null,null,null,null,null,null,null,null,null,null,null,null,null,"Micro",null,0,0,0,null,null,null,null,null,null,null,null,null,null,null,null,null,null,null,null,null,null,"Micro",null,0,0,0,null,null,null,null,null,null,null,null,null,null,null,null,null,null,null,null,null,null,"Micro",null,0,0,0]
[null,"Bus 2E",null,0,0,0,null,null,null,null,null,null,null,null,null,null,null,null,null,null,null,null,null,null,"Bus 2E",null,0,0,0,null,null,null,null,null,null,null,null,null,null,null,null,null,null,null,null,null,null,"Bus 2E",null,0,0,0,null,null,null,null,null,null,null,null,null,null,null,null,null,null,null,null,null,null,"Bus 2E",null,0,0,0,null,null,null,null,null,null,null,null,null,null,null,null,null,null,null,null,null,null,"Bus 2E",null,0,0,0,null,null,null,null,null,null,null,null,null,null,null,null,null,null,null,null,null,null,"Bus 2E",null,0,0,0,null,null,null,null,null,null,null,null,null,null,null,null,null,null,null,null,null,null,"Bus 2E",null,0,0,0]
[null,"Bus 3E",null,0,0,0,null,null,null,null,null,null,null,null,null,null,null,null,null,null,null,null,null,null,"Bus 3E",null,0,0,0,null,null,null,null,null,null,null,null,null,null,null,null,null,null,null,null,null,null,"Bus 3E",null,0,0,0,null,null,null,null,null,null,null,null,null,null,null,null,null,null,null,null,null,null,"Bus 3E",null,0,0,0,null,null,null,null,null,null,null,null,null,null,null,null,null,null,null,null,null,null,"Bus 3E",null,0,0,0,null,null,null,null,null,null,null,null,null,null,null,null,null,null,null,null,null,null,"Bus 3E",null,0,0,0,null,null,null,null,null,null,null,null,null,null,null,null,null,null,null,null,null,null,"Bus 3E",null,0,0,0]
[null,"Bus 4E",null,0,0,0,null,null,null,null,null,null,null,null,null,null,null,null,null,null,null,null,null,null,"Bus 4E",null,0,0,0,null,null,null,null,null,null,null,null,null,null,null,null,null,null,null,null,null,null,"Bus 4E",null,0,0,0,null,null,null,null,null,null,null,null,null,null,null,null,null,null,null,null,null,null,"Bus 4E",null,0,0,0,null,null,null,null,null,null,null,null,null,null,null,null,null,null,null,null,null,null,"Bus 4E",null,0,0,0,null,null,null,null,null,null,null,null,null,null,null,null,null,null,null,null,null,null,"Bus 4E",null,0,0,0,null,null,null,null,null,null,null,null,null,null,null,null,null,null,null,null,null,null,"Bus 4E",null,0,0,0]
[null,"Camión 2E",null,0,0,0,null,null,null,null,null,null,null,null,null,null,null,null,null,null,null,null,null,null,"Camión 2E",null,0,0,0,null,null,null,null,null,null,null,null,null,null,null,null,null,null,null,null,null,null,"Camión 2E",null,0,0,0,null,null,null,null,null,null,null,null,null,null,null,null,null,null,null,null,null,null,"Camión 2E",null,0,0,0,null,null,null,null,null,null,null,null,null,null,null,null,null,null,null,null,null,null,"Camión 2E",null,0,0,0,null,null,null,null,null,null,null,null,null,null,null,null,null,null,null,null,null,null,"Camión 2E",null,0,0,0,null,null,null,null,null,null,null,null,null,null,null,null,null,null,null,null,null,null,"Camión 2E",null,0,0,0]
[null,"Camión 3E",null,0,0,0,null,null,null,null,null,null,null,null,null,null,null,null,null,null,null,null,null,null,"Camión 3E",null,0,0,0,null,null,null,null,null,null,null,null,null,null,null,null,null,null,null,null,null,null,"Camión 3E",null,0,0,0,null,null,null,null,null,null,null,null,null,null,null,null,null,null,null,null,null,null,"Camión 3E",null,0,0,0,null,null,null,null,null,null,null,null,null,null,null,null,null,null,null,null,null,null,"Camión 3E",null,0,0,0,null,null,null,null,null,null,null,null,null,null,null,null,null,null,null,null,null,null,"Camión 3E",null,0,0,0,null,null,null,null,null,null,null,null,null,null,null,null,null,null,null,null,null,null,"Camión 3E",null,0,0,0]
[null,"Camión 4E",null,0,0,0,null,null,null,null,null,null,null,null,null,null,null,null,null,null,null,null,null,null,"Camión 4E",null,0,0,0,null,null,null,null,null,null,null,null,null,null,null,null,null,null,null,null,null,null,"Camión 4E",null,0,0,0,null,null,null,null,null,null,null,null,null,null,null,null,null,null,null,null,null,null,"Camión 4E",null,0,0,0,null,null,null,null,null,null,null,null,null,null,null,null,null,null,null,null,null,null,"Camión 4E",null,0,0,0,null,null,null,null,null,null,null,null,null,null,null,null,null,null,null,null,null,null,"Camión 4E",null,0,0,0,null,null,null,null,null,null,null,null,null,null,null,null,null,null,null,null,null,null,"Camión 4E",null,0,0,0]
[null,"Semitrayler (T2S1 / T2S2)",null,0,0,0,null,null,null,null,null,null,null,null,null,null,null,null,null,null,null,null,null,null,"Semitrayler (T2S1 / T2S2)",null,0,0,0,null,null,null,null,null,null,null,null,null,null,null,null,null,null,null,null,null,null,"Semitrayler (T2S1 / T2S2)",null,0,0,0,null,null,null,null,null,null,null,null,null,null,null,null,null,null,null,null,null,null,"Semitrayler (T2S1 / T2S2)",null,0,0,0,null,null,null,null,null,null,null,null,null,null,null,null,null,null,null,null,null,null,"Semitrayler (T2S1 / T2S2)",null,0,0,0,null,null,null,null,null,null,null,null,null,null,null,null,null,null,null,null,null,null,"Semitrayler (T2S1 / T2S2)",null,0,0,0,null,null,null,null,null,null,null,null,null,null,null,null,null,null,null,null,null,null,"Semitrayler (T2S1 / T2S2)",null,0,0,0]
[null,"Semitrayler (T2S3)",null,0,0,0,null,null,null,null,null,null,null,null,null,null,null,null,null,null,null,null,null,null,"Semitrayler (T2S3)",null,0,0,0,null,null,null,null,null,null,null,null,null,null,null,null,null,null,null,null,null,null,"Semitrayler (T2S3)",null,0,0,0,null,null,null,null,null,null,null,null,null,null,null,null,null,null,null,null,null,null,"Semitrayler (T2S3)",null,0,0,0,null,null,null,null,null,null,null,null,null,null,null,null,null,null,null,null,null,null,"Semitrayler (T2S3)",null,0,0,0,null,null,null,null,null,null,null,null,null,null,null,null,null,null,null,null,null,null,"Semitrayler (T2S3)",null,0,0,0,null,null,null,null,null,null,null,null,null,null,null,null,null,null,null,null,null,null,"Semitrayler (T2S3)",null,0,0,0]
[null,"Semitrayler (T3S1 / T3S2)",null,0,0,0,null,null,null,null,null,null,null,null,null,null,null,null,null,null,null,null,null,null,"Semitrayler (T3S1 / T3S2)",null,0,0,0,null,null,null,null,null,null,null,null,null,null,null,null,null,null,null,null,null,null,"Semitrayler (T3S1 / T3S2)",null,0,0,0,null,null,null,null,null,null,null,null,null,null,null,null,null,null,null,null,null,null,"Semitrayler (T3S1 / T3S2)",null,0,0,0,null,null,null,null,null,null,null,null,null,null,null,null,null,null,null,null,null,null,"Semitrayler (T3S1 / T3S2)",null,0,0,0,null,null,null,null,null,null,null,null,null,null,null,null,null,null,null,null,null,null,"Semitrayler (T3S1 / T3S2)",null,0,0,0,null,null,null,null,null,null,null,null,null,null,null,null,null,null,null,null,null,null,"Semitrayler (T3S1 / T3S2)",null,0,0,0]
[null,"Semitrayler (T3S3)",null,0,0,0,null,null,null,null,null,null,null,null,null,null,null,null,null,null,null,null,null,null,"Semitrayler (T3S3)",null,0,0,0,null,null,null,null,null,null,null,null,null,null,null,null,null,null,null,null,null,null,"Semitrayler (T3S3)",null,0,0,0,null,null,null,null,null,null,null,null,null,null,null,null,null,null,null,null,null,null,"Semitrayler (T3S3)",null,0,0,0,null,null,null,null,null,null,null,null,null,null,null,null,null,null,null,null,null,null,"Semitrayler (T3S3)",null,0,0,0,null,null,null,null,null,null,null,null,null,null,null,null,null,null,null,null,null,null,"Semitrayler (T3S3)",null,0,0,0,null,null,null,null,null,null,null,null,null,null,null,null,null,null,null,null,null,null,"Semitrayler (T3S3)",null,0,0,0]
[null,"Trayler (C2R2)",null,0,0,0,null,null,null,null,null,null,null,null,null,null,null,null,null,null,null,null,null,null,"Trayler (C2R2)",null,0,0,0,null,null,null,null,null,null,null,null,null,null,null,null,null,null,null,null,null,null,"Trayler (C2R2)",null,0,0,0,null,null,null,null,null,null,null,null,null,null,null,null,null,null,null,null,null,null,"Trayler (C2R2)",null,0,0,0,null,null,null,null,null,null,null,null,null,null,null,null,null,null,null,null,null,null,"Trayler (C2R2)",null,0,0,0,null,null,null,null,null,null,null,null,null,null,null,null,null,null,null,null,null,null,"Trayler (C2R2)",null,0,0,0,null,null,null,null,null,null,null,null,null,null,null,null,null,null,null,null,null,null,"Trayler (C2R2)",null,0,0,0]
[null,"Trayler (C2R3)",null,0,0,0,null,null,null,null,null,null,null,null,null,null,null,null,null,null,null,null,null,null,"Trayler (C2R3)",null,0,0,0,null,null,null,null,null,null,null,null,null,null,null,null,null,null,null,null,null,null,"Trayler (C2R3)",null,0,0,0,null,null,null,null,null,null,null,null,null,null,null,null,null,null,null,null,null,null,"Trayler (C2R3)",null,0,0,0,null,null,null,null,null,null,null,null,null,null,null,null,null,null,null,null,null,null,"Trayler (C2R3)",null,0,0,0,null,null,null,null,null,null,null,null,null,null,null,null,null,null,null,null,null,null,"Trayler (C2R3)",null,0,0,0,null,null,null,null,null,null,null,null,null,null,null,null,null,null,null,null,null,null,"Trayler (C2R3)",null,0,0,0]
[null,"Trayler (C3R2)",null,0,0,0,null,null,null,null,null,null,null,null,null,null,null,null,null,null,null,null,null,null,"Trayler (C3R2)",null,0,0,0,null,null,null,null,null,null,null,null,null,null,null,null,null,null,null,null,null,null,"Trayler (C3R2)",null,0,0,0,null,null,null,null,null,null,null,null,null,null,null,null,null,null,null,null,null,null,"Trayler (C3R2)",null,0,0,0,null,null,null,null,null,null,null,null,null,null,null,null,null,null,null,null,null,null,"Trayler (C3R2)",null,0,0,0,null,null,null,null,null,null,null,null,null,null,null,null,null,null,null,null,null,null,"Trayler (C3R2)",null,0,0,0,null,null,null,null,null,null,null,null,null,null,null,null,null,null,null,null,null,null,"Trayler (C3R2)",null,0,0,0]
[null,"Trayler (C3R3)",null,0,0,0,null,null,null,null,null,null,null,null,null,null,null,null,null,null,null,null,null,null,"Trayler (C3R3)",null,0,0,0,null,null,null,null,null,null,null,null,null,null,null,null,null,null,null,null,null,null,"Trayler (C3R3)",null,0,0,0,null,null,null,null,null,null,null,null,null,null,null,null,null,null,null,null,null,null,"Trayler (C3R3)",null,0,0,0,null,null,null,null,null,null,null,null,null,null,null,null,null,null,null,null,null,null,"Trayler (C3R3)",null,0,0,0,null,null,null,null,null,null,null,null,null,null,null,null,null,null,null,null,null,null,"Trayler (C3R3)",null,0,0,0,null,null,null,null,null,null,null,null,null,null,null,null,null,null,null,null,null,null,"Trayler (C3R3)",null,0,0,0]

{"sheet":"A2.Demanda","index":2,"n_rows":397,"n_cols":25,"rows_kept":397,"cut":false,"hidden":false,"merged":[[0,1,0,11],[69,13,70,13],[133,1,133,12],[162,1,163,1],[97,3,98,3],[162,4,162,7],[69,9,70,9],[69,1,70,1],[69,2,69,8],[69,10,70,10],[69,11,70,11],[69,12,70,12],[2,6,12,21],[259,1,260,1],[166,1,166,12],[95,1,95,3],[97,1,98,1],[97,2,98,2],[259,2,259,22],[257,1,257,22]]}
[null,"ASPECTOS DE LA DEMANDA",null,null,null,null,null,null,null,null,null,null,null,null,null,null,null,null,null,"HOJA A2. Demanda"]
[null,"1.GENERALIDADES",null,null,"NOTA: USAR ESTA HOJA POR CADA ESTACIÓN"]
[null,null,null,null,null,null,"CROQUIS DE ESTACIONES"]
[null,"LEYENDA:"]
[null,null,null,null,null,null,null,null,null,null,null,null,null,null,null,null,null,null,null,null,null,null,null,null,{"$f":"IF(C10>10,\"1\",0)","v":0}]
[null,null,"Datos a ingresar "]
[null,"Departamento:",{"$f":"'Ficha Estandar'!C69","v":0}]
[null,"Provincia:","ANTONIO RAYMONDI"]
[null,"Distrito:"," CHACCHO "]
[null,"Horizonte del Proyecto (en años):",{"$f":"+'Ficha Estandar'!F180","v":10}]
[]
[null,"1.1  Determinación del tráfico actual"]
[]
[null,"i) Resumir los conteos de tránsito a nivel del día y tipo de vehículo"]
[]
[null,"Resultados de los conteo de tráfico:",null,null,"Mes:",null,"Año:"]
[null,"Tipo de Vehículo","Lunes","Martes","Miércoles","Jueves","Viernes","Sábado","Domingo"]
[null,"Automovil",{"$f":"+'A1.Trafico'!D201","v":0},{"$f":"+'A1.Trafico'!AA201","v":0},{"$f":"+'A1.Trafico'!AX201","v":0},{"$f":"+'A1.Trafico'!BU201","v":0},{"$f":"+'A1.Trafico'!CR201","v":0},{"$f":"+'A1.Trafico'!DO201","v":0},{"$f":"+'A1.Trafico'!EL201","v":0}]
[null,"Station Wagon",{"$f":"+'A1.Trafico'!D202","v":0},{"$f":"+'A1.Trafico'!AA202","v":0},{"$f":"+'A1.Trafico'!AX202","v":0},{"$f":"+'A1.Trafico'!BU202","v":0},{"$f":"+'A1.Trafico'!CR202","v":0},{"$f":"+'A1.Trafico'!DO202","v":0},{"$f":"+'A1.Trafico'!EL202","v":0}]
[null,"Camioneta (Pickup/Panel)",{"$f":"+'A1.Trafico'!D203","v":0},{"$f":"+'A1.Trafico'!AA203","v":0},{"$f":"+'A1.Trafico'!AX203","v":0},{"$f":"+'A1.Trafico'!BU203","v":0},{"$f":"+'A1.Trafico'!CR203","v":0},{"$f":"+'A1.Trafico'!DO203","v":0},{"$f":"+'A1.Trafico'!EL203","v":0}]
[null,"C.Rural (Combi)",{"$f":"+'A1.Trafico'!D204","v":0},{"$f":"+'A1.Trafico'!AA204","v":0},{"$f":"+'A1.Trafico'!AX204","v":0},{"$f":"+'A1.Trafico'!BU204","v":0},{"$f":"+'A1.Trafico'!CR204","v":0},{"$f":"+'A1.Trafico'!DO204","v":0},{"$f":"+'A1.Trafico'!EL204","v":0}]
[null,"Micro",{"$f":"+'A1.Trafico'!D205","v":0},{"$f":"+'A1.Trafico'!AA205","v":0},{"$f":"+'A1.Trafico'!AX205","v":0},{"$f":"+'A1.Trafico'!BU205","v":0},{"$f":"+'A1.Trafico'!CR205","v":0},{"$f":"+'A1.Trafico'!DO205","v":0},{"$f":"+'A1.Trafico'!EL205","v":0}]
[null,"Bus 2E",{"$f":"+'A1.Trafico'!D206","v":0},{"$f":"+'A1.Trafico'!AA206","v":0},{"$f":"+'A1.Trafico'!AX206","v":0},{"$f":"+'A1.Trafico'!BU206","v":0},{"$f":"+'A1.Trafico'!CR206","v":0},{"$f":"+'A1.Trafico'!DO206","v":0},{"$f":"+'A1.Trafico'!EL206","v":0}]
[null,"Bus 3E",{"$f":"+'A1.Trafico'!D207","v":0},{"$f":"+'A1.Trafico'!AA207","v":0},{"$f":"+'A1.Trafico'!AX207","v":0},{"$f":"+'A1.Trafico'!BU207","v":0},{"$f":"+'A1.Trafico'!CR207","v":0},{"$f":"+'A1.Trafico'!DO207","v":0},{"$f":"+'A1.Trafico'!EL207","v":0}]
[null,"Bus 4E",{"$f":"+'A1.Trafico'!D208","v":0},{"$f":"+'A1.Trafico'!AA208","v":0},{"$f":"+'A1.Trafico'!AX208","v":0},{"$f":"+'A1.Trafico'!BU208","v":0},{"$f":"+'A1.Trafico'!CR208","v":0},{"$f":"+'A1.Trafico'!DO208","v":0},{"$f":"+'A1.Trafico'!EL208","v":0}]
[null,"Camión 2E",{"$f":"+'A1.Trafico'!D209","v":0},{"$f":"+'A1.Trafico'!AA209","v":0},{"$f":"+'A1.Trafico'!AX209","v":0},{"$f":"+'A1.Trafico'!BU209","v":0},{"$f":"+'A1.Trafico'!CR209","v":0},{"$f":"+'A1.Trafico'!DO209","v":0},{"$f":"+'A1.Trafico'!EL209","v":0}]
[null,"Camión 3E",{"$f":"+'A1.Trafico'!D210","v":0},{"$f":"+'A1.Trafico'!AA210","v":0},{"$f":"+'A1.Trafico'!AX210","v":0},{"$f":"+'A1.Trafico'!BU210","v":0},{"$f":"+'A1.Trafico'!CR210","v":0},{"$f":"+'A1.Trafico'!DO210","v":0},{"$f":"+'A1.Trafico'!EL210","v":0}]
[null,"Camión 4E",{"$f":"+'A1.Trafico'!D211","v":0},{"$f":"+'A1.Trafico'!AA211","v":0},{"$f":"+'A1.Trafico'!AX211","v":0},{"$f":"+'A1.Trafico'!BU211","v":0},{"$f":"+'A1.Trafico'!CR211","v":0},{"$f":"+'A1.Trafico'!DO211","v":0},{"$f":"+'A1.Trafico'!EL211","v":0}]
[null,"Semitrayler (T2S1 / T2S2)",{"$f":"+'A1.Trafico'!D212","v":0},{"$f":"+'A1.Trafico'!AA212","v":0},{"$f":"+'A1.Trafico'!AX212","v":0},{"$f":"+'A1.Trafico'!BU212","v":0},{"$f":"+'A1.Trafico'!CR212","v":0},{"$f":"+'A1.Trafico'!DO212","v":0},{"$f":"+'A1.Trafico'!EL212","v":0}]
[null,"Semitrayler (T2S3)",{"$f":"+'A1.Trafico'!D213","v":0},{"$f":"+'A1.Trafico'!AA213","v":0},{"$f":"+'A1.Trafico'!AX213","v":0},{"$f":"+'A1.Trafico'!BU213","v":0},{"$f":"+'A1.Trafico'!CR213","v":0},{"$f":"+'A1.Trafico'!DO213","v":0},{"$f":"+'A1.Trafico'!EL213","v":0}]
[null,"Semitrayler (T3S1 / T3S2)",{"$f":"+'A1.Trafico'!D214","v":0},{"$f":"+'A1.Trafico'!AA214","v":0},{"$f":"+'A1.Trafico'!AX214","v":0},{"$f":"+'A1.Trafico'!BU214","v":0},{"$f":"+'A1.Trafico'!CR214","v":0},{"$f":"+'A1.Trafico'!DO214","v":0},{"$f":"+'A1.Trafico'!EL214","v":0}]
[null,"Semitrayler (T3S3)",{"$f":"+'A1.Trafico'!D215","v":0},{"$f":"+'A1.Trafico'!AA215","v":0},{"$f":"+'A1.Trafico'!AX215","v":0},{"$f":"+'A1.Trafico'!BU215","v":0},{"$f":"+'A1.Trafico'!CR215","v":0},{"$f":"+'A1.Trafico'!DO215","v":0},{"$f":"+'A1.Trafico'!EL215","v":0}]
[null,"Trayler (C2R2)",{"$f":"+'A1.Trafico'!D216","v":0},{"$f":"+'A1.Trafico'!AA216","v":0},{"$f":"+'A1.Trafico'!AX216","v":0},{"$f":"+'A1.Trafico'!BU216","v":0},{"$f":"+'A1.Trafico'!CR216","v":0},{"$f":"+'A1.Trafico'!DO216","v":0},{"$f":"+'A1.Trafico'!EL216","v":0}]
[null,"Trayler (C2R3)",{"$f":"+'A1.Trafico'!D217","v":0},{"$f":"+'A1.Trafico'!AA217","v":0},{"$f":"+'A1.Trafico'!AX217","v":0},{"$f":"+'A1.Trafico'!BU217","v":0},{"$f":"+'A1.Trafico'!CR217","v":0},{"$f":"+'A1.Trafico'!DO217","v":0},{"$f":"+'A1.Trafico'!EL217","v":0}]
[null,"Trayler (C3R2)",{"$f":"+'A1.Trafico'!D218","v":0},{"$f":"+'A1.Trafico'!AA218","v":0},{"$f":"+'A1.Trafico'!AX218","v":0},{"$f":"+'A1.Trafico'!BU218","v":0},{"$f":"+'A1.Trafico'!CR218","v":0},{"$f":"+'A1.Trafico'!DO218","v":0},{"$f":"+'A1.Trafico'!EL218","v":0}]
[null,"Trayler (C3R3)",{"$f":"+'A1.Trafico'!D219","v":0},{"$f":"+'A1.Trafico'!AA219","v":0},{"$f":"+'A1.Trafico'!AX219","v":0},{"$f":"+'A1.Trafico'!BU219","v":0},{"$f":"+'A1.Trafico'!CR219","v":0},{"$f":"+'A1.Trafico'!DO219","v":0},{"$f":"+'A1.Trafico'!EL219","v":0}]
[null,"TOTAL",{"$f":"SUM(C18:C36)","v":0},0,0,0,0,0,0]
[]
[]
[]
[]
[]
[]
[]
[]
[]
[]
[]
[]
[]
[]
[]
[]
[]
[null,"ii) Determinar los factores de corrección estacional de una estación de peaje cercano al camino"]
[]
[null,"F.C.E. Vehículos ligeros:",1,"   Ver hoja A3. FC  (Llenar campo manuamente)"]
[null,"F.C.E. Vehículos pesados:",1,"   Ver hoja A3. FC  (Llenar campo manuamente)"]
[]
[]
[]
[null,"iii) Aplicar la siguiente fórmula, para un conteo de 7 días"]
[]
[]
[null,"Donde:","IMDS =","Índice Medio Diario Semanal de la Muestra Vehícular Tomada"]
[null,null,"IMDA =","Índice Medio Anual"]
[null,null,"Vi =","Volumen Vehícular diario de cada uno de los días de conteo"]
[null,null,"FCE=","Factores de Corrección Estacional "]
[]
[null,"Tipo de Vehículo","Tráfico Vehícular en dos Sentidos por Día",null,null,null,null,null,null,"TOTAL","IMDS","FC","IMDa","Distribución (%)"]
[null,null,"Lunes","Martes","Miércoles","Jueves","Viernes","Sábado","Domingo","SEMANA"]
[null,"Automovil",{"$f":"C18","v":0},{"$f":"D18","v":0},0,0,0,0,0,{"$f":"SUM(C72:I72)","v":0},{"$f":"J72/7","v":0},{"$f":"$C$57","v":1},{"$f":"ROUNDUP(K72*L72,0)","v":0},{"$f":"IFERROR((M72*100)/M$91,\"\")","v":""}]
[null,"Station Wagon",{"$f":"C19","v":0},0,0,0,0,0,0,null,null,1,0,""]
[null,"Camioneta (Pickup/Panel)",0,0,0,0,0,0,0,{"$f":"SUM(C74:I74)","v":0},0,1,0,""]
[null,"C.Rural (Combi)",0,0,0,0,0,0,0,0,0,1,0,""]
[null,"Micro",0,0,0,0,0,0,0,0,0,1,0,""]
[null,"Bus 2E",0,0,0,0,0,0,0,{"$f":"SUM(C77:I77)","v":0},0,1,0,""]
[null,"Bus 3E",0,0,0,0,0,0,0,0,0,1,0,""]
[null,"Bus 4E",0,0,0,0,0,0,0,null,null,1,0,""]
[null,"Camión 2E",0,0,0,0,0,0,0,0,0,{"$f":"$C$58","v":1},0,""]
[null,"Camión 3E",0,0,0,0,0,0,0,0,0,{"$f":"$C$58","v":1},0,""]
[null,"Camión 4E",0,0,0,0,0,0,0,{"$f":"SUM(C82:I82)","v":0},{"$f":"J82/7","v":0},{"$f":"$C$58","v":1},0,{"$f":"IFERROR((M82*100)/M$91,\"\")","v":""}]
[null,"Semitrayler (T2S1 / T2S2)",0,0,0,0,0,0,0,0,0,1,0,""]
[null,"Semitrayler (T2S3)",0,0,0,0,0,0,0,0,0,1,0,""]
[null,"Semitrayler (T3S1 / T3S2)",0,0,0,0,0,0,0,0,0,1,0,""]
[null,"Semitrayler (T3S3)",0,0,0,0,0,0,0,0,0,1,0,""]
[null,"Trayler (C2R2)",0,0,0,0,0,0,0,0,0,1,0,""]
[null,"Trayler (C2R3)",0,0,0,0,0,0,0,0,0,1,0,""]
[null,"Trayler (C3R2)",0,0,0,0,0,0,0,0,0,1,0,""]
[null,"Trayler (C3R3)",0,0,0,0,0,0,0,0,0,1,0,""]
[null,"TOTAL",{"$f":"SUM(C72:C90)","v":0},{"$f":"SUM(D72:D90)","v":0},0,0,0,0,0,{"$f":"SUM(J72:J90)","v":0},{"$f":"SUM(K72:K90)","v":0},null,{"$f":"SUM(M72:M90)","v":0},{"$f":"SUM(N72:N90)","v":0}]
[]
[null,"2. ANALISIS DE LA DEMANDA"]
[null,"2.1 Demanda Actual"]
[]
[null,"Tráfico Actual por Tipo de Vehículo"]
[]
[null,"Tipo de Vehículo","IMD","Distribución (%)"]
[]
[null,"Automovil",{"$f":"M72","v":0},{"$f":"IFERROR((C100*100)/$C$119,\"\")","v":""}]
[null,"Station Wagon",{"$f":"M73","v":0},{"$f":"IFERROR((C101*100)/$C$119,\"\")","v":""}]
[null,"Camioneta (Pickup/Panel)",{"$f":"M74","v":0},{"$f":"IFERROR((C102*100)/$C$119,\"\")","v":""}]
[null,"C.Rural (Combi)",0,{"$f":"IFERROR((C103*100)/$C$119,\"\")","v":""}]
[null,"Micro",0,{"$f":"IFERROR((C104*100)/$C$119,\"\")","v":""}]
[null,"Bus 2E",{"$f":"M77","v":0},""]
[null,"Bus 3E",0,""]
[null,"Bus 4E",0,""]
[null,"Camión 2E",0,""]
[null,"Camión 3E",0,""]
[null,"Camión 4E",0,{"$f":"IFERROR((C110*100)/$C$119,\"\")","v":""}]
[null,"Semitrayler (T2S1 / T2S2)",0,""]
[null,"Semitrayler (T2S3)",0,""]
[null,"Semitrayler (T3S1 / T3S2)",0,""]
[null,"Semitrayler (T3S3)",0,""]
[null,"Trayler (C2R2)",0,""]
[null,"Trayler (C2R3)",0,""]
[null,"Trayler (C3R2)",0,""]
[null,"Trayler (C3R3)",0,""]
[null,"IMD",{"$f":"SUM(C100:C118)","v":0},{"$f":"SUM(D100:D118)","v":0}]
[]
[]
[null,"2.2 Demanda Proyectada"]
[]
[]
[]
[null,"Donde:","Tn =","Tránsito proyectado al año \"n\"  en veh/día"]
[null,null,"T0 =","Tránsito actual (año base) en veh/día"]
[null,null,"n =","año futuro de proyeccción"]
[null,null,"r =","tasa anual de crecimiento de tránsito"]
[]
[null,"Tasa de Crecimiento x Región en %",null,"rvp =",{"$f":"VLOOKUP(C7,'A4. Tasa de Crec'!B4:C27,2,0)","v":{"$error":"#N/A"}},"(Ver A4.TC - Tasa de Crecimiento Anual de la Población)",null,null,null,null,"(para vehículos de pasajeros)"]
[null,null,null,"rvc =",{"$f":"VLOOKUP(C7,'A4. Tasa de Crec'!E4:F27,2,0)","v":{"$error":"#N/A"}},"(Ver A4.TC - Tasa de Crecimiento Anual del PBI Regional)",null,null,null,null,"(para vehículos de carga)"]
[]
[null,"Proyección de Tráfico - Situación Sin Proyecto"]
[null,null,null,null,null,null,null,null,null,null,null,null,null,11,{"$f":"+N135+1","v":12},{"$f":"+O135+1","v":13},14,15,16,17,18,19,20]
[null,"Tipo de Vehículo","Año 0",1,2,3,4,5,6,7,8,9,10,11,12,13,14,15,16,17,18,19,20]
[null,"Tráfico Normal",{"$f":"ROUND(SUM(C138:C156),0)","v":0},{"$f":"ROUND(SUM(D138:D156),0)","v":0},0,0,0,0,0,0,0,0,0,{"$f":"ROUND(SUM(N138:N156),0)","v":0},0,0,0,0,0,0,0,0,0]
[null,"Automovil",{"$f":"C100","v":0},{"$f":"IFERROR(ROUND($C138*POWER((1+$E$131),D$136),0),0)","v":0},{"$f":"IFERROR(ROUND($C138*POWER((1+$E$131),E$136),0),0)","v":0},0,0,0,0,0,0,0,0,{"$f":"IFERROR(IF(N$136=0,0,ROUND($C138*POWER((1+$E$131),N$136),0)),0)","v":0},{"$f":"IFERROR(IF(O$136=0,0,ROUND($C138*POWER((1+$E$131),O$136),0)),0)","v":0},0,0,0,0,0,0,0,0]
[null,"Station Wagon",{"$f":"C101","v":0},{"$f":"IFERROR(ROUND($C139*POWER((1+$E$131),D$136),0),0)","v":0},0,0,0,0,0,0,0,0,0,{"$f":"IFERROR(IF(N$136=0,0,ROUND($C139*POWER((1+$E$131),N$136),0)),0)","v":0},0,0,0,0,0,0,0,0,0]
[null,"Camioneta (Pickup/Panel)",0,0,0,0,0,0,0,0,0,0,0,0,0,0,0,0,0,0,0,0,0]
[null,"C.Rural (Combi)",0,0,0,0,0,0,0,0,0,0,0,0,0,0,0,0,0,0,0,0,0]
[null,"Micro",0,0,0,0,0,0,0,0,0,0,0,0,0,0,0,0,0,0,0,0,0]
[null,"Bus 2E",0,0,0,0,0,0,0,0,0,0,0,0,0,0,0,0,0,0,0,0,0]
[null,"Bus 3E",0,0,0,0,0,0,0,0,0,0,0,0,0,0,0,0,0,0,0,0,0]
[null,"Bus 4E",0,0,0,0,0,0,0,0,0,0,0,0,0,0,0,0,0,0,0,0,0]
[null,"Camión 2E",0,0,0,0,0,0,0,0,0,0,0,0,0,0,0,0,0,0,0,0,0]
[null,"Camión 3E",0,0,0,0,0,0,0,0,0,0,0,0,0,0,0,0,0,0,0,0,0]
[null,"Camión 4E",0,0,0,0,0,0,0,0,0,0,0,0,0,0,0,0,0,0,0,0,0]
[null,"Semitrayler (T2S1 / T2S2)",0,0,0,0,0,0,0,0,0,0,0,0,0,0,0,0,0,0,0,0,0]
[null,"Semitrayler (T2S3)",0,0,0,0,0,0,0,0,0,0,0,0,0,0,0,0,0,0,0,0,0]
[null,"Semitrayler (T3S1 / T3S2)",0,0,0,0,0,0,0,0,0,0,0,0,0,0,0,0,0,0,0,0,0]
[null,"Semitrayler (T3S3)",0,0,0,0,0,0,0,0,0,0,0,0,0,0,0,0,0,0,0,0,0]
[null,"Trayler (C2R2)",0,0,0,0,0,0,0,0,0,0,0,0,0,0,0,0,0,0,0,0,0]
[null,"Trayler (C2R3)",0,0,0,0,0,0,0,0,0,0,0,0,0,0,0,0,0,0,0,0,0]
[null,"Trayler (C3R2)",0,0,0,0,0,0,0,0,0,0,0,0,0,0,0,0,0,0,0,0,0]
[null,"Trayler (C3R3)",0,0,0,0,0,0,0,0,0,0,0,0,0,0,0,0,0,0,0,0,0]
[]
[]
[null,"2.3 Demanda Proyectada \"Con Proyecto\""]
[]
[null,"Tráfico Generado por Tipo de Proyecto"]
[]
[null,"Tipo de Intervención","% de Tráfico ",null,"¿Existe vía alterna?",null,null,null,"NO"]
[null,null,"Normal",null,null," ",null,{"$f":"IF(I163=\"NO\",\" \",\" Se recomienda llenar el Formato 1.4 y Formato 1.5\")","v":" "}]
[null,{"$f":"+'Ficha Estandar'!F17","v":0},15]
[]
[null,"Tráfico Proyectado -  Con Proyecto "]
[]
[null,"Tipo de Vehículo","Año 0","Año 1","Año 2","Año 3","Año 4","Año 5","Año 6","Año 7","Año 8","Año 9","Año 10",11,12,13,14,15,16,17,18,19,20]
[null,"Tráfico Normal",{"$f":"SUM(C171:C189)","v":0},0,0,0,0,0,0,0,0,0,0,0,0,0,0,0,0,0,0,0,0]
[null,"Automovil",{"$f":"C138","v":0},{"$f":"D138","v":0},0,0,0,0,0,0,0,0,0,0,0,0,0,0,0,0,0,0,0]
[null,"Station Wagon",{"$f":"C139","v":0},0,0,0,0,0,0,0,0,0,0,0,0,0,0,0,0,0,0,0,0]
[null,"Camioneta (Pickup/Panel)",0,0,0,0,0,0,0,0,0,0,0,0,0,0,0,0,0,0,0,0,0]
[null,"C.Rural (Combi)",0,0,0,0,0,0,0,0,0,0,0,0,0,0,0,0,0,0,0,0,0]
[null,"Micro",0,0,0,0,0,0,0,0,0,0,0,0,0,0,0,0,0,0,0,0,0]
[null,"Bus 2E",0,0,0,0,0,0,0,0,0,0,0,0,0,0,0,0,0,0,0,0,0]
[null,"Bus 3E",0,0,0,0,0,0,0,0,0,0,0,0,0,0,0,0,0,0,0,0,0]
[null,"Bus 4E",0,0,0,0,0,0,0,0,0,0,0,0,0,0,0,0,0,0,0,0,0]
[null,"Camión 2E",0,0,0,0,0,0,0,0,0,0,0,0,0,0,0,0,0,0,0,0,0]
[null,"Camión 3E",0,0,0,0,0,0,0,0,0,0,0,0,0,0,0,0,0,0,0,0,0]
[null,"Camión 4E",0,0,0,0,0,0,0,0,0,0,0,0,0,0,0,0,0,0,0,0,0]
[null,"Semitrayler (T2S1 / T2S2)",0,0,0,0,0,0,0,0,0,0,0,0,0,0,0,0,0,0,0,0,0]
[null,"Semitrayler (T2S3)",0,0,0,0,0,0,0,0,0,0,0,0,0,0,0,0,0,0,0,0,0]
[null,"Semitrayler (T3S1 / T3S2)",0,0,0,0,0,0,0,0,0,0,0,{"$f":"N151","v":0},0,0,0,0,0,0,0,0,0]
[null,"Semitrayler (T3S3)",0,0,0,0,0,0,0,0,0,0,0,0,0,0,0,0,0,0,0,0,0]
[null,"Trayler (C2R2)",0,0,0,0,0,0,0,0,0,0,0,0,0,0,0,0,0,0,0,0,0]
[null,"Trayler (C2R3)",0,0,0,0,0,0,0,0,0,0,0,0,0,0,0,0,0,0,0,0,0]
[null,"Trayler (C3R2)",0,0,0,0,0,0,0,0,0,0,0,0,0,0,0,0,0,0,0,0,0]
[null,"Trayler (C3R3)",0,0,0,0,0,0,0,0,0,0,0,0,0,0,0,0,0,0,0,0,0]
[null,"Tráfico Generado",{"$f":"SUM(C191:C209)","v":0},{"$f":"SUM(D191:D209)","v":0},0,0,0,0,0,0,0,0,0,0,0,0,0,0,0,0,0,0,0]
[null,"Automovil",{"$f":"+ROUNDUP(C171*($C$165/100),0)","v":0},{"$f":"+ROUNDUP(D171*($C$165/100),0)","v":0},0,0,0,0,0,0,0,0,0,0,0,0,0,0,0,0,0,0,0]
[null,"Station Wagon",{"$f":"+ROUNDUP(C172*($C$165/100),0)","v":0},{"$f":"+ROUNDUP(D172*($C$165/100),0)","v":0},0,0,0,0,0,0,0,0,0,0,0,0,0,0,0,0,0,0,0]
[null,"Camioneta (Pickup/Panel)",{"$f":"+ROUNDUP(C173*($C$165/100),0)","v":0},{"$f":"+ROUNDUP(D173*($C$165/100),0)","v":0},0,0,0,0,0,0,0,0,0,0,0,0,0,0,0,0,0,0,0]
[null,"C.Rural (Combi)",{"$f":"+ROUNDUP(C174*($C$165/100),0)","v":0},{"$f":"+ROUNDUP(D174*($C$165/100),0)","v":0},0,0,0,0,0,0,0,0,0,0,0,0,0,0,0,0,0,0,0]
[null,"Micro",{"$f":"+ROUNDUP(C175*($C$165/100),0)","v":0},{"$f":"+ROUNDUP(D175*($C$165/100),0)","v":0},0,0,0,0,0,0,0,0,0,0,0,0,0,0,0,0,0,0,0]
[null,"Bus 2E",{"$f":"+ROUNDUP(C176*($C$165/100),0)","v":0},{"$f":"+ROUNDUP(D176*($C$165/100),0)","v":0},0,0,0,0,0,0,0,0,0,0,0,0,0,0,0,0,0,0,0]
[null,"Bus 3E",{"$f":"+ROUNDUP(C177*($C$165/100),0)","v":0},{"$f":"+ROUNDUP(D177*($C$165/100),0)","v":0},0,0,0,0,0,0,0,0,0,0,0,0,0,0,0,0,0,0,0]
[null,"Bus 4E",{"$f":"+ROUNDUP(C178*($C$165/100),0)","v":0},{"$f":"+ROUNDUP(D178*($C$165/100),0)","v":0},0,0,0,0,0,0,0,0,0,0,0,0,0,0,0,0,0,0,0]
[null,"Camión 2E",{"$f":"+ROUNDUP(C179*($C$165/100),0)","v":0},{"$f":"+ROUNDUP(D179*($C$165/100),0)","v":0},0,0,0,0,0,0,0,0,0,0,0,0,0,0,0,0,0,0,0]
[null,"Camión 3E",{"$f":"+ROUNDUP(C180*($C$165/100),0)","v":0},{"$f":"+ROUNDUP(D180*($C$165/100),0)","v":0},0,0,0,0,0,0,0,0,0,0,0,0,0,0,0,0,0,0,0]
[null,"Camión 4E",{"$f":"+ROUNDUP(C181*($C$165/100),0)","v":0},{"$f":"+ROUNDUP(D181*($C$165/100),0)","v":0},0,0,0,0,0,0,0,0,0,0,0,0,0,0,0,0,0,0,0]
[null,"Semitrayler (T2S1 / T2S2)",{"$f":"+ROUNDUP(C182*($C$165/100),0)","v":0},{"$f":"+ROUNDUP(D182*($C$165/100),0)","v":0},0,0,0,0,0,0,0,0,0,0,0,0,0,0,0,0,0,0,0]
[null,"Semitrayler (T2S3)",{"$f":"+ROUNDUP(C183*($C$165/100),0)","v":0},{"$f":"+ROUNDUP(D183*($C$165/100),0)","v":0},0,0,0,0,0,0,0,0,0,0,0,0,0,0,0,0,0,0,0]
[null,"Semitrayler (T3S1 / T3S2)",{"$f":"+ROUNDUP(C184*($C$165/100),0)","v":0},{"$f":"+ROUNDUP(D184*($C$165/100),0)","v":0},0,0,0,0,0,0,0,0,0,0,0,0,0,0,0,0,0,0,0]
[null,"Semitrayler (T3S3)",{"$f":"+ROUNDUP(C185*($C$165/100),0)","v":0},{"$f":"+ROUNDUP(D185*($C$165/100),0)","v":0},0,0,0,0,0,0,0,0,0,0,0,0,0,0,0,0,0,0,0]
[null,"Trayler (C2R2)",{"$f":"+ROUNDUP(C186*($C$165/100),0)","v":0},{"$f":"+ROUNDUP(D186*($C$165/100),0)","v":0},0,0,0,0,0,0,0,0,0,0,0,0,0,0,0,0,0,0,0]
[null,"Trayler (C2R3)",{"$f":"+ROUNDUP(C187*($C$165/100),0)","v":0},{"$f":"+ROUNDUP(D187*($C$165/100),0)","v":0},0,0,0,0,0,0,0,0,0,0,0,0,0,0,0,0,0,0,0]
[null,"Trayler (C3R2)",{"$f":"+ROUNDUP(C188*($C$165/100),0)","v":0},{"$f":"+ROUNDUP(D188*($C$165/100),0)","v":0},0,0,0,0,0,0,0,0,0,0,0,0,0,0,0,0,0,0,0]
[null,"Trayler (C3R3)",{"$f":"+ROUNDUP(C189*($C$165/100),0)","v":0},{"$f":"+ROUNDUP(D189*($C$165/100),0)","v":0},0,0,0,0,0,0,0,0,0,0,0,0,0,0,0,0,0,0,0]
[null,"Tráfico Desviado",{"$f":"SUM(C211:C229)","v":0},0,0,0,0,0,0,0,0,0,0,{"$f":"SUM(N211:N229)","v":0},{"$f":"SUM(O211:O229)","v":0},0,0,0,0,0,0,0,0]
[null,"Automovil"]
[null,"Station Wagon"]
[null,"Camioneta (Pickup/Panel)"]
[null,"C.Rural (Combi)"]
[null,"Micro"]
[null,"Bus 2E"]
[null,"Bus 3E"]
[null,"Bus 4E"]
[null,"Camión 2E"]
[null,"Camión 3E"]
[null,"Camión 4E"]
[null,"Semitrayler (T2S1 / T2S2)"]
[null,"Semitrayler (T2S3)"]
[null,"Semitrayler (T3S1 / T3S2)"]
[null,"Semitrayler (T3S3)"]
[null,"Trayler (C2R2)"]
[null,"Trayler (C2R3)"]
[null,"Trayler (C3R2)"]
[null,"Trayler (C3R3)"]
[null,"IMD TOTAL",{"$f":"+C170+C210+C190","v":0},{"$f":"+D170+D210+D190","v":0},0,0,0,0,0,0,0,0,0,0,0,0,0,0,0,0,0,0,0]
[]
[]
[]
[null,"TRÁFICO TOTAL"]
[null,"Tipo de Vehículo","Año 0","Año 1","Año 2","Año 3","Año 4","Año 5","Año 6","Año 7","Año 8","Año 9","Año 10",11,12,13,14,15,16,17,18,19,20]
[null,"Automovil",{"$f":"+C171+C191+C211","v":0},{"$f":"+D171+D191+D211","v":0},0,0,0,0,0,0,0,0,0,0,0,0,0,0,0,0,0,0,0]
[null,"Station Wagon",{"$f":"+C172+C192+C212","v":0},0,0,0,0,0,0,0,0,0,0,0,0,0,0,0,0,0,0,0,0]
[null,"Camioneta (Pickup/Panel)",0,0,0,0,0,0,0,0,0,0,0,0,0,0,0,0,0,0,0,0,0]
[null,"C.Rural (Combi)",0,0,0,0,0,0,0,0,0,0,0,0,0,0,0,0,0,0,0,0,0]
[null,"Micro",0,0,0,0,0,0,0,0,0,0,0,0,0,0,0,0,0,0,0,0,0]
[null,"Bus 2E",0,0,0,0,0,0,0,0,0,0,0,0,0,0,0,0,0,0,0,0,0]
[null,"Bus 3E",0,0,0,0,0,0,0,0,0,0,0,0,0,0,0,0,0,0,0,0,0]
[null,"Bus 4E",0,0,0,0,0,0,0,0,0,0,0,0,0,0,0,0,0,0,0,0,0]
[null,"Camión 2E",0,0,0,0,0,0,0,0,0,0,0,0,0,0,0,0,0,0,0,0,0]
[null,"Camión 3E",0,0,0,0,0,0,0,0,0,0,0,0,0,0,0,0,0,0,0,0,0]
[null,"Camión 4E",0,0,0,0,0,0,0,0,0,0,0,0,0,0,0,0,0,0,0,0,0]
[null,"Semitrayler (T2S1 / T2S2)",0,0,0,0,0,0,0,0,0,0,0,0,0,0,0,0,0,0,0,0,0]
[null,"Semitrayler (T2S3)",0,0,0,0,0,0,0,0,0,0,0,0,0,0,0,0,0,0,0,0,0]
[null,"Semitrayler (T3S1 / T3S2)",0,0,0,0,0,0,0,0,0,0,0,{"$f":"+N184+N204+N224","v":0},0,0,0,0,0,0,0,0,0]
[null,"Semitrayler (T3S3)",0,0,0,0,0,0,0,0,0,0,0,0,0,0,0,0,0,0,0,0,0]
[null,"Trayler (C2R2)",0,0,0,0,0,0,0,0,0,0,0,0,0,0,0,0,0,0,0,0,0]
[null,"Trayler (C2R3)",0,0,0,0,0,0,0,0,0,0,0,0,0,0,0,0,0,0,0,0,0]
[null,"Trayler (C3R2)",0,0,0,0,0,0,0,0,0,0,0,0,0,0,0,0,0,0,0,0,0]
[null,"Trayler (C3R3)",0,0,0,0,0,0,0,0,0,0,0,0,0,0,0,0,0,0,0,0,0]
[]
[null,"2.4 Proyección de la población del área de inflluencia o beneficiarios directos"]
[]
[null,"Proyección de la población"]
[]
[null,"Población","Años"]
[null,null,0,1,2,3,4,5,6,7,8,9,10,11,12,13,14,15,16,17,18,19,20]
[null,"Proyección Población",{"$f":"+'Ficha Estandar'!F142","v":0},{"$f":"IFERROR(ROUND($C262*POWER((1+$E$131),D$261),0),\"-\")","v":"-"},{"$f":"IFERROR(ROUND($C262*POWER((1+$E$131),E$261),0),\"-\")","v":"-"},"-","-","-","-","-","-","-","-",{"$f":"IF(OR($C$10=11,$C$10=12,$C$10=13,$C$10=14,$C$10=15,$C$10=16,$C$10=17,$C$10=18,$C$10=19,$C$10=20),IFERROR(ROUND($C262*POWER((1+$E$131),N$261),0),\"\"),\"-\")","v":"-"},{"$f":"IF(OR($C$10=12,$C$10=13,$C$10=14,$C$10=15,$C$10=16,$C$10=17,$C$10=18,$C$10=19,$C$10=20),IFERROR(ROUND($C262*POWER((1+$E$131),O$261),0),\"\"),\"-\")","v":"-"},{"$f":"IF(OR($C$10=13,$C$10=14,$C$10=15,$C$10=16,$C$10=17,$C$10=18,$C$10=19,$C$10=20),IFERROR(ROUND($C262*POWER((1+$E$131),P$261),0),\"\"),\"-\")","v":"-"},{"$f":"IF(OR($C$10=14,$C$10=15,$C$10=16,$C$10=17,$C$10=18,$C$10=19,$C$10=20),IFERROR(ROUND($C262*POWER((1+$E$131),Q$261),0),\"\"),\"-\")","v":"-"},{"$f":"IF(OR($C$10=15,$C$10=16,$C$10=17,$C$10=18,$C$10=19,$C$10=20),IFERROR(ROUND($C262*POWER((1+$E$131),R$261),0),\"\"),\"-\")","v":"-"},{"$f":"IF(OR($C$10=16,$C$10=17,$C$10=18,$C$10=19,$C$10=20),IFERROR(ROUND($C262*POWER((1+$E$131),S$261),0),\"\"),\"-\")","v":"-"},{"$f":"IF(OR($C$10=17,$C$10=18,$C$10=19,$C$10=20),IFERROR(ROUND($C262*POWER((1+$E$131),T$261),0),\"\"),\"-\")","v":"-"},{"$f":"IF(OR($C$10=18,$C$10=19,$C$10=20),IFERROR(ROUND($C262*POWER((1+$E$131),U$261),0),\"\"),\"-\")","v":"-"},{"$f":"IF(OR($C$10=19,$C$10=20),IFERROR(ROUND($C262*POWER((1+$E$131),V$261),0),\"\"),\"-\")","v":"-"},{"$f":"IF(OR($C$10=20),IFERROR(ROUND($C262*POWER((1+$E$131),W$261),0),\"\"),\"-\")","v":"-"}]
[]
[]
[null,"Promedio ",{"$f":"IFERROR(AVERAGE(D262:M262,N262:W262),\"\")","v":""}]
[]
[]
[]
[]
[null,"NOTA: USAR ESTA HOJA POR CADA ESTACIÓN"]
[]
[]
[null,"Tráfico Normal","Año 0","Año 1","Año 2","Año 3","Año 4","Año 5","Año 6","Año 7","Año 8","Año 9","Año 10","Año 11","Año 12","Año 13","Año 14","Año 15","Año 16","Año 17","Año 18","Año 19","Año 20"]
[null,"Auto",{"$f":"+C236","v":0},{"$f":"+D236","v":0},0,0,0,{"$f":"+H236","v":0},0,0,0,0,0,0,0,0,0,0,0,0,0,0,0]
[null,"Station Wagon",{"$f":"+C237","v":0},{"$f":"+D237","v":0},0,0,0,{"$f":"+H237","v":0},0,0,0,0,0,0,0,0,0,0,0,0,0,0,0]
[null,"Camioneta",{"$f":"+C238","v":0},{"$f":"+D238","v":0},0,0,0,{"$f":"+H238","v":0},0,0,0,0,0,0,0,0,0,0,0,0,0,0,0]
[null,"Camioneta Rural",{"$f":"+C239","v":0},{"$f":"+D239","v":0},0,0,0,{"$f":"+H239","v":0},0,0,0,0,0,0,0,0,0,0,0,0,0,0,0]
[null,"Microbús",{"$f":"+C240","v":0},{"$f":"+D240","v":0},0,0,0,{"$f":"+H240","v":0},0,0,0,0,0,0,0,0,0,0,0,0,0,0,0]
[null,"Bus 2 Ejes",{"$f":"+C241","v":0},{"$f":"+D241","v":0},0,0,0,{"$f":"+H241","v":0},0,0,0,0,0,0,0,0,0,0,0,0,0,0,0]
[null,"Bus 3 Ejes",{"$f":"+C242","v":0},{"$f":"+D242","v":0},0,0,0,{"$f":"+H242","v":0},0,0,0,0,0,0,0,0,0,0,0,0,0,0,0]
[null,"Bus 4 Ejes",{"$f":"+C243","v":0},{"$f":"+D243","v":0},0,0,0,{"$f":"+H243","v":0},0,0,0,0,0,0,0,0,0,0,0,0,0,0,0]
[null,"Camión 2 Ejes",{"$f":"+C244","v":0},{"$f":"+D244","v":0},0,0,0,{"$f":"+H244","v":0},0,0,0,0,0,0,0,0,0,0,0,0,0,0,0]
[null,"Camión 3 Ejes",{"$f":"+C245","v":0},{"$f":"+D245","v":0},0,0,0,{"$f":"+H245","v":0},0,0,0,0,0,0,0,0,0,0,0,0,0,0,0]
[null,"Camión 4 Ejes",{"$f":"+C246","v":0},{"$f":"+D246","v":0},0,0,0,{"$f":"+H246","v":0},0,0,0,0,0,0,0,0,0,0,0,0,0,0,0]
[null,"Semitrailer 2 Ejes",{"$f":"+C247","v":0},{"$f":"+D247","v":0},0,0,0,{"$f":"+H247","v":0},0,0,0,0,0,0,0,0,0,0,0,0,0,0,0]
[null,"Semitrailer 3 Ejes",{"$f":"+C248+C249+C250","v":0},{"$f":"+D248+D249+D250","v":0},0,0,0,{"$f":"+H248+H249+H250","v":0},0,0,0,0,0,0,0,0,0,0,0,0,0,0,0]
[null,"Articulado",{"$f":"+SUM(C251:C254)","v":0},{"$f":"+SUM(D251:D254)","v":0},0,0,0,{"$f":"+SUM(H251:H254)","v":0},0,0,0,0,0,0,0,0,0,0,0,0,0,0,0]
[]
[]
[]
[null,null,"Auto","Station Wagon","Camioneta","Camioneta Rural","Microbús","Bus 2 Ejes","Bus 3 Ejes","Bus 4 Ejes","Camión 2 Ejes","Camión 3 Ejes","Camión 4 Ejes","Semitrailer 2 Ejes","Semitrailer 3 Ejes","Articulado"]
[null,"Año 1",{"$f":"TRANSPOSE(D274:W287)","v":0},0,0,0,0,0,0,0,0,0,0,0,0,0]
[null,"Año 2",0,0,0,0,0,0,0,0,0,0,0,0,0,0]
[null,"Año 3",0,0,0,0,0,0,0,0,0,0,0,0,0,0]
[null,"Año 4",0,0,0,0,0,0,0,0,0,0,0,0,0,0]
[null,"Año 5",0,0,0,0,0,0,0,0,0,0,0,0,0,0]
[null,"Año 6",0,0,0,0,0,0,0,0,0,0,0,0,0,0]
[null,"Año 7",0,0,0,0,0,0,0,0,0,0,0,0,0,0]
[null,"Año 8",0,0,0,0,0,0,0,0,0,0,0,0,0,0]
[null,"Año 9",0,0,0,0,0,0,0,0,0,0,0,0,0,0]
[null,"Año 10",0,0,0,0,0,0,0,0,0,0,0,0,0,0]
[null,"Año 11",0,0,0,0,0,0,0,0,0,0,0,0,0,0]
[null,"Año 12",0,0,0,0,0,0,0,0,0,0,0,0,0,0]
[null,"Año 13",0,0,0,0,0,0,0,0,0,0,0,0,0,0]
[null,"Año 14",0,0,0,0,0,0,0,0,0,0,0,0,0,0]
[null,"Año 15",0,0,0,0,0,0,0,0,0,0,0,0,0,0]
[null,"Año 16",0,0,0,0,0,0,0,0,0,0,0,0,0,0]
[null,"Año 17",0,0,0,0,0,0,0,0,0,0,0,0,0,0]
[null,"Año 18",0,0,0,0,0,0,0,0,0,0,0,0,0,0]
[null,"Año 19",0,0,0,0,0,0,0,0,0,0,0,0,0,0]
[null,"Año 20",0,0,0,0,0,0,0,0,0,0,0,0,0,0]
[]
[]
[]
[]
[]
[null,"Tráfico Generado"]
[null,null,"Año 0","Año 1","Año 2","Año 3","Año 4","Año 5","Año 6","Año 7","Año 8","Año 9","Año 10","Año 11","Año 12","Año 13","Año 14","Año 15","Año 16","Año 17","Año 18","Año 19","Año 20"]
[null,"Auto",{"$f":"+C191","v":0},0,0,0,0,{"$f":"+H191","v":0},0,0,0,0,0,0,0,0,0,0,0,0,0,0,0]
[null,"Station Wagon",{"$f":"+C192","v":0},0,0,0,0,{"$f":"+H192","v":0},0,0,0,0,0,0,0,0,0,0,0,0,0,0,0]
[null,"Camioneta",0,0,0,0,0,{"$f":"+H193","v":0},0,0,0,0,0,0,0,0,0,0,0,0,0,0,0]
[null,"Camioneta Rural",0,0,0,0,0,{"$f":"+H194","v":0},0,0,0,0,0,0,0,0,0,0,0,0,0,0,0]
[null,"Microbús",0,0,0,0,0,{"$f":"+H195","v":0},0,0,0,0,0,0,0,0,0,0,0,0,0,0,0]
[null,"Bus 2 Ejes",0,0,0,0,0,{"$f":"+H196","v":0},0,0,0,0,0,0,0,0,0,0,0,0,0,0,0]
[null,"Bus 3 Ejes",0,0,0,0,0,{"$f":"+H197","v":0},0,0,0,0,0,0,0,0,0,0,0,0,0,0,0]
[null,"Bus 4 Ejes",0,0,0,0,0,{"$f":"+H198","v":0},0,0,0,0,0,0,0,0,0,0,0,0,0,0,0]
[null,"Camión 2 Ejes",0,0,0,0,0,{"$f":"+H199","v":0},0,0,0,0,0,0,0,0,0,0,0,0,0,0,0]
[null,"Camión 3 Ejes",0,0,0,0,0,{"$f":"+H200","v":0},0,0,0,0,0,0,0,0,0,0,0,0,0,0,0]
[null,"Camión 4 Ejes",0,0,0,0,0,{"$f":"+H201","v":0},0,0,0,0,0,0,0,0,0,0,0,0,0,0,0]
[null,"Semitrailer 2 Ejes",0,0,0,0,0,{"$f":"+H202","v":0},0,0,0,0,0,0,0,0,0,0,0,0,0,0,0]
[null,"Semitrailer 3 Ejes",{"$f":"+C203+C204+C205","v":0},{"$f":"+D203+D204+D205","v":0},0,0,0,{"$f":"+H203+H204+H205","v":0},0,0,0,0,0,0,0,0,0,0,0,0,0,0,0]
[null,"Articulado",{"$f":"SUM(C206:C209)","v":0},{"$f":"SUM(D206:D209)","v":0},0,0,0,{"$f":"SUM(H206:H209)","v":0},0,0,0,0,0,0,0,0,0,0,0,0,0,0,0]
[]
[]
[null,null,"Auto","Station Wagon","Camioneta","Camioneta Rural","Microbús","Bus 2 Ejes","Bus 3 Ejes","Bus 4 Ejes","Camión 2 Ejes","Camión 3 Ejes","Camión 4 Ejes","Semitrailer 2 Ejes","Semitrailer 3 Ejes","Articulado"]
[null,"Año 1",{"$f":"TRANSPOSE(D319:W332)","v":0},0,0,0,0,0,0,0,0,0,0,0,0,0]
[null,"Año 2",0,0,0,0,0,0,0,0,0,0,0,0,0,0]
[null,"Año 3",0,0,0,0,0,0,0,0,0,0,0,0,0,0]
[null,"Año 4",0,0,0,0,0,0,0,0,0,0,0,0,0,0]
[null,"Año 5",0,0,0,0,0,0,0,0,0,0,0,0,0,0]
[null,"Año 6",0,0,0,0,0,0,0,0,0,0,0,0,0,0]
[null,"Año 7",0,0,0,0,0,0,0,0,0,0,0,0,0,0]
[null,"Año 8",0,0,0,0,0,0,0,0,0,0,0,0,0,0]
[null,"Año 9",0,0,0,0,0,0,0,0,0,0,0,0,0,0]
[null,"Año 10",0,0,0,0,0,0,0,0,0,0,0,0,0,0]
[null,"Año 11",0,0,0,0,0,0,0,0,0,0,0,0,0,0]
[null,"Año 12",0,0,0,0,0,0,0,0,0,0,0,0,0,0]
[null,"Año 13",0,0,0,0,0,0,0,0,0,0,0,0,0,0]
[null,"Año 14",0,0,0,0,0,0,0,0,0,0,0,0,0,0]
[null,"Año 15",0,0,0,0,0,0,0,0,0,0,0,0,0,0]
[null,"Año 16",0,0,0,0,0,0,0,0,0,0,0,0,0,0]
[null,"Año 17",0,0,0,0,0,0,0,0,0,0,0,0,0,0]
[null,"Año 18",0,0,0,0,0,0,0,0,0,0,0,0,0,0]
[null,"Año 19",0,0,0,0,0,0,0,0,0,0,0,0,0,0]
[null,"Año 20",0,0,0,0,0,0,0,0,0,0,0,0,0,0]
[]
[]
[]
[null,"Tráfico Derivado"]
[null,null,"Año 0","Año 1","Año 2","Año 3","Año 4","Año 5","Año 6","Año 7","Año 8","Año 9","Año 10","Año 11","Año 12","Año 13","Año 14","Año 15","Año 16","Año 17","Año 18","Año 19","Año 20"]
[null,"Auto",{"$f":"+C191","v":0},{"$f":"+D191","v":0},0,0,0,0,0,0,0,0,0,0,0,0,0,0,0,0,0,0,0]
[null,"Station Wagon",{"$f":"+C192","v":0},0,0,0,0,0,0,0,0,0,0,0,0,0,0,0,0,0,0,0,0]
[null,"Camioneta",0,0,0,0,0,0,0,0,0,0,0,0,0,0,0,0,0,0,0,0,0]
[null,"Camioneta Rural",0,0,0,0,0,0,0,0,0,0,0,0,0,0,0,0,0,0,0,0,0]
[null,"Microbús",0,0,0,0,0,0,0,0,0,0,0,0,0,0,0,0,0,0,0,0,0]
[null,"Bus 2 Ejes",0,0,0,0,0,0,0,0,0,0,0,0,0,0,0,0,0,0,0,0,0]
[null,"Bus 3 Ejes",0,0,0,0,0,0,0,0,0,0,0,0,0,0,0,0,0,0,0,0,0]
[null,"Bus 4 Ejes",0,0,0,0,0,0,0,0,0,0,0,0,0,0,0,0,0,0,0,0,0]
[null,"Camión 2 Ejes",0,0,0,0,0,0,0,0,0,0,0,0,0,0,0,0,0,0,0,0,0]
[null,"Camión 3 Ejes",0,0,0,0,0,0,0,0,0,0,0,0,0,0,0,0,0,0,0,0,0]
[null,"Camión 4 Ejes",0,0,0,0,0,0,0,0,0,0,0,0,0,0,0,0,0,0,0,0,0]
[null,"Semitrailer 2 Ejes",0,0,0,0,0,0,0,0,0,0,0,0,0,0,0,0,0,0,0,0,0]
[null,"Semitrailer 3 Ejes",0,0,0,0,0,0,0,0,0,0,0,0,0,0,0,0,0,0,0,0,0]
[null,"Articulado",{"$f":"SUM(C248:C251)","v":0},{"$f":"SUM(D248:D251)","v":0},0,0,{"$f":"SUM(G248:G251)","v":0},0,0,0,0,0,0,0,0,0,0,0,0,0,0,0,0]
[]
[]
[null,null,"Auto","Station Wagon","Camioneta","Camioneta Rural","Microbús","Bus 2 Ejes","Bus 3 Ejes","Bus 4 Ejes","Camión 2 Ejes","Camión 3 Ejes","Camión 4 Ejes","Semitrailer 2 Ejes","Semitrailer 3 Ejes","Articulado"]
[null,"Año 1",{"$f":"TRANSPOSE(D361:W374)","v":0},0,0,0,0,0,0,0,0,0,0,0,0,0]
[null,"Año 2",0,0,0,0,0,0,0,0,0,0,0,0,0,0]
[null,"Año 3",0,0,0,0,0,0,0,0,0,0,0,0,0,0]
[null,"Año 4",0,0,0,0,0,0,0,0,0,0,0,0,0,0]
[null,"Año 5",0,0,0,0,0,0,0,0,0,0,0,0,0,0]
[null,"Año 6",0,0,0,0,0,0,0,0,0,0,0,0,0,0]
[null,"Año 7",0,0,0,0,0,0,0,0,0,0,0,0,0,0]
[null,"Año 8",0,0,0,0,0,0,0,0,0,0,0,0,0,0]
[null,"Año 9",0,0,0,0,0,0,0,0,0,0,0,0,0,0]
[null,"Año 10",0,0,0,0,0,0,0,0,0,0,0,0,0,0]
[null,"Año 11",0,0,0,0,0,0,0,0,0,0,0,0,0,0]
[null,"Año 12",0,0,0,0,0,0,0,0,0,0,0,0,0,0]
[null,"Año 13",0,0,0,0,0,0,0,0,0,0,0,0,0,0]
[null,"Año 14",0,0,0,0,0,0,0,0,0,0,0,0,0,0]
[null,"Año 15",0,0,0,0,0,0,0,0,0,0,0,0,0,0]
[null,"Año 16",0,0,0,0,0,0,0,0,0,0,0,0,0,0]
[null,"Año 17",0,0,0,0,0,0,0,0,0,0,0,0,0,0]
[null,"Año 18",0,0,0,0,0,0,0,0,0,0,0,0,0,0]
[null,"Año 19",0,0,0,0,0,0,0,0,0,0,0,0,0,0]
[null,"Año 20",0,0,0,0,0,0,0,0,0,0,0,0,0,0]

{"sheet":"P1.Ejes Equivalentes","index":3,"n_rows":54,"n_cols":29,"rows_kept":54,"cut":false,"hidden":false,"merged":[[2,7,2,9],[5,7,5,9],[0,1,0,11]]}
[null,"DETERMINACIÓN DE EJES EQUIVALENTES (EE)",null,null,null,null,null,null,null,null,null,null,null,null,null,null,null,null,null,"HOJA P1. EJES EQUIVALENTES"]
[null,null,null,null,null,null,null,null,null,null,null,null,null,null,null,null,null,null,null,null,null,null,null,null,null,null,"111",1,1]
[{"$f":"CONCATENATE(C3,F3,K3)","v":"121"},"Número de Calzadas",1,null,"Nro de Sentidos ",2,null,"Nro de Carriles - Sentido",null,null,1,null,null,null,null,null,null,null,null,null,null,null,null,null,null,null,"112",1,0.8]
[null,null,null,null,null,null,null,null,null,null,null,null,null,null,null,null,null,null,null,null,null,null,null,null,null,null,"113",1,0.6]
[null,null,null,null,null,null,null,null,null,null,null,null,null,null,null,null,null,null,null,null,null,null,null,null,null,null,"114",1,0.5]
[null,"FD",{"$f":"IFERROR(VLOOKUP($A$3,$AA$2:$AC$11,2,0),\"Verificar\")","v":0.5},null,"FC",{"$f":"IFERROR(VLOOKUP($A$3,$AA$2:$AC$11,3,0),\"Verificar\")","v":1},null,"Tipo de pavimento",null,null,"Rígido",null,null,null,null,null,null,null,null,null,null,null,null,null,null,null,"121",0.5,1]
[null,null,null,null,null,null,null,null,null,null,null,null,null,null,null,null,null,null,null,null,null,null,null,null,null,null,"122",0.5,0.8]
[null,"TRÁFICO TOTAL",null,null,null,null,null,null,null,null,null,null,null,null,null,null,null,null,null,null,null,null,null,null,null,null,"221",0.5,1]
[null,"Tipo de Vehículo","Año 0","Año 1","Año 2","Año 3","Año 4","Año 5","Año 6","Año 7","Año 8","Año 9","Año 10",11,12,13,14,15,16,17,18,19,20,null,null,null,"222",0.5,0.8]
[null,"Automovil",{"$f":"+'A2.Demanda'!C236*365","v":0},{"$f":"+'A2.Demanda'!D236*365","v":0},{"$f":"+'A2.Demanda'!E236*365","v":0},{"$f":"+'A2.Demanda'!F236*365","v":0},{"$f":"+'A2.Demanda'!G236*365","v":0},{"$f":"+'A2.Demanda'!H236*365","v":0},{"$f":"+'A2.Demanda'!I236*365","v":0},{"$f":"+'A2.Demanda'!J236*365","v":0},{"$f":"+'A2.Demanda'!K236*365","v":0},{"$f":"+'A2.Demanda'!L236*365","v":0},{"$f":"+'A2.Demanda'!M236*365","v":0},{"$f":"+'A2.Demanda'!N236*365","v":0},{"$f":"+'A2.Demanda'!O236*365","v":0},{"$f":"+'A2.Demanda'!P236*365","v":0},{"$f":"+'A2.Demanda'!Q236*365","v":0},{"$f":"+'A2.Demanda'!R236*365","v":0},{"$f":"+'A2.Demanda'!S236*365","v":0},{"$f":"+'A2.Demanda'!T236*365","v":0},{"$f":"+'A2.Demanda'!U236*365","v":0},{"$f":"+'A2.Demanda'!V236*365","v":0},{"$f":"+'A2.Demanda'!W236*365","v":0},null,null,null,"223",0.5,0.6]
[null,"Station Wagon",{"$f":"+'A2.Demanda'!C237*365","v":0},{"$f":"+'A2.Demanda'!D237*365","v":0},{"$f":"+'A2.Demanda'!E237*365","v":0},{"$f":"+'A2.Demanda'!F237*365","v":0},{"$f":"+'A2.Demanda'!G237*365","v":0},{"$f":"+'A2.Demanda'!H237*365","v":0},{"$f":"+'A2.Demanda'!I237*365","v":0},{"$f":"+'A2.Demanda'!J237*365","v":0},{"$f":"+'A2.Demanda'!K237*365","v":0},{"$f":"+'A2.Demanda'!L237*365","v":0},{"$f":"+'A2.Demanda'!M237*365","v":0},{"$f":"+'A2.Demanda'!N237*365","v":0},{"$f":"+'A2.Demanda'!O237*365","v":0},{"$f":"+'A2.Demanda'!P237*365","v":0},{"$f":"+'A2.Demanda'!Q237*365","v":0},{"$f":"+'A2.Demanda'!R237*365","v":0},{"$f":"+'A2.Demanda'!S237*365","v":0},{"$f":"+'A2.Demanda'!T237*365","v":0},{"$f":"+'A2.Demanda'!U237*365","v":0},{"$f":"+'A2.Demanda'!V237*365","v":0},{"$f":"+'A2.Demanda'!W237*365","v":0},null,null,null,"224",0.5,0.5]
[null,"Camioneta (Pickup/Panel)",{"$f":"+'A2.Demanda'!C238*365","v":0},{"$f":"+'A2.Demanda'!D238*365","v":0},{"$f":"+'A2.Demanda'!E238*365","v":0},{"$f":"+'A2.Demanda'!F238*365","v":0},{"$f":"+'A2.Demanda'!G238*365","v":0},{"$f":"+'A2.Demanda'!H238*365","v":0},{"$f":"+'A2.Demanda'!I238*365","v":0},{"$f":"+'A2.Demanda'!J238*365","v":0},{"$f":"+'A2.Demanda'!K238*365","v":0},{"$f":"+'A2.Demanda'!L238*365","v":0},{"$f":"+'A2.Demanda'!M238*365","v":0},{"$f":"+'A2.Demanda'!N238*365","v":0},{"$f":"+'A2.Demanda'!O238*365","v":0},{"$f":"+'A2.Demanda'!P238*365","v":0},{"$f":"+'A2.Demanda'!Q238*365","v":0},{"$f":"+'A2.Demanda'!R238*365","v":0},{"$f":"+'A2.Demanda'!S238*365","v":0},{"$f":"+'A2.Demanda'!T238*365","v":0},{"$f":"+'A2.Demanda'!U238*365","v":0},{"$f":"+'A2.Demanda'!V238*365","v":0},{"$f":"+'A2.Demanda'!W238*365","v":0}]
[null,"C.Rural (Combi)",{"$f":"+'A2.Demanda'!C239*365","v":0},{"$f":"+'A2.Demanda'!D239*365","v":0},{"$f":"+'A2.Demanda'!E239*365","v":0},{"$f":"+'A2.Demanda'!F239*365","v":0},{"$f":"+'A2.Demanda'!G239*365","v":0},{"$f":"+'A2.Demanda'!H239*365","v":0},{"$f":"+'A2.Demanda'!I239*365","v":0},{"$f":"+'A2.Demanda'!J239*365","v":0},{"$f":"+'A2.Demanda'!K239*365","v":0},{"$f":"+'A2.Demanda'!L239*365","v":0},{"$f":"+'A2.Demanda'!M239*365","v":0},{"$f":"+'A2.Demanda'!N239*365","v":0},{"$f":"+'A2.Demanda'!O239*365","v":0},{"$f":"+'A2.Demanda'!P239*365","v":0},{"$f":"+'A2.Demanda'!Q239*365","v":0},{"$f":"+'A2.Demanda'!R239*365","v":0},{"$f":"+'A2.Demanda'!S239*365","v":0},{"$f":"+'A2.Demanda'!T239*365","v":0},{"$f":"+'A2.Demanda'!U239*365","v":0},{"$f":"+'A2.Demanda'!V239*365","v":0},{"$f":"+'A2.Demanda'!W239*365","v":0}]
[null,"Micro",{"$f":"+'A2.Demanda'!C240*365","v":0},{"$f":"+'A2.Demanda'!D240*365","v":0},{"$f":"+'A2.Demanda'!E240*365","v":0},{"$f":"+'A2.Demanda'!F240*365","v":0},{"$f":"+'A2.Demanda'!G240*365","v":0},{"$f":"+'A2.Demanda'!H240*365","v":0},{"$f":"+'A2.Demanda'!I240*365","v":0},{"$f":"+'A2.Demanda'!J240*365","v":0},{"$f":"+'A2.Demanda'!K240*365","v":0},{"$f":"+'A2.Demanda'!L240*365","v":0},{"$f":"+'A2.Demanda'!M240*365","v":0},{"$f":"+'A2.Demanda'!N240*365","v":0},{"$f":"+'A2.Demanda'!O240*365","v":0},{"$f":"+'A2.Demanda'!P240*365","v":0},{"$f":"+'A2.Demanda'!Q240*365","v":0},{"$f":"+'A2.Demanda'!R240*365","v":0},{"$f":"+'A2.Demanda'!S240*365","v":0},{"$f":"+'A2.Demanda'!T240*365","v":0},{"$f":"+'A2.Demanda'!U240*365","v":0},{"$f":"+'A2.Demanda'!V240*365","v":0},{"$f":"+'A2.Demanda'!W240*365","v":0},null,null,null,null,{"$f":"IF(K6=AB15,2,3)","v":3}]
[null,"Bus 2E",{"$f":"+'A2.Demanda'!C241*365","v":0},{"$f":"+'A2.Demanda'!D241*365","v":0},{"$f":"+'A2.Demanda'!E241*365","v":0},{"$f":"+'A2.Demanda'!F241*365","v":0},{"$f":"+'A2.Demanda'!G241*365","v":0},{"$f":"+'A2.Demanda'!H241*365","v":0},{"$f":"+'A2.Demanda'!I241*365","v":0},{"$f":"+'A2.Demanda'!J241*365","v":0},{"$f":"+'A2.Demanda'!K241*365","v":0},{"$f":"+'A2.Demanda'!L241*365","v":0},{"$f":"+'A2.Demanda'!M241*365","v":0},{"$f":"+'A2.Demanda'!N241*365","v":0},{"$f":"+'A2.Demanda'!O241*365","v":0},{"$f":"+'A2.Demanda'!P241*365","v":0},{"$f":"+'A2.Demanda'!Q241*365","v":0},{"$f":"+'A2.Demanda'!R241*365","v":0},{"$f":"+'A2.Demanda'!S241*365","v":0},{"$f":"+'A2.Demanda'!T241*365","v":0},{"$f":"+'A2.Demanda'!U241*365","v":0},{"$f":"+'A2.Demanda'!V241*365","v":0},{"$f":"+'A2.Demanda'!W241*365","v":0},null,null,null,null,"Flexible","Rígido"]
[null,"Bus 3E",{"$f":"+'A2.Demanda'!C242*365","v":0},{"$f":"+'A2.Demanda'!D242*365","v":0},{"$f":"+'A2.Demanda'!E242*365","v":0},{"$f":"+'A2.Demanda'!F242*365","v":0},{"$f":"+'A2.Demanda'!G242*365","v":0},{"$f":"+'A2.Demanda'!H242*365","v":0},{"$f":"+'A2.Demanda'!I242*365","v":0},{"$f":"+'A2.Demanda'!J242*365","v":0},{"$f":"+'A2.Demanda'!K242*365","v":0},{"$f":"+'A2.Demanda'!L242*365","v":0},{"$f":"+'A2.Demanda'!M242*365","v":0},{"$f":"+'A2.Demanda'!N242*365","v":0},{"$f":"+'A2.Demanda'!O242*365","v":0},{"$f":"+'A2.Demanda'!P242*365","v":0},{"$f":"+'A2.Demanda'!Q242*365","v":0},{"$f":"+'A2.Demanda'!R242*365","v":0},{"$f":"+'A2.Demanda'!S242*365","v":0},{"$f":"+'A2.Demanda'!T242*365","v":0},{"$f":"+'A2.Demanda'!U242*365","v":0},{"$f":"+'A2.Demanda'!V242*365","v":0},{"$f":"+'A2.Demanda'!W242*365","v":0},null,null,null,"Automovil",1E-3,1E-3]
[null,"Bus 4E",{"$f":"+'A2.Demanda'!C243*365","v":0},{"$f":"+'A2.Demanda'!D243*365","v":0},{"$f":"+'A2.Demanda'!E243*365","v":0},{"$f":"+'A2.Demanda'!F243*365","v":0},{"$f":"+'A2.Demanda'!G243*365","v":0},{"$f":"+'A2.Demanda'!H243*365","v":0},{"$f":"+'A2.Demanda'!I243*365","v":0},{"$f":"+'A2.Demanda'!J243*365","v":0},{"$f":"+'A2.Demanda'!K243*365","v":0},{"$f":"+'A2.Demanda'!L243*365","v":0},{"$f":"+'A2.Demanda'!M243*365","v":0},{"$f":"+'A2.Demanda'!N243*365","v":0},{"$f":"+'A2.Demanda'!O243*365","v":0},{"$f":"+'A2.Demanda'!P243*365","v":0},{"$f":"+'A2.Demanda'!Q243*365","v":0},{"$f":"+'A2.Demanda'!R243*365","v":0},{"$f":"+'A2.Demanda'!S243*365","v":0},{"$f":"+'A2.Demanda'!T243*365","v":0},{"$f":"+'A2.Demanda'!U243*365","v":0},{"$f":"+'A2.Demanda'!V243*365","v":0},{"$f":"+'A2.Demanda'!W243*365","v":0},null,null,null,"Station Wagon",1E-3,1E-3]
[null,"Camión 2E",{"$f":"+'A2.Demanda'!C244*365","v":0},{"$f":"+'A2.Demanda'!D244*365","v":0},{"$f":"+'A2.Demanda'!E244*365","v":0},{"$f":"+'A2.Demanda'!F244*365","v":0},{"$f":"+'A2.Demanda'!G244*365","v":0},{"$f":"+'A2.Demanda'!H244*365","v":0},{"$f":"+'A2.Demanda'!I244*365","v":0},{"$f":"+'A2.Demanda'!J244*365","v":0},{"$f":"+'A2.Demanda'!K244*365","v":0},{"$f":"+'A2.Demanda'!L244*365","v":0},{"$f":"+'A2.Demanda'!M244*365","v":0},{"$f":"+'A2.Demanda'!N244*365","v":0},{"$f":"+'A2.Demanda'!O244*365","v":0},{"$f":"+'A2.Demanda'!P244*365","v":0},{"$f":"+'A2.Demanda'!Q244*365","v":0},{"$f":"+'A2.Demanda'!R244*365","v":0},{"$f":"+'A2.Demanda'!S244*365","v":0},{"$f":"+'A2.Demanda'!T244*365","v":0},{"$f":"+'A2.Demanda'!U244*365","v":0},{"$f":"+'A2.Demanda'!V244*365","v":0},{"$f":"+'A2.Demanda'!W244*365","v":0},null,null,null,"Camioneta (Pickup/Panel)",{"$f":"+AB17","v":1E-3},1E-3]
[null,"Camión 3E",{"$f":"+'A2.Demanda'!C245*365","v":0},{"$f":"+'A2.Demanda'!D245*365","v":0},{"$f":"+'A2.Demanda'!E245*365","v":0},{"$f":"+'A2.Demanda'!F245*365","v":0},{"$f":"+'A2.Demanda'!G245*365","v":0},{"$f":"+'A2.Demanda'!H245*365","v":0},{"$f":"+'A2.Demanda'!I245*365","v":0},{"$f":"+'A2.Demanda'!J245*365","v":0},{"$f":"+'A2.Demanda'!K245*365","v":0},{"$f":"+'A2.Demanda'!L245*365","v":0},{"$f":"+'A2.Demanda'!M245*365","v":0},{"$f":"+'A2.Demanda'!N245*365","v":0},{"$f":"+'A2.Demanda'!O245*365","v":0},{"$f":"+'A2.Demanda'!P245*365","v":0},{"$f":"+'A2.Demanda'!Q245*365","v":0},{"$f":"+'A2.Demanda'!R245*365","v":0},{"$f":"+'A2.Demanda'!S245*365","v":0},{"$f":"+'A2.Demanda'!T245*365","v":0},{"$f":"+'A2.Demanda'!U245*365","v":0},{"$f":"+'A2.Demanda'!V245*365","v":0},{"$f":"+'A2.Demanda'!W245*365","v":0},null,null,null,"C.Rural (Combi)",0.1,1.1000000000000001]
[null,"Camión 4E",{"$f":"+'A2.Demanda'!C246*365","v":0},{"$f":"+'A2.Demanda'!D246*365","v":0},{"$f":"+'A2.Demanda'!E246*365","v":0},{"$f":"+'A2.Demanda'!F246*365","v":0},{"$f":"+'A2.Demanda'!G246*365","v":0},{"$f":"+'A2.Demanda'!H246*365","v":0},{"$f":"+'A2.Demanda'!I246*365","v":0},{"$f":"+'A2.Demanda'!J246*365","v":0},{"$f":"+'A2.Demanda'!K246*365","v":0},{"$f":"+'A2.Demanda'!L246*365","v":0},{"$f":"+'A2.Demanda'!M246*365","v":0},{"$f":"+'A2.Demanda'!N246*365","v":0},{"$f":"+'A2.Demanda'!O246*365","v":0},{"$f":"+'A2.Demanda'!P246*365","v":0},{"$f":"+'A2.Demanda'!Q246*365","v":0},{"$f":"+'A2.Demanda'!R246*365","v":0},{"$f":"+'A2.Demanda'!S246*365","v":0},{"$f":"+'A2.Demanda'!T246*365","v":0},{"$f":"+'A2.Demanda'!U246*365","v":0},{"$f":"+'A2.Demanda'!V246*365","v":0},{"$f":"+'A2.Demanda'!W246*365","v":0},null,null,null,"Micro",4.5039999999999996,4.6076604507803918]
[null,"Semitrayler (T2S1 / T2S2)",{"$f":"+'A2.Demanda'!C247*365","v":0},{"$f":"+'A2.Demanda'!D247*365","v":0},{"$f":"+'A2.Demanda'!E247*365","v":0},{"$f":"+'A2.Demanda'!F247*365","v":0},{"$f":"+'A2.Demanda'!G247*365","v":0},{"$f":"+'A2.Demanda'!H247*365","v":0},{"$f":"+'A2.Demanda'!I247*365","v":0},{"$f":"+'A2.Demanda'!J247*365","v":0},{"$f":"+'A2.Demanda'!K247*365","v":0},{"$f":"+'A2.Demanda'!L247*365","v":0},{"$f":"+'A2.Demanda'!M247*365","v":0},{"$f":"+'A2.Demanda'!N247*365","v":0},{"$f":"+'A2.Demanda'!O247*365","v":0},{"$f":"+'A2.Demanda'!P247*365","v":0},{"$f":"+'A2.Demanda'!Q247*365","v":0},{"$f":"+'A2.Demanda'!R247*365","v":0},{"$f":"+'A2.Demanda'!S247*365","v":0},{"$f":"+'A2.Demanda'!T247*365","v":0},{"$f":"+'A2.Demanda'!U247*365","v":0},{"$f":"+'A2.Demanda'!V247*365","v":0},{"$f":"+'A2.Demanda'!W247*365","v":0},null,null,null,"Bus 2E",4.5039999999999996,4.6076604507803918]
[null,"Semitrayler (T2S3)",{"$f":"+'A2.Demanda'!C248*365","v":0},{"$f":"+'A2.Demanda'!D248*365","v":0},{"$f":"+'A2.Demanda'!E248*365","v":0},{"$f":"+'A2.Demanda'!F248*365","v":0},{"$f":"+'A2.Demanda'!G248*365","v":0},{"$f":"+'A2.Demanda'!H248*365","v":0},{"$f":"+'A2.Demanda'!I248*365","v":0},{"$f":"+'A2.Demanda'!J248*365","v":0},{"$f":"+'A2.Demanda'!K248*365","v":0},{"$f":"+'A2.Demanda'!L248*365","v":0},{"$f":"+'A2.Demanda'!M248*365","v":0},{"$f":"+'A2.Demanda'!N248*365","v":0},{"$f":"+'A2.Demanda'!O248*365","v":0},{"$f":"+'A2.Demanda'!P248*365","v":0},{"$f":"+'A2.Demanda'!Q248*365","v":0},{"$f":"+'A2.Demanda'!R248*365","v":0},{"$f":"+'A2.Demanda'!S248*365","v":0},{"$f":"+'A2.Demanda'!T248*365","v":0},{"$f":"+'A2.Demanda'!U248*365","v":0},{"$f":"+'A2.Demanda'!V248*365","v":0},{"$f":"+'A2.Demanda'!W248*365","v":0},null,null,null,"Bus 3E",3.2850000000000001,4.7308385890541791]
[null,"Semitrayler (T3S1 / T3S2)",{"$f":"+'A2.Demanda'!C249*365","v":0},{"$f":"+'A2.Demanda'!D249*365","v":0},{"$f":"+'A2.Demanda'!E249*365","v":0},{"$f":"+'A2.Demanda'!F249*365","v":0},{"$f":"+'A2.Demanda'!G249*365","v":0},{"$f":"+'A2.Demanda'!H249*365","v":0},{"$f":"+'A2.Demanda'!I249*365","v":0},{"$f":"+'A2.Demanda'!J249*365","v":0},{"$f":"+'A2.Demanda'!K249*365","v":0},{"$f":"+'A2.Demanda'!L249*365","v":0},{"$f":"+'A2.Demanda'!M249*365","v":0},{"$f":"+'A2.Demanda'!N249*365","v":0},{"$f":"+'A2.Demanda'!O249*365","v":0},{"$f":"+'A2.Demanda'!P249*365","v":0},{"$f":"+'A2.Demanda'!Q249*365","v":0},{"$f":"+'A2.Demanda'!R249*365","v":0},{"$f":"+'A2.Demanda'!S249*365","v":0},{"$f":"+'A2.Demanda'!T249*365","v":0},{"$f":"+'A2.Demanda'!U249*365","v":0},{"$f":"+'A2.Demanda'!V249*365","v":0},{"$f":"+'A2.Demanda'!W249*365","v":0},null,null,null,"Bus 4E",2.774,4.9581863207401931]
[null,"Semitrayler (T3S3)",{"$f":"+'A2.Demanda'!C250*365","v":0},{"$f":"+'A2.Demanda'!D250*365","v":0},{"$f":"+'A2.Demanda'!E250*365","v":0},{"$f":"+'A2.Demanda'!F250*365","v":0},{"$f":"+'A2.Demanda'!G250*365","v":0},{"$f":"+'A2.Demanda'!H250*365","v":0},{"$f":"+'A2.Demanda'!I250*365","v":0},{"$f":"+'A2.Demanda'!J250*365","v":0},{"$f":"+'A2.Demanda'!K250*365","v":0},{"$f":"+'A2.Demanda'!L250*365","v":0},{"$f":"+'A2.Demanda'!M250*365","v":0},{"$f":"+'A2.Demanda'!N250*365","v":0},{"$f":"+'A2.Demanda'!O250*365","v":0},{"$f":"+'A2.Demanda'!P250*365","v":0},{"$f":"+'A2.Demanda'!Q250*365","v":0},{"$f":"+'A2.Demanda'!R250*365","v":0},{"$f":"+'A2.Demanda'!S250*365","v":0},{"$f":"+'A2.Demanda'!T250*365","v":0},{"$f":"+'A2.Demanda'!U250*365","v":0},{"$f":"+'A2.Demanda'!V250*365","v":0},{"$f":"+'A2.Demanda'!W250*365","v":0},null,null,null,"Camión 2E",4.5039999999999996,4.6076604507803918]
[null,"Trayler (C2R2)",{"$f":"+'A2.Demanda'!C251*365","v":0},{"$f":"+'A2.Demanda'!D251*365","v":0},{"$f":"+'A2.Demanda'!E251*365","v":0},{"$f":"+'A2.Demanda'!F251*365","v":0},{"$f":"+'A2.Demanda'!G251*365","v":0},{"$f":"+'A2.Demanda'!H251*365","v":0},{"$f":"+'A2.Demanda'!I251*365","v":0},{"$f":"+'A2.Demanda'!J251*365","v":0},{"$f":"+'A2.Demanda'!K251*365","v":0},{"$f":"+'A2.Demanda'!L251*365","v":0},{"$f":"+'A2.Demanda'!M251*365","v":0},{"$f":"+'A2.Demanda'!N251*365","v":0},{"$f":"+'A2.Demanda'!O251*365","v":0},{"$f":"+'A2.Demanda'!P251*365","v":0},{"$f":"+'A2.Demanda'!Q251*365","v":0},{"$f":"+'A2.Demanda'!R251*365","v":0},{"$f":"+'A2.Demanda'!S251*365","v":0},{"$f":"+'A2.Demanda'!T251*365","v":0},{"$f":"+'A2.Demanda'!U251*365","v":0},{"$f":"+'A2.Demanda'!V251*365","v":0},{"$f":"+'A2.Demanda'!W251*365","v":0},null,null,null,"Camión 3E",3.2850000000000001,4.7308385890541791]
[null,"Trayler (C2R3)",{"$f":"+'A2.Demanda'!C252*365","v":0},{"$f":"+'A2.Demanda'!D252*365","v":0},{"$f":"+'A2.Demanda'!E252*365","v":0},{"$f":"+'A2.Demanda'!F252*365","v":0},{"$f":"+'A2.Demanda'!G252*365","v":0},{"$f":"+'A2.Demanda'!H252*365","v":0},{"$f":"+'A2.Demanda'!I252*365","v":0},{"$f":"+'A2.Demanda'!J252*365","v":0},{"$f":"+'A2.Demanda'!K252*365","v":0},{"$f":"+'A2.Demanda'!L252*365","v":0},{"$f":"+'A2.Demanda'!M252*365","v":0},{"$f":"+'A2.Demanda'!N252*365","v":0},{"$f":"+'A2.Demanda'!O252*365","v":0},{"$f":"+'A2.Demanda'!P252*365","v":0},{"$f":"+'A2.Demanda'!Q252*365","v":0},{"$f":"+'A2.Demanda'!R252*365","v":0},{"$f":"+'A2.Demanda'!S252*365","v":0},{"$f":"+'A2.Demanda'!T252*365","v":0},{"$f":"+'A2.Demanda'!U252*365","v":0},{"$f":"+'A2.Demanda'!V252*365","v":0},{"$f":"+'A2.Demanda'!W252*365","v":0},null,null,null,"Camión 4E",2.774,4.9581863207401931]
[null,"Trayler (C3R2)",{"$f":"+'A2.Demanda'!C253*365","v":0},{"$f":"+'A2.Demanda'!D253*365","v":0},{"$f":"+'A2.Demanda'!E253*365","v":0},{"$f":"+'A2.Demanda'!F253*365","v":0},{"$f":"+'A2.Demanda'!G253*365","v":0},{"$f":"+'A2.Demanda'!H253*365","v":0},{"$f":"+'A2.Demanda'!I253*365","v":0},{"$f":"+'A2.Demanda'!J253*365","v":0},{"$f":"+'A2.Demanda'!K253*365","v":0},{"$f":"+'A2.Demanda'!L253*365","v":0},{"$f":"+'A2.Demanda'!M253*365","v":0},{"$f":"+'A2.Demanda'!N253*365","v":0},{"$f":"+'A2.Demanda'!O253*365","v":0},{"$f":"+'A2.Demanda'!P253*365","v":0},{"$f":"+'A2.Demanda'!Q253*365","v":0},{"$f":"+'A2.Demanda'!R253*365","v":0},{"$f":"+'A2.Demanda'!S253*365","v":0},{"$f":"+'A2.Demanda'!T253*365","v":0},{"$f":"+'A2.Demanda'!U253*365","v":0},{"$f":"+'A2.Demanda'!V253*365","v":0},{"$f":"+'A2.Demanda'!W253*365","v":0},null,null,null,"Semitrayler (T2S1 / T2S2)",6.5228671631330934,8.0656648620831692]
[null,"Trayler (C3R3)",{"$f":"+'A2.Demanda'!C254*365","v":0},{"$f":"+'A2.Demanda'!D254*365","v":0},{"$f":"+'A2.Demanda'!E254*365","v":0},{"$f":"+'A2.Demanda'!F254*365","v":0},{"$f":"+'A2.Demanda'!G254*365","v":0},{"$f":"+'A2.Demanda'!H254*365","v":0},{"$f":"+'A2.Demanda'!I254*365","v":0},{"$f":"+'A2.Demanda'!J254*365","v":0},{"$f":"+'A2.Demanda'!K254*365","v":0},{"$f":"+'A2.Demanda'!L254*365","v":0},{"$f":"+'A2.Demanda'!M254*365","v":0},{"$f":"+'A2.Demanda'!N254*365","v":0},{"$f":"+'A2.Demanda'!O254*365","v":0},{"$f":"+'A2.Demanda'!P254*365","v":0},{"$f":"+'A2.Demanda'!Q254*365","v":0},{"$f":"+'A2.Demanda'!R254*365","v":0},{"$f":"+'A2.Demanda'!S254*365","v":0},{"$f":"+'A2.Demanda'!T254*365","v":0},{"$f":"+'A2.Demanda'!U254*365","v":0},{"$f":"+'A2.Demanda'!V254*365","v":0},{"$f":"+'A2.Demanda'!W254*365","v":0},null,null,null,"Semitrayler (T2S3)",6.2096799575202422,8.7725917294142945]
[null,null,null,null,null,null,null,null,null,null,null,null,null,null,null,null,null,null,null,null,null,null,null,null,null,null,"Semitrayler (T3S1 / T3S2)",5.3037936564045527,8.1888430003569557]
[null,"2.4 EJES EQUIVALENTES",null,null,null,null,null,null,null,null,null,null,null,null,null,null,null,null,null,null,null,null,null,null,null,null,"Semitrayler (T3S3)",4.9906064507917023,8.895769867688081]
[null,"Tipo de Vehículo","Factor Equivalencia","FC","FD","Factor de Presión Neumático","Ejes Equivalente",null,null,null,null,null,null,null,null,null,null,null,null,null,null,null,null,null,null,null,"Trayler (C2R2)",10.980227630436149,11.27731299683837]
[null,"Automovil",{"$f":"VLOOKUP($B32,$AA$16:$AC$34,$AB$14,0)","v":1E-3},{"$f":"+C6","v":0.5},{"$f":"+F6","v":1},1,{"$f":"+C32*D32*E32*F32*SUM(D10:W10)","v":0},null,null,null,null,null,null,null,null,null,null,null,null,null,null,null,null,null,null,null,"Trayler (C2R3)",9.7611541237076089,11.400491135112159]
[null,"Station Wagon",1E-3,{"$f":"+D32","v":0.5},{"$f":"+E32","v":1},1,{"$f":"+C33*D33*E33*F33*SUM(D11:W11)","v":0},null,null,null,null,null,null,null,null,null,null,null,null,null,null,null,null,null,null,null,"Trayler (C3R2)",9.7611541237076089,11.400491135112159]
[null,"Camioneta (Pickup/Panel)",1E-3,{"$f":"+D33","v":0.5},{"$f":"+E33","v":1},1,0,null,null,null,null,null,null,null,null,null,null,null,null,null,null,null,null,null,null,null,"Trayler (C3R3)",8.5420806169790673,11.523669273385947]
[null,"C.Rural (Combi)",1.1000000000000001,0.5,1,1,0]
[null,"Micro",4.6076604507803918,0.5,1,1,0]
[null,"Bus 2E",4.6076604507803918,0.5,1,1.1000000000000001,0]
[null,"Bus 3E",4.7308385890541791,0.5,1,1.1000000000000001,0]
[null,"Bus 4E",4.9581863207401931,0.5,1,1.1000000000000001,0]
[null,"Camión 2E",4.6076604507803918,0.5,1,1.1000000000000001,0]
[null,"Camión 3E",4.7308385890541791,0.5,1,1.1000000000000001,0]
[null,"Camión 4E",4.9581863207401931,0.5,1,1.1000000000000001,0]
[null,"Semitrayler (T2S1 / T2S2)",8.0656648620831692,0.5,1,1.1000000000000001,0]
[null,"Semitrayler (T2S3)",8.7725917294142945,0.5,1,1.1000000000000001,0]
[null,"Semitrayler (T3S1 / T3S2)",8.1888430003569557,0.5,1,1.1000000000000001,0]
[null,"Semitrayler (T3S3)",8.895769867688081,0.5,1,1.1000000000000001,0]
[null,"Trayler (C2R2)",11.27731299683837,0.5,1,1.1000000000000001,0]
[null,"Trayler (C2R3)",11.400491135112159,0.5,1,1.1000000000000001,0]
[null,"Trayler (C3R2)",11.400491135112159,0.5,1,1.1000000000000001,0]
[null,"Trayler (C3R3)",11.523669273385947,0.5,1,1.1000000000000001,0]
[null,null,null,null,null,"E.E totales",{"$f":"SUM(G32:G50)","v":0}]
[]
[]
[null,"NOTA: USAR ESTA HOJA POR TRAMO DE VÍA "]

{"sheet":"A3.Factor de Correc","index":4,"n_rows":84,"n_cols":44,"rows_kept":84,"cut":false,"hidden":false,"merged":[[0,43,0,44],[0,29,0,30],[1,1,3,1],[1,2,3,2],[1,16,3,16],[1,17,3,17],[0,1,0,13],[0,16,0,28]]}
[null,"Factores de corrección de vehículos ligeros por unidad de peaje - Promedio (2010-2020)",null,null,null,null,null,null,null,null,null,null,null,null,null,"HOJA A4. CF - Liviano","Factores de corrección de vehículos pesados por unidad de peaje - Promedio (2010-2020)",null,null,null,null,null,null,null,null,null,null,null,null,"HOJA A4. CF - Pesado",null,null,null,null,null,null,null,null,null,null,null,null,null,"HOJA A4. CF - Mapa"]
[null,"Nº ","Peaje","Enero","Febrero","Marzo","Abril","Mayo","Junio","Julio","Agosto","Setiembre","Octubre","Noviembre","Diciembre","Total","Nº ","Peaje","Enero","Febrero","Marzo","Abril","Mayo","Junio","Julio","Agosto","Setiembre","Octubre","Noviembre","Diciembre","Total"]
[null,null,null,"Ligeros","Ligeros","Ligeros","Ligeros","Ligeros","Ligeros","Ligeros","Ligeros","Ligeros","Ligeros","Ligeros","Ligeros","Ligeros",null,null,"Pesados","Pesados","Pesados","Pesados","Pesados","Pesados","Pesados","Pesados","Pesados","Pesados","Pesados","Pesados","Pesados"]
[null,null,null,"FC","FC","FC","FC","FC","FC","FC","FC","FC","FC","FC","FC","FC",null,null,"FC","FC","FC","FC","FC","FC","FC","FC","FC","FC","FC","FC","FC"]
[null,1,"AGUAS CALIENTES",0.93618625300565095,0.86258914872054993,1.0849509079898945,1.0925065947251129,1.1626499664549714,1.175848985416859,0.95082298327371995,0.88459988442146797,0.94546039922391989,1.0417637111573876,1.0414203997181626,0.98986272741355941,1,1,"AGUAS CALIENTES",1.0220052640921429,0.9807681710745404,1.0324404767198831,1.0652810229595584,1.0696543023438561,1.1027516493779941,0.96783529704210502,0.95545295841180788,0.96821327241312438,0.95304807930067392,0.95994762465134309,1.0098465207944587,1]
[null,2,"AGUAS CLARAS",1.0019762807251456,1.0566828909016164,1.10359563677749,1.0591837027694628,1.0094591201855829,1.0030290679264131,0.89434810194832304,0.90754166105827194,1.0127552178397978,1.0209371640238198,1.0748572504118823,0.92826517444957668,1,2,"AGUAS CLARAS",1.0412228898345639,1.0049275430802311,1.0247820150605873,1.0106569410180108,0.99054419052092135,0.98229378768800601,0.99169770787136768,0.9522966887513894,0.97675963004296995,1.0070250077955372,1.0080410000945996,1.0344403167648066,1]
[null,3,"AMBO",0.97802256022284872,1.0546225315818649,1.1876826086961725,1.2769746103579169,1.0178889118969479,1.0277651056028176,0.96609996912689022,0.95413985700551185,1.0045242543336397,0.9693427330664246,0.98456809460249206,0.86148016534407945,1,3,"AMBO",1.0086861869639627,0.97065486363781217,1.1287686054268411,1.2086456862953863,1.013918590081367,1.0238305490569712,1.0267763784212656,1.0086174688784946,0.98994480563977094,0.9453364835875101,0.94012832371437849,0.94967357677257214,1]
[null,4,"ATICO",0.85538886118364021,0.7148303243394909,1.0359912895936223,1.0139321536907291,1.1484177195772884,1.1781069224479459,0.99650957285579189,0.98768198526318662,1.1393876314946871,1.0734258957989393,1.1453035054320209,0.88308566450404746,1,4,"ATICO",1.0337363154484356,0.9913981463393946,1.0298047502617069,1.0409818556654653,1.0342374491709598,1.030215511291438,1.0276562555591859,0.9850920132697385,1.0264951662406969,0.96183720241899195,0.92713112677655252,0.94403910640195354,1]
[null,5,"AYAVIRI",0.97215149487749697,0.92440560731921984,1.0735376976178814,1.0772717799005049,1.109762946985442,1.1035090475157079,0.94688844114068893,0.92724244639734665,0.93762141607887084,1.0490962887031641,1.0215338763815571,0.96030500404890895,1,5,"AYAVIRI",1.0167042537517379,1.0037984829440465,1.0707629456789831,1.0573017405611764,1.04862360826137,1.0365757917514722,0.96652957899320824,0.95244482499250105,0.95014705517792009,0.96383209426135985,0.96007763948412572,1.0006903376640133,1]
[null,6,"CAMANA",0.59579213330890424,0.49909798030887814,1.04339957855122,1.24329729802795,1.3824988899798218,1.4071049560917035,1.2562284253154954,1.2199743752068597,1.301768815500435,1.2559135851140359,1.2199018616473807,0.97240991599700544,1,6,"CAMANA",0.95126833656661569,0.89729025762887227,1.0392338860661754,1.0647965581510013,1.0701572147233209,1.0904888558177153,1.1087112590452068,0.99140532266775871,0.9996882621763904,0.99046657441976038,0.97083122586137094,0.96239712441423864,1]
[null,7,"CANCAS",0.86187934313243664,0.86377737494839879,1.0754517232684462,1.1156375477904277,1.1769241139888815,1.2257249850467191,0.97332849566996438,0.90395337604003778,1.0565007754220024,1.0323004439825489,1.0283626652224049,0.88967817793469883,1,7,"CANCAS",1.0323394339368779,0.98253934000240029,1.040039582903147,1.0411621060260869,1.0603733896032232,1.0476070467445346,1.01173580139629,0.97950880459346168,1.0006476811922711,0.95496220702944634,0.94614723845500437,0.94914427979827309,1]
[null,8,"CARACOTO",1.0516650630480786,0.98148907212217529,1.0977620902405449,1.0548224666325983,1.0539606332360969,1.0469164178778581,0.99142916703966066,0.87856933800993886,0.99621211902873341,0.99202843807764252,0.99773840849639639,0.89071583984570091,1,8,"CARACOTO",1.0343155662618166,1.0013291436871483,1.0776964088431207,1.0346330670206072,1.0568160456764495,1.044079980521059,0.98981144117060205,0.92971879896714626,0.95720947502762854,0.94814032576100549,1.0071168251318274,0.9546662249954414,1]
[null,9,"CASARACRA",1.1057213219148152,1.1747052104410178,1.2363317281763528,1.0139468026228544,0.93121461613352663,1.0286611772580148,0.84146764588649792,0.8824755546582197,1.0603413710070191,0.99297230295310912,1.1249645032026185,0.97751972978176271,1,9,"CASARACRA",1.0935636902133412,1.0670270903493468,1.109417059058017,0.98262827971578026,0.99036225433358083,0.99002010829771969,0.99690227540311582,0.96996482308499232,0.97595725904671327,0.95478718081299319,1.0373188608092605,1.0651705692409201,1]
[null,10,"CATAC",1.0956419370173742,1.0574986312082668,1.3545196316846146,1.0628202972100296,1.076199545749138,1.076747260881366,0.82197244405979542,0.86836985323662663,0.95946378510306851,0.94935771113085832,1.1134306606050481,0.95585690882787344,1,10,"CATAC",1.0440907001971744,1.0677746843526335,1.1999211509284249,1.077188854407918,1.1736161431602925,0.95527867719971471,0.94462015783532516,0.92525020142991188,0.95656557899489003,0.9547116596775409,0.98095511661089385,0.96343379987747158,1]
[null,11,"CCASACANCHA",1.0047188530965978,1.040790711970254,1.0823956378490165,1.0547762028197825,1.0801822348413856,1.0837031531920704,0.97669332349311455,0.94264050257748,0.90811781892036447,0.99607075541478951,0.97563005986053153,0.92535762473451999,1,11,"CCASACANCHA",1.0968464451377582,1.0852340070391222,1.0957199246726192,1.0809263573417236,1.0239488731463213,0.99672820529617523,0.93860669056907808,0.95246636454423295,0.95548697309196673,0.95602059050593824,0.93316582913751889,0.95661832205777897,1]
[null,12,"CHACAPAMPA",1.0445791910516717,0.96606844010228698,0.91775224168116909,1.0174466218060727,1.0404616425468487,1.125664163277974,0.95497866253384533,0.9887567475564224,1.0378180743692764,1.0110509076776337,1.1304759047965898,1.0215190956541642,1,12,"CHACAPAMPA",1.103125086614158,0.99976271378772719,0.96553284211568469,0.9941401678144246,1.0102073819035127,1.0186165770048297,1.0155269243045835,1.0051290266175659,0.9766731695106502,0.95562819277183375,0.97064444867740252,1.060132429632652,1]
[null,13,"CHALHUAPUQUIO",1.16705099069494,1.2011865699139106,1.1908655181185666,1.0566175651792975,1.0146187282923558,1.044161823963049,0.79249346312684565,0.83456321422839608,1.019750493332205,0.97250172901250431,1.0258822627836477,0.93190491464041136,1,13,"CHALHUAPUQUIO",1.0679805973232135,1.0692061949875113,1.0807259984410498,1.0683375505080739,1.0506847264465149,0.99328194962518479,0.94680330060928397,0.9321363794306422,0.95649554948382098,0.94632048590000117,0.9497421357445166,0.99394479126895796,1]
[null,14,"CHICAMA",0.9671479713677168,0.941372654349379,1.1129608309336037,1.0394282300750359,1.0773223190249577,1.0585093932169762,0.95544046554643236,1.008005203814196,1.0731199305124097,1.0420457098742684,1.0519862024354747,0.82493442669119366,1,14,"CHICAMA",0.99086017663777703,0.9873869370223276,1.0928028971586043,1.0707937010065558,1.054278359195618,1.0572619097079736,1.0423340151291731,0.99332863940675276,1.0013233480784427,0.99458859151237944,0.95101061648894891,0.87986892390640326,1]
[null,15,"CHILCA",0.61629650938446234,0.58140952090384346,0.78900150776211864,1.057702920650937,1.5273142887599025,1.579573039325622,1.2842210987013885,1.4015459451748586,1.4832701827274508,1.255421839354731,1.1876350970757386,0.74004790568931744,1,15,"CHILCA",0.95711900462778976,0.9724344517696133,1.0202990844105113,1.0381366382460522,1.0583368583511894,1.0538838527732262,1.0372064782738273,0.99481594907308546,0.9992430411727502,0.98797282398006026,0.96516701082664957,0.93960385589044448,1]
[null,16,"CHULLQUI",1.0427549564995169,1.0727937428907102,1.0509089323647525,1.0162921127809057,1.0500216361992614,0.94070482135192879,0.98319565965645472,0.93164110358851338,0.99152667813428808,0.92067624536796611,1.2832032950245997,0.88287583515493628,1,16,"CHULLQUI",0.95705294191851698,0.96581729597937782,1.0534055156843229,1.07763215591192,1.0809166591288075,1.0401664914964801,1.0171386129851061,0.98650273460818083,0.97314627470442827,0.91689754891298925,1.2399626792455847,0.92572227840212851,1]
[null,17,"CHULUCANAS",1.0135251881443808,1.0695107502250516,1.1797700593738913,1.1500561880158224,1.0679272779479765,1.0397762002964481,0.97514284957630715,0.91269211299596931,0.97790708800987347,0.94738544434359306,0.91190807533348561,0.86815567768109081,1,17,"CHULUCANAS",0.98838618383904508,0.968187540058425,1.1388118052906711,1.1641316509376691,1.0932533992708025,1.0508137595978941,1.0256420147249128,0.96793138451421123,0.96284943786778832,0.92046503349297659,0.89429403341340807,0.92202298725674448,1]
[null,18,"CIUDAD DE DIOS",1.4831522458903998,0.90711473519176278,1.1711235734824754,1.0697866466637689,1.0026539874436324,1.0245147305509779,0.90307044465083341,0.91229304165442804,1.0735048609604148,1.0005508693785261,1.2020615685650238,0.89869119135774478,1,18,"CIUDAD DE DIOS",1.4396508391863176,0.93829424378875403,1.1026422104462568,0.99664894923154279,0.96368763550863978,1.0341800213747849,1.0428136253075442,1.0260598068339508,1.0413800211396289,0.98410202885331266,0.99302538960756137,0.96491940945609012,1]
[null,19,"CORCONA",1.1023664848838388,1.1640632384264062,1.3033440889595811,1.0334972691589479,0.97673269951299291,1.041075545644097,0.77670023394367893,0.87550706311045579,1.014229112129156,1.0034739621886377,1.1662532060570805,1.0000670353680172,1,19,"CORCONA",1.0985133063924084,1.0709480883984985,1.11235443688282,0.95926099032139256,0.96738301693030471,0.98401704080043728,0.98163051531755618,0.96266872327782194,0.98043314169465079,0.97665695689460363,1.0641477203393446,1.0860744349488023,1]
[null,20,"CRUCE BAYOVAR",0.87339606346628784,0.88550968278860887,1.1136417219097949,1.1087475208122382,1.14700637744876,1.1827920429840346,0.86410658919006278,0.97834579248728615,1.146943504833021,1.002364479626233,1.0777355106343449,0.77151416327649236,1,20,"CRUCE BAYOVAR",0.98450171907187012,0.96062299828929143,1.058444176766651,1.065455221272934,1.0311360204636806,1.0360632131692085,1.0156523194880549,0.98209404321982874,1.0166970478152864,0.97742466701513542,0.9230843942752982,0.90280550188726061,1]
[null,21,"CUCULI",0.9947730126169656,1.0345700483751488,1.1594328185768117,1.1179968636489181,1.1059010118536545,0.95733653553172404,0.96518018612019596,0.91847048736788417,0.94748311876235525,0.97190671325921507,0.96473805991333472,0.99550431813231932,1,21,"CUCULI",0.94240433728368578,1.0418528134347866,1.2042524833334398,1.1559825642947239,1.0848442588514571,0.97827885060719544,0.98120223581657839,0.93975878068272722,0.92065428183882736,0.9302192966669709,0.93835493919055879,1.0748927724804827,1]
[null,22,"DESVIO OLMOS",0.94966099059280273,1.0057474890113756,1.1671782741302752,1.1938756428480337,1.1493799606927049,1.0960366267068595,0.941059482339069,0.86814705275687454,0.99654187259731331,0.96175237471090136,1.0119053441530168,0.82219061038360508,1,22,"DESVIO OLMOS",1.0469502625435583,1.0400648016349028,1.0986123311048841,1.0774568211154711,1.0392828745395379,1.017630407426821,0.98978581777113439,0.92173510346734155,0.94053540661042989,0.95785529278616977,0.95001095430477078,0.98171328660962198,1]
[null,23,"DESVIO TALARA",0.87048573051893918,0.88627940371039471,1.1244356714116837,1.0839810946131687,1.1437763238436871,1.1753527989241666,0.99633917247023762,0.98735406131701287,1.1057257223100951,1.0288095012506417,1.0309409796808469,0.81657671560040179,1,23,"DESVIO TALARA",1.006329159504032,0.97215531955912038,1.0418225385933675,1.04054822949268,1.0343276299361175,1.0195863734336534,1.0721193360504222,0.97824648256513491,0.998368827025087,0.97916978639503827,0.96314221590949489,0.95160297284017337,1]
[null,24,"EL FISCAL",0.91089107545967174,0.85486253119949074,1.0606297275461372,1.0601486622370229,1.0691459885166934,1.1259816428674203,0.99580230621589849,0.98530617000221277,1.0749816030983923,1.0662318507604784,1.0647044476751679,0.94793654809655836,1,24,"EL FISCAL",0.98891253207427399,0.93261040270081552,1.0200558906460351,1.0354687171366841,1.0215711220623369,1.0855243197422566,1.0664586971585703,1.0208645842883108,1.0149581555489986,0.97992685721769446,0.96180594820201781,0.98187172986527638,1]
[null,25,"EL PARAISO",0.91347341991057052,0.89843009044607514,1.0431771638726848,0.99741389460356999,1.1183339158413499,1.1529595889217195,0.91408949771340153,0.98109619795662162,1.0964242763569976,1.0383760452800397,1.0935092292379707,0.87467193851901859,1,25,"EL PARAISO",1.0084423184287028,0.98603636355426283,1.060680898831194,1.0470799927960845,1.0249995730835817,1.0153461409866769,1.0104936681678041,0.97883951409419367,0.99731194867811068,0.98005890750535607,0.96253824483195893,0.94294600074763224,1]
[null,26,"FORTALEZA",0.88685348558985311,0.831726857561911,1.0074100794883369,1.0226581214917942,1.1567781470714891,1.1964880222779732,0.89860415395739257,1.011882800873009,1.183739553415974,1.1022111737122853,1.1701502333995786,0.79359172428971214,1,26,"FORTALEZA",0.99377882352709079,0.95603805296645261,1.0154331501505762,1.0346143154370755,1.0384094978191205,1.3018324091695663,1.0249118581746577,0.97426800154920712,0.99481712855799453,0.97885441753142777,0.95394984936912408,0.9355629427381823,1]
[null,27,"HUACRAPUQUIO",1.1193117874156688,1.1570198131588523,1.0648592335483464,1.0486143775117209,1.1504054105521004,0.99513987474221755,0.87049041341839417,0.94871409168770704,0.99446842345201103,0.9710114711221316,1.1528769024551109,0.82702046858185863,1,27,"HUACRAPUQUIO",1.0849955028328053,1.1264326149622688,1.0528725720426007,1.0464591616342078,1.1602817915575812,1.025438382950369,0.9225694811043631,0.97780773853090053,0.92176171992014488,0.90851677454522883,1.1194162415552884,0.93338871565887527,1]
[null,28,"HUARMEY",0.88156386456371316,0.90560725679100884,1.1120432610349704,1.1248647659614841,1.2557380858481899,1.2048170290598526,0.87895251855071066,0.97034838173974747,1.148293758334898,1.0830957069065343,1.1633880128023282,0.79030535880181896,1,28,"HUARMEY",1.045563919645121,1.0252478674974053,1.113247348612153,1.1416359261585034,1.1271643959991162,1.0303327602638506,0.99913595537937228,0.95543806924637442,0.97566117033733335,0.96174657603440439,0.93973748145956115,0.91692802489615421,1]
[null,29,"HUATAYA",null,null,2.3609105506753569,0.95998217913806971,0.87466834636851976,0.87048748421923305,0.75355251058954775,0.75776747006214962,null,0.79311312073615747,0.87883702900219596,0.83525346700083558,1,29,"HUATAYA",null,null,5.1132023844424896,1.3414811738223062,1.056654145967123,1.1183009427570569,0.71063575493351805,0.77299708963051605,null,0.73994032214727146,0.87268063331949008,0.98022443282938987,1]
[null,30,"ICA",0.93096101346435567,0.81811162776461133,1.0513281806151626,1.0460539672033251,1.1641968103111977,1.1856774532765146,0.97409411415849567,1.0246228700439686,1.0993908695630903,1.0311750240746596,1.1911369721321148,1.0336606887470507,1,30,"ICA",0.99112213302248542,0.94925975367671311,1.0440359963042667,1.0282964368444694,1.0669561748280554,1.0747084693517659,1.0593322095609827,0.99067029917206184,0.96315479665523518,0.95232013324363285,1.0103631258142987,1.0031542293769629,1]
[null,31,"ILAVE",1.011078732578611,0.95837057230502465,1.0359983294115476,1.0136229896979529,1.1067274335883459,1.161274054711892,0.96998766155910743,0.78337138465333334,1.0335314884232432,1.0500954146068875,1.1247633305295293,0.98609804972457327,1,31,"ILAVE",1.0136405258890782,0.94704980670278194,0.98219526682977643,5.5822052733209055,1.0244773541212997,1.034618587758477,1.0465858467798368,0.86670001785259121,1.0477299065927388,1.0417142619849442,1.0885093366207128,1.0637944286681802,1]
[null,32,"ILO",0.82753402474933857,0.82165500365813038,1.0111636421499972,1.0813894409223035,1.0776676607365776,1.1219953731128127,1.0988680784342537,1.0556772201912219,0.98536234229072461,1.0497748893474732,1.0302975048206497,0.96298455942899708,1,32,"ILO",1.0476238717171618,1.0168871448245613,1.0589652707898392,0.97662155128776262,0.99921899504134637,1.0419638748847584,1.0372754853224042,1.0283667363760705,0.96685668069829467,0.98021111839624986,0.97281098347373707,0.96245051528041903,1]
[null,33,"JAHUAY - CHINCHA",0.82911254036213233,0.8935852745129288,1.0170493445818189,0.99672280917441625,1.1373164310367434,1.191760033802002,0.9485737960015016,1.0137200639853725,1.1321171170893953,1.0340384781084628,1.0633554858217888,0.92892680329449751,1,33,"JAHUAY - CHINCHA",0.98579485781755827,1.0161603572053464,1.0440580415407237,1.0553532043454239,1.0544392925493713,1.0479556325585109,1.0262124168501678,0.97545118793325569,0.97773965481193748,0.96966003072293516,0.95114984244521006,0.94778883948641812,1]
[null,34,"LOMA LARGA BAJA",1.0231228777534083,1.2771114515469946,1.3670896443065144,1.2847716115041374,1.1407545425221446,1.0368578480155972,0.82668450053326259,0.90635185944393748,0.92470258936835614,0.89246925298076363,0.882578010004481,0.87517097177328229,1,34,"LOMA LARGA BAJA",0.99812673978476785,1.1016245826680782,1.1995259648494376,1.2276184252380216,1.1103044874176979,1.0822618709240368,0.95956349704092725,0.97611569729809977,0.94829557878377146,0.93310764691052683,0.89871931372351299,0.8943664908027209,1]
[null,35,"LUNAHUANA",1.011856843870274,1.0303389718761384,1.0474942283128901,0.95874876445772494,1.0163186750397664,1.1317175302043632,0.82331850664066741,0.936626298111642,1.0987646419486188,0.9949495227964904,1.0779640633737424,1.0637834434649474,1,35,"LUNAHUANA",1.1094987580156621,1.0966583519482349,1.0540702201581176,1.0429785466626835,0.99705582333141074,1.0739026779121976,1.0008558268446235,0.94817099015665995,0.98274218911502131,0.93292280811928363,0.94027067950493248,0.99072766907507437,1]
[null,36,"MACUSANI",1.0465113882682939,0.99904075032604767,1.0338319730868684,1.0944382285905232,1.0979070703258011,1.1081135074996529,0.99258596722939829,0.94930604036753119,1.0252745799159257,0.96515279090283979,1.0158034396749926,0.88793385817436465,1,36,"MACUSANI",1.0895199421437023,1.0801753450852034,1.0668634889903081,1.0219299571299221,1.0755737288584419,1.0208759322218941,1.1741049354569655,0.9352587177629591,0.91785121048377782,0.93864549076767467,0.93899681380371858,0.99827890942903186,1]
[null,37,"MARCONA",0.95249471187536328,0.90392597516109474,0.99524221516024292,1.0105713038711148,1.0910833766874242,1.0595459679914701,1.0345613725851244,1.0232046232763952,1.0372074049096303,1.0290429446130918,0.99893499323313129,0.91105029808159355,1,37,"MARCONA",1.0429675845297086,1.0013215490677001,0.95826867550666017,1.0296865033131044,1.1133982228987866,1.0444058023508296,1.0480219018347945,1.0471832143387312,1.0260292994555229,0.96294000845671013,0.9464808622234524,0.93200674191151789,1]
[null,38,"MATARANI",0.48104756942268406,0.39977174243407726,0.97170617062630327,1.5343015560007309,1.7023055579903168,1.6717582863506693,1.609237977113382,1.5584499214244223,1.5826655431072898,1.4257099771359933,1.288764298016895,0.91193461639039852,1,38,"MATARANI",0.96734641050882653,0.86981459212334433,1.0297114879836218,1.0801897327048195,1.0656939523106588,1.0279268197005542,1.0253576060427141,1.0445650164838238,0.9863684708890702,0.99501286431114877,0.98217926778142539,0.98187208036116502,1]
[null,39,"MENOCUCHO",1.084976042591729,0.98115672221909156,1.0500140411507615,1.081096938581517,1.0266117454506418,1.071284964710711,0.95849941999344113,0.91922548768202983,1.0498067358833898,1.046675658212376,1.0451598231619852,0.8579091645450786,1,39,"MENOCUCHO",1.0932584385358182,1.0653007084362198,1.1420658386935321,1.0363768621506002,0.9913141403785577,0.96222032065021723,0.95048505163042563,0.96246535482844064,0.97846333810210362,0.98409751397552669,0.98621331922521682,1.0147548305075058,1]
[null,40,"MOCCE",1.011523495425958,0.9768980902959864,1.0613063096166528,1.0649992780386692,1.0408175239994109,0.99616763360365501,0.9897748026529346,0.90542957301537563,1.0213232632348512,1.0117922084973088,1.001156099829339,0.92471454888240845,1,40,"MOCCE",0.9510189013015965,0.98163498939578819,1.0769622697870629,1.1377367922238624,1.0766689658729152,0.96546284009589733,1.0380816030422173,0.98497575314088892,0.99503846948427754,0.9640719146265726,0.95582133524237411,0.9434839130135092,1]
[null,41,"MONTALVO",0.92562057187377911,0.88961569690818521,1.0507279825308011,1.0351281301226973,1.0336459749571001,1.1013502848293923,1.0260574880357425,0.99053254951692715,1.0447492274848971,1.0607630799141334,1.0346040233287306,0.96577533475566268,1,41,"MONTALVO",0.97536068621525929,0.95583660164176409,1.0155271016495586,1.0253912140669392,1.009532773371278,1.0844006060638103,1.0784832727057057,1.0275016816723381,1.01673243309678,0.98883435396663855,0.96738203192093841,0.98001450016068636,1]
[null,42,"MORROPE",0.92906779361594061,0.91801879652298579,1.204232317476789,1.1139865985861546,1.1253877033344335,1.1565862334509183,0.89332469695657912,0.95932140652860753,1.0807044417501757,0.9811472104457365,1.0512478284629931,0.80162140492241329,1,42,"MORROPE",0.98539918506565982,0.96450848260964905,1.0770135472893572,1.0663203296645005,1.0357751213128346,1.0335737081452911,1.0257005099703826,1.0002808413561677,1.0154559702586321,0.98527060650340692,0.94514667734645663,0.91794202781539791,1]
[null,43,"MOYOBAMBA",1.0172171469109268,0.99926102401722516,1.0281380460114391,1.0218525845470185,0.99097652444547635,0.97242672496054516,0.94556086485569302,0.96026608276127989,1.0486450899326474,1.0817150924312677,1.1373359164316641,1.0800260424497348,1,43,"MOYOBAMBA",1.0122523884934815,0.98122784577436883,1.0120444815056122,1.0299067524765737,1.0077436288140837,0.99029535678431335,1.0012242521929413,0.96531338794605348,0.98606273978312153,1.0085793249955917,1.0128985975608,1.0378978700085424,1]
[null,44,"NAZCA",0.96896392045806701,0.90226531095533347,1.0494324070620864,1.0594728150395167,1.0761596269790108,1.0901513550590951,0.92432410191580794,0.93055221706022073,1.0245138765523278,1.0160160975528651,1.0670821686186851,0.99176170532368757,1,44,"NAZCA",1.0561799492120811,1.0097621950777134,1.032875904683612,1.0328390703617165,1.0324868376790495,1.0268696729059779,1.0128124837097723,0.97320515313437406,0.96092571370591529,0.96015041944190493,0.92746643530786144,1.0491302635180977,1]
[null,45,"PACANGUILLA",0.95387869168465655,0.96060040930951018,1.11885003780655,1.1169933928316118,1.1420203561565196,1.1807601592919814,0.96216759362660398,0.98343635722743883,1.093733025343995,0.98319300639073204,0.99787920841309363,0.76539960662257156,1,45,"PACANGUILLA",1.0059772848802824,0.98219342327910042,1.0858394751370026,1.0968921136895708,1.0765614289720602,1.0798124550357782,1.094094597344244,1.0165889845999105,0.99113742176455211,0.94289908968059832,0.91417599016737916,0.89049930085835316,1]
[null,46,"PACRA",1.0091476910235384,0.95702695086283185,1.020880923141954,0.98807898622205048,1.2122116353816361,1.0758419738349141,0.87717498689170392,0.9346484598521787,1.0434927677877308,1.0345281437806104,1.0856899430022096,0.9794679750741303,1,46,"PACRA",1.0831510697914184,1.009963563204836,1.0286113926952742,1.0364182119062599,1.1083452182142064,1.0029007537580101,0.96862020480608635,0.94116310117016333,0.9705579272035566,0.95196280505413866,0.98593101102351299,0.99595472454539768,1]
[null,47,"PAITA",0.83617146847206114,0.85495005780545541,0.95997311060792556,1.1001643279582949,1.1328958145639176,1.1228254350977949,1.094561616478247,1.0862398098988046,1.0113250287608024,1.0572325888247742,1.0342871841833299,0.85428346923583631,1,47,"PAITA",1.0636614040128312,0.99862115814206298,1.0332142592410345,1.1741723885910813,1.1086060731217513,1.0718575357452105,1.138446334090913,1.066894173310758,0.95881718382779491,0.91850592326188496,0.85587850689285316,0.92551045369923723,1]
[null,48,"PAMPA CUELLAR",1.0267816650355739,0.81424502990545744,1.0724230767428122,1.0805626418504164,1.1616114995727154,1.1803232164087551,0.95669945994814165,0.79567669889402592,1.0641367710650029,1.0380061189132899,1.0556712153580736,0.97723182829105049,1,48,"PAMPA CUELLAR",1.1080607748074995,1.0769929445673418,1.0638911753295197,1.0083049658574414,1.111221099900856,1.0845467748154594,0.99184748880324802,0.95614877069948045,0.95890400264142661,0.89157685104146267,0.91206196479288892,0.95039417039125351,1]
[null,49,"PAMPA GALERA",0.96404152707196011,1.0086901555111869,1.1310739802137981,1.1214438338740724,1.0517770725839612,1.0972269282197673,0.81899440329114248,0.78181102304213335,1.0504941343273422,1.0759697204263503,1.132280560009771,0.95857492987502702,1,49,"PAMPA GALERA",1.1056133930551408,1.0972697945772318,1.0952025644245387,1.0658397630056742,1.0377961391772035,1.0204685671933382,0.94721804727267156,0.93109684675720117,0.95502533991509508,0.94409710882295172,0.93603363438757858,0.94789568584387873,1]
[null,50,"PAMPAMARCA",0.94122008372141674,0.95523899917571642,1.096225430740462,1.068129231705309,1.1300877233045408,1.1133644185173188,0.86531666726239331,0.88373279048283193,1.0187678472156283,1.0975258134582262,1.1158993372255248,0.98295644457605236,1,50,"PAMPAMARCA",1.0832585996059096,1.0607910382786176,1.0800193779689435,1.0713753138834334,1.0640231751378653,1.03208317550276,0.95193927407335299,0.94260358168384906,0.93169317733277757,0.95007757201145215,0.93977639691811687,0.96879000496115597,1]
[null,51,"PATAHUASI",1.0505152218541858,0.92869500365794222,1.1460198901871101,1.0871711730989531,1.1086288271243441,1.1280429053976535,0.91687026384801129,0.80103531462461519,1.0420865443720837,0.98691652153920351,1.0074915999413829,0.95788529032665271,1,51,"PATAHUASI",1.0668095371578459,1.0417640406108961,1.0804944946044999,1.0642539246397258,1.0615522638657522,1.0569197038068345,1.0065383676068427,0.94403432475373905,0.94754161374900914,0.90362522806865608,0.93090438618900151,0.92744974557831961,1]
[null,52,"PEDRO RUIZ",0.96612271483627288,1.027914567532173,1.1021939878780003,1.123308750894831,1.1126973169831074,1.0514533105189174,0.93956322551042837,0.9041000725351499,0.97000924463326266,0.9832167074233662,1.0130065315808399,0.88897510237320088,1,52,"PEDRO RUIZ",1.0360744156322552,1.0162751330075073,1.0483197567217613,1.0529306187477401,1.0166462746496214,0.99007442680264524,0.99003926308970891,0.94128768117203954,0.96096970737236653,0.9786510274132757,0.9826234745606488,1.0211580340590363,1]
[null,53,"PICHIRHUA",1.0465242083665349,1.0891058416868371,1.1332640740877125,1.0561453304826069,1.0383248082532825,1.0172987327205836,0.90807357928838106,0.88400177619776532,0.98121639841492014,0.99676602935910608,1.0126203138999699,0.91507317895495832,1,53,"PICHIRHUA",1.093591965603262,1.088707796393964,1.1080900864346761,1.0925065817248911,1.0545260633235118,1.0256316855781085,0.9459753616847083,0.93213447732117161,0.93826929817001059,0.94604714603269091,0.92977922728427342,0.93986544412024264,1]
[null,54,"PIURA SULLANA",1.0607455704149502,1.0539785921217879,1.1688227853077748,1.0898361794937377,1.0558367151859156,1.0527986453100471,0.96966996829253405,0.95390287022557174,1.0018801541005444,0.96400845252774614,0.95567987744188243,0.86837793528654594,1,54,"PIURA SULLANA",1.0571335988441,1.0401832284191288,1.1276830457912101,1.0518158343846793,1.0404812185992709,1.0119253592488711,1.0179305512118264,0.97628735456972948,0.99496108613938772,0.97547351152083217,0.94265733364014659,0.91887199974665823,1]
[null,55,"PLANCHON",1.0326722600122897,1.0755696587840113,1.0640917392583316,1.0612511493067265,1.0627713286801579,1.0223578980878731,0.9361445885246944,0.91310065122191963,0.95537666823601242,0.96801594906587829,1.0416589232633704,0.93854194834259708,1,55,"PLANCHON",1.3722147975121202,1.2585092578569155,1.1074942656181492,1.1699784882082442,1.0496080433682669,1.0154142442598248,0.92753377459304265,0.88065286820959188,0.85672789675066441,0.8958620547013848,0.96142883575997595,1.0233016424351693,1]
[null,56,"POMAHUACA",0.9586889391813882,0.99329423914936188,1.1652927625766849,1.2213072659646849,1.151118804129081,1.0885970783382974,0.92865507172586337,0.84806103673010991,1.0002089802631855,0.99341414416627027,1.0133080350838342,0.82955340567910718,1,56,"POMAHUACA",1.0673654191686439,1.030063746305409,1.1158338995236077,1.1109100296661079,1.0645130858246825,1.0235429728634762,0.98817629878107693,0.92031882762261197,0.95218704107997443,0.93695253555521829,0.93323062408997648,0.96682512018892031,1]
[null,57,"PONGO",1.0264767754338404,1.0590933894243153,1.0559723727179111,1.0787228816320902,1.0545820490298239,1.0025291758835311,1.0749545475340323,0.9103031423364375,0.96918275962669775,0.96544452616232823,0.97780246368372381,0.93075854970664873,1,57,"PONGO",1.1145458500980887,1.0702374876785521,1.0867628893309194,1.0353906522921483,0.99627072973099606,0.97737827910334019,1.0443168665088722,0.90197783682076982,0.92045872619217506,0.96800464918294127,0.97118842437184028,1.0668786499524994,1]
[null,58,"POZO REDONDO",0.89420167449917065,0.82404172851135715,1.013300869666597,1.0783113706673166,1.1177867289637087,1.0894673000841704,1.0493640508005493,1.043839074392739,1.1166768607696056,1.0578523155322905,1.0216366433869741,0.84801542861695633,1,58,"POZO REDONDO",1.0156646334324289,0.98258191833272257,1.0195314540297902,1.0517083465705441,1.0534298580205372,1.0458906147039608,1.0139556280745685,0.9923397766651898,1.034517632935783,1.0011955679342275,0.94349818798795837,0.89971992773776521,1]
[null,59,"PUNTA PERDIDA",0.95436146348031647,0.79215388602179249,1.0979931781309142,1.1994927046978718,1.4000734601676739,1.4068532482045955,0.82378546623953508,0.60310841373488211,1.1766797706838594,1.0628488925294093,1.2692690003746512,1.1014147677475374,1,59,"PUNTA PERDIDA",1.1179768234345151,1.1217516028775461,1.0773929388308792,1.0165090386413058,1.2426508499814064,1.133326365902346,1.0120096325493317,0.93703062862132946,0.92792701473026462,0.87486965561169749,0.92038187791027382,0.94900637336060001,1]
[null,60,"QUIULLA",1.0973857689282369,1.1408335082371786,1.2315204819668755,1.0452106915912454,1.0211926854014717,1.0678860209538994,0.81402077391117578,0.86853280182089143,1.0001636385285089,1.0063425371682215,1.1045570679131593,0.93811526644016952,1,60,"QUIULLA",1.1366526280270612,1.0810022675226318,1.0873983856964706,0.9354598304428493,0.93143232436983958,0.97363237783353995,0.95283534671638825,0.94884791888397935,0.98408755559182126,1.0037649330866123,1.1007371366094578,1.1108684343057988,1]
[null,61,"RUMICHACA",1.0576555590136669,0.91123436648937783,0.99342612081896597,0.97445303557935814,1.2192559429112562,1.2055246024653807,0.87475153174616027,0.89553771199463361,1.02966796243753,1.0766226734273454,1.1670502423793878,0.97011249839873492,1,61,"RUMICHACA",1.0806872096787243,1.0121685176490589,1.0302378648589134,1.0887523448110699,1.0366156790717413,1.009872701046364,0.96904802808428891,0.91881941515465959,0.96541562022677085,0.95685916421145967,1.0012868522819405,0.99716527053194781,1]
[null,62,"SAN ANTON",1.0690631846782357,1.0523156672838114,1.0689081065854835,1.1317585276662629,1.0035328407991133,1.0849711459180393,1.0541485881231116,1.0137666574878312,0.99783199288716196,0.92059690891608248,0.99811855178973785,0.84674777602459805,1,62,"SAN ANTON",1.1666994741732961,1.085366040496162,1.0364735175481141,1.0303090897305287,1.0316438570975874,1.0425814294994655,1.0280566491667811,0.98019348217272828,0.93332366837557323,0.92786134161666656,0.98899430875200023,0.94849792762697938,1]
[null,63,"SAN GABAN",1.05935132299136,1.0125022441806943,1.0892981300557405,1.1042533663644261,1.1321312441168665,1.0921423877992635,0.97274667073896759,0.89715123014339804,0.92723151939391868,0.95283597807703702,0.95116676597144756,0.9450645780525474,1,63,"SAN GABAN",1.1272868910445992,1.0634728067126846,1.1205822626800048,1.0840322788600381,1.1029258701946267,1.0740127409602229,1.160501613435226,0.89757437705445053,0.85715864560993205,0.90799229702456985,0.9421406751564112,1.0127514414870233,1]
[null,64,"SAN LORENZO",1.0839006569536116,1.1913984677702929,1.1226509609013511,1.2646543533615511,1.0266471939772006,1.0375910960101249,0.87030488679894125,0.92584891179758189,0.94358760526875607,0.96097301814621494,1.0442152695586981,0.92698152169210524,1,64,"SAN LORENZO",1.6588064033612617,1.5638633560798052,1.3338005800039179,1.4441501830516317,1.0531564099838184,1.0349730567550792,0.92486315239473682,0.91121767232811002,0.87712401079832458,0.81638642946748685,0.86162182489770667,0.96645005517745053,1]
[null,65,"SANTA LUCIA",1.0086655448507027,0.83627248945499189,1.1210962944431144,1.1105963481948864,1.1183896351186808,1.1767921127855185,0.95602395977475496,0.76738963357685941,1.0724361392866313,1.0213932952693554,1.05227406780668,0.97947778488337833,1,65,"SANTA LUCIA",1.0355675946691081,1.0068831849438558,1.0716465998164433,1.0684580043073244,1.0620978022248777,1.0856065455824933,1.0228831342074995,0.93806314408224134,0.94108758649600277,0.91381697278096508,0.94525811272238891,0.93915703131186201,1]
[null,66,"SAYLLA",1.0222045880179702,0.97846357641362502,1.1062072103500675,1.0858256687216485,1.0612508145265271,1.0637514374414228,0.98061760641722395,0.9142438241343217,0.92381747411919335,0.99086439810710958,0.99465860519708216,0.94109064952979415,1,66,"SAYLLA",1.069319774027113,1.0277302698340662,1.0743381674056003,1.0610001701146869,1.0379494428826646,1.0316980412648658,0.96618209661785359,0.94742075058626263,0.94721348892394119,0.95790633010974469,0.94696754427046492,0.97740093077824375,1]
[null,67,"SERPENTIN DE PASAMAYO",1.0535484838608449,1.0503365400608944,1.0886265027849409,1.0813692627112028,1.0647480849856035,1.0464451673744763,0.9694310835249712,0.85402616520038777,1.023839341320923,1.0450430436628069,1.0262689456163534,1.0654229390984851,1,67,"SERPENTIN DE PASAMAYO",0.99403550318002609,1.007657551264133,1.0623491336232493,1.0454589009863544,1.0254440844430421,1.0171437661790872,1.0086236188246569,0.98393316507676309,0.99206612767812219,0.97426765656152581,0.95819495585440251,0.94884589265280428,1]
[null,68,"SICUYANI",1.0296802643111052,0.82780612574072943,1.0261176158649208,1.0975766145668804,1.1347412768836576,1.1691402715807984,0.91550957728091553,0.77402155912419146,1.0939445607636473,1.0466024927662569,1.1454911493845268,1.0125930533936314,1,68,"SICUYANI",1.1243985746790044,1.016379077365666,1.0598256579628198,1.0657035649612863,1.0984821852689546,1.1286379072594546,1.0860548607019183,0.99707154041724166,0.99102349191476968,0.90768168232776703,0.93081594229341469,0.96141899212719983,1]
[null,69,"SOCOS",1.1902957737027959,0.98630129451369464,0.98202387297333837,0.91876875259487534,1.0940348978370076,1.0772262482542461,0.93398217894480851,0.95435903997894433,1.0099470471229877,1.0057064726600522,1.0420939996013097,0.94060599243445031,1,69,"SOCOS",1.1347064836519389,1.0493827512740721,1.0018084072049149,1.2877636045031269,1.091118427592344,1.0527547532634443,1.0231268896566823,0.99460536691189971,1.0305713599776816,1.0021953446434617,1.0652383509022991,0.90101518691983074,1]
[null,70,"TAMBOGRANDE",0.92974954763307138,0.9679175288413201,1.0637938772423523,1.1029580043265381,1.2228799334178184,1.0587093241607233,1.0396371107406315,1.0332048546729573,1.0143980677725688,0.89928907989591389,0.95850213349115798,0.87987028311562865,1,70,"TAMBOGRANDE",0.60244614692856302,0.75004890797630941,1.1342336067785419,1.4457623525240437,1.5101510733390449,1.2766400906893252,1.332811174698195,1.3204033870405392,1.2090576229061656,1.0368762074255882,0.9407252348981161,0.70712587143905781,1]
[null,71,"TOMASIRI",0.99719804728663552,0.92316722957221486,1.0516195584397419,1.0804372155657169,1.0999603279770247,1.0942247267058869,1.029333690330434,0.98997799202171521,0.89733144564662248,1.0403553410832203,1.0386173539756838,0.90314563776966938,1,71,"TOMASIRI",0.97891865605092976,0.91059511874804266,0.99949824718845948,1.0539082163673084,1.0515020751316506,1.0702169067283411,1.058007630530525,1.0075431076250811,0.96905416543636669,1.0063823757749522,1.0066543092702729,0.9966409380039768,1]
[null,72,"TUNAN",1.0761152452399632,1.0516475705318262,1.0703364155647945,1.0229834778599727,1.1174366942806029,1.04128670304993,0.86255274913794144,0.85536473036813865,0.98191626509770968,0.97328275520693985,1.1132404882965174,0.98156618984627697,1,72,"TUNAN",1.0648076648390417,1.057847318603826,1.0848900824459056,1.0646715952598274,1.034074082354389,0.93589103827698772,0.93554739437457313,0.92854881789545418,0.9763257451343309,0.96409964626208278,1.0215986643313151,1.0031493010585693,1]
[null,73,"UNION PROGRESO",1.025583745401331,1.0263239918605827,1.072776638640567,1.0365770259297284,1.0255989483319767,1.0113362853529486,0.95438331682875965,0.93545522740812093,0.96963965530112117,1.0060850573444728,1.112188011120985,0.94056098243208064,1,73,"UNION PROGRESO",1.1521926747394542,1.1288572691861518,1.0612843587118872,1.0342485672266015,0.9994154264482924,0.99160912187624928,0.95766922490936679,0.91431968437938527,0.9084730214516562,0.96747873370634718,1.086131219447686,0.99498006206997358,1]
[null,74,"UTCUBAMBA",1.1969071059032992,1.0343056963917971,1.095726279402303,1.1113421660801457,1.0756380278692499,1.0477877379585916,0.95556061986064644,0.91236976810147963,0.95714813328162673,0.98809895762212341,0.93175309080305246,0.89519846095178568,1,74,"UTCUBAMBA",1.1577373765694143,1.0363633461915769,1.066744813573246,1.0630698693923621,1.0240344684704765,0.99082327942949089,0.98292834842024646,0.93638412264804105,0.96049897175811483,0.98020158594374562,0.92160157792025965,1.014313733752773,1]
[null,75,"VARIANTE DE PASAMAYO",0.9444430284819294,0.92034794107410134,1.0336889275357679,1.011801010707956,1.0802050514012904,1.1121217767650939,0.93919657383797217,0.99271035798715446,1.074038953437924,1.0049452515822246,1.047243325174656,0.90529371284605109,1,75,"VARIANTE DE PASAMAYO",1.1672403404698601,0.91881321977077612,1.0159587728683925,1.0768059921400179,0.99221371687426574,0.98107565010531006,1.0129713414634955,0.98954578132123439,1.0585939185856084,1.0114178494010324,0.9802942027569751,0.97106703884897538,1]
[null,76,"VARIANTE DE UCHUMAYO",0.74113705265677965,0.67660114626989731,1.0218075639788378,1.1452037321056403,1.192939297288099,1.1989540313675258,1.1217019406569222,1.0761908633704211,1.1285934802843021,1.1417252824521267,1.1230611452270596,0.95898212761861834,1,76,"VARIANTE DE UCHUMAYO",1.0132942253814703,0.97294170937451363,1.0445909840618695,1.0702719380152215,1.0572931515360298,1.0428550752481833,1.0271403367804433,0.97970501968283541,0.96351779430133533,0.95273775560260454,0.95492019312880216,0.94976654162741547,1]
[null,77,"VESIQUE",0.86024206684767335,0.90312264705351342,1.05967785760904,1.0853297580405614,1.1301723248929318,1.1517869780620058,1.006457649344153,1.0683663341587546,1.1196394266853595,1.0108185842740727,1.0304724480977143,0.80671757161304192,1,77,"VESIQUE",1.0254913385052442,0.9896468015353086,1.059992963088572,1.090994311503525,1.0804618782275854,1.0744557104760954,1.0534186252425164,1.0135928492200634,1.0299575029401544,0.94078679210179883,0.92308039975712053,0.8962446421384852,1]
[null,78,"VIRU",0.99026215667889217,0.96397798900580356,1.0774228768223928,1.0604443403012933,1.1153319418818315,1.122096575394617,0.95731614901877937,1.014785085501368,1.2094281941716682,0.97433713440732062,0.99609233900128524,0.79888455045932694,1,78,"VIRU",1.0336737935893245,0.99860042900532164,1.063668163910872,1.0875899691569106,1.0878857254373133,1.0847136007702929,1.0634547478657874,1.0164946087438493,1.1260171426881882,0.91989165137415141,0.89310206004984138,0.89267942147461843,1]
[null,79,"YAUCA",0.87944163296947431,0.79455607026178288,1.0518093284921921,1.0284847521189029,1.12473814355349,1.129178050028139,0.96527679721972115,0.98385263447507887,1.0683905968554415,1.0962708731146587,1.1302801881900844,0.90484638645134519,1,79,"YAUCA",1.0331243326383144,0.98710358655540142,1.0293808190751013,1.0336721073029738,1.0300332477281715,1.0338215858751667,1.0805480321724268,0.97673687221597105,0.97465421197210411,1.0010284747773761,0.928062844141607,0.94223838039901808,1]
[null,null,"Nota: Los valores presentados, son susceptibles a ser actualizados periódicamente por la OPMI-MTC, sin incurrir en actualización de la Ficha Técnica Estándar.",null,null,null,null,null,null,null,null,null,null,null,null,null,null,"Nota: Los valores presentados, son susceptibles a ser actualizados periódicamente por la OPMI-MTC, sin incurrir en actualización de la Ficha Técnica Estándar."]

{"sheet":"A4. Tasa de Crec","index":5,"n_rows":29,"n_cols":6,"rows_kept":29,"cut":false,"hidden":false,"merged":[[2,4,2,5],[2,1,2,2],[27,0,27,6],[28,0,28,6],[0,5,0,6],[0,0,1,4]]}
["Tasas para la Proyección de la Demanda ",null,null,null,null,"FORMATO A5.TC"]
[]
[null,"Tasa de Crecimiento Anual de Vehículos Ligeros",null,null,"Tasa de Crecimiento Anual de Vehículos Pesados"]
[null,"Amazonas.",1.1237922115772129E-2,null,"Amazonas.",2.689375824403337E-2]
[null,"Ancash.",2.3264419033877062E-2,null,"Ancash.",1.4874736888290741E-2]
[null,"Apurímac.",1.1298179210225587E-2,null,"Apurímac.",4.500572673884376E-2]
[null,"Arequipa.",2.8987119867854117E-2,null,"Arequipa.",2.9654151000257555E-2]
[null,"Ayacucho.",1.8313537474980955E-2,null,"Ayacucho.",2.8979668453382058E-2]
[null,"Cajamarca.",3.0493663332360765E-2,null,"Cajamarca.",1.4473056254684672E-2]
[null,"Cusco.",2.7676991288727006E-2,null,"Cusco.",3.0706935786271219E-2]
[null,"Huancavelica.",1.1747441978427605E-2,null,"Huancavelica.",2.0019572628544063E-2]
[null,"Huánuco.",1.9422982101853344E-2,null,"Huánuco.",3.0328383247470593E-2]
[null,"Ica.",1.1030350447702536E-2,null,"Ica.",2.6225353457509825E-2]
[null,"Junín.",2.0353629048576141E-2,null,"Junín.",2.8368846618274636E-2]
[null,"La Libertad.",2.6128474123915019E-2,null,"La Libertad.",2.2108710323985835E-2]
[null,"Lambayeque.",2.4047198461355047E-2,null,"Lambayeque.",2.5411092382341949E-2]
[null,"Lima Provincias.",2.6068227567279528E-2,null,"Lima Provincias.",2.3350415025047328E-2]
[null,"Loreto.",1.2459833251653499E-3,null,"Loreto.",1.4761853962884968E-2]
[null,"Madre de Dios.",2.2182512269304951E-2,null,"Madre de Dios.",1.3835228022395864E-2]
[null,"Moquegua.",1.9710657972058201E-2,null,"Moquegua.",5.8397963860563036E-3]
[null,"Pasco.",1.7200426545429949E-2,null,"Pasco.",3.8978302020180652E-3]
[null,"Piura.",2.3768624085679223E-2,null,"Piura.",2.3650666177119927E-2]
[null,"Puno.",2.4730807043167592E-2,null,"Puno.",2.584231747377852E-2]
[null,"San Martín.",2.1130969817470969E-2,null,"San Martín.",2.8789246330651171E-2]
[null,"Tacna.",2.1327421424430205E-2,null,"Tacna.",2.3598487721373483E-2]
[null,"Tumbes.",8.1084455534978245E-3,null,"Tumbes.",2.3979518768697996E-2]
[null,"Ucayali.",1.7272367831403939E-2,null,"Ucayali.",2.2508256847587699E-2]
["Informacion al 2022, sin contar las distorciones estadísticas provocadas por el impacto económico de la COVID 19 "]
["Nota: Los valores presentados, son susceptibles a ser actualizados periódicamente por la OPMI-MTC, sin incurrir en actualización de la Ficha Técnica Estándar."]

{"sheet":"B. Situación de la UP","index":6,"n_rows":35,"n_cols":8,"rows_kept":35,"cut":false,"hidden":false,"merged":[[23,1,23,3],[0,1,0,2],[4,1,4,3],[5,2,5,3],[14,1,14,3],[19,1,19,3]]}
[null,"ESTADO SITUACIONAL DE LA UNIDAD PRODUCTORA",null,null,"HOJA B. Situación de la UP"]
[]
[null,"SITUACION ACTUAL - RESULTADO DE LA VISITA DE CAMPO"]
[]
[null,"Condiciones Iniciales del Proyecto"]
[null,"Estado Actual"]
[null,"Velocidad de Diseño"]
[]
[null,"Características","Situación SIN PROYECTO","Situación CON PROYECTO"]
[null,"SINAC",{"$f":"'Ficha Estandar'!B81","v":0},{"$f":"+C10","v":0}]
[null,"Longitud ",{"$f":"'Ficha Estandar'!C86","v":1},{"$f":"+C11","v":1}]
[null,"IMDa",{"$f":"'A2.Demanda'!M91","v":0},{"$f":"+'A2.Demanda'!C230","v":0}]
[null,"Orografía"]
[null,"Velocidad Directriz"]
[null,"ALINEAMIENTO HORIZONTAL"]
[null,"Radio Mínimo"]
[null,"Radio Excepcional"]
[null,"Nro de Curvas Por Kilòmetro"]
[null,"Grados Acumulados/kilometro"]
[null,"ALINEAMIENTO VERTICAL"]
[null,"Pendiente Mínima"]
[null,"Pendiente Máxima "]
[null,"Pendiente Máxima Excepcional"]
[null,"SECCIONES TRANSVERSALES"]
[null,"Número de Carriles",null,null,null,null,null,{"$f":"CONCATENATE(\"i.- \",B25,\" (\",D25,\")\")","v":"i.- Número de Carriles ()"}]
[null,"Ancho de Plataforma (expresado en metros)",{"$f":"SUM(C27:C28)","v":0},{"$f":"SUM(D27:D28)","v":0}]
[null,"Ancho de Calzada (expresado en metros)",null,null,null,null,null,{"$f":"CONCATENATE(\"ii.- Ancho de Calzada\",\" (\",D27,\" metros)\")","v":"ii.- Ancho de Calzada ( metros)"}]
[null,"Ancho de Berma (expresado en metros)",null,null,null,null,null,{"$f":"CONCATENATE(\"iii.- Ancho de Berma\",\" (\",D28,\" metros)\")","v":"iii.- Ancho de Berma ( metros)"}]
[null,"Tipo de pavimento",null,null,null,null,null,{"$f":"CONCATENATE(\"iv.- \",B29,\" (\",D29,\")\")","v":"iv.- Tipo de pavimento ()"}]
[null,"Cunetas",null,null,null,null,null,{"$f":"CONCATENATE(\"v.- \",B30,\" (\",D30,\" metros)\")","v":"v.- Cunetas ( metros)"}]
[null,"Bombeo",null,null,null,null,null,{"$f":"CONCATENATE(\"vi.- \",B31,\" % (\",D31,\")\")","v":"vi.- Bombeo % ()"}]
[null,"Sobreanchos",null,null,null,null,null,{"$f":"CONCATENATE(\"vii.- \",B32,\" (\",D32,\" metros)\")","v":"vii.- Sobreanchos ( metros)"}]
[null,"Peralte Máximo",null,null,null,null,null,{"$f":"CONCATENATE(\"viii.- \",B33,\" % (\",D33,\")\")","v":"viii.- Peralte Máximo % ()"}]
[null,"Plazoletas de Cruce",null,null,null,null,null,{"$f":"CONCATENATE(\"ix.- \",B34,\" (\",D34,\")\")","v":"ix.- Plazoletas de Cruce ()"}]
[null,"Talud en relleno",null,null,null,null,null,{"$f":"CONCATENATE(\"x.- \",B35,\" (\",D35,\")\")","v":"x.- Talud en relleno ()"}]

{"sheet":"Tipo de pavimento","index":7,"n_rows":12,"n_cols":2,"rows_kept":12,"cut":false,"hidden":true,"merged":[]}
[null,"Tipo de pavimento"]
[null,"Pavimento flexible (asfáltico)"]
[null,"Pavimento semi flexible (intertrabados)"]
[null,"Pavimento rígido (concreto hidráulico)"]
[null,"Solución básica (estabilizado+TSB)"]
[null,"Solución básica (estabilizado+Slurry Seal)"]
[null,"Solución básica (estabilizado+Micropavimento)"]
[null,"Solución básica (solo estabilizado)"]
[null,"Afirmado"]
[]
[]
[null,"Carpeta asfáltica"]

{"sheet":"2.Reconocimiento del Trazo ","index":8,"n_rows":38,"n_cols":6,"rows_kept":38,"cut":false,"hidden":true,"merged":[[0,0,0,1],[16,0,16,2],[21,0,21,2],[25,0,25,2],[6,1,6,2],[5,0,5,2]]}
["RECONOCIMIENTO DEL TRAZO",null,"HOJA N 02"]
[]
["SITUACION ACTUAL - RESULTADO DE LA VISITA DE CAMPO"]
[]
[]
["Condiciones Iniciales del Proyecto",null,null,null,null,"Trocha"]
["Estado Actual",null,null,null,null,"Vía sin afirmar con Inadecuada geometría"]
["Orografía",null,{"$f":"IFERROR(VLOOKUP(B8,E12:F15,2,0),\"\")","v":""},null,null,"Vía no afirmada con inadecuadas condiciones de servicio y con Inadecuada geometría"]
["Velocidad de Diseño",null,null,null,null,"Vía afirmada con inadecuadas condiciones de servicio y con Inadecuada geometría"]
[null,null,null,null,null,"Vía afirmada con inadecuadas condiciones de servicio y con adecuada geometría"]
["Características","Situación SIN PROYECTO","Situación CON PROYECTO",null,null,"Vía Pavimenta con inadecuadas condiciones de servicio"]
["SINAC",{"$f":"+'Ficha Estandar'!B81","v":0},{"$f":"+B12","v":0},null,"I","Llano"]
["Longitud ",null,null,null,"II","Ondulado"]
["IMDa",{"$f":"+'A2.Demanda'!M91","v":0},{"$f":"+'A2.Demanda'!M230","v":0},null,"III","Accidentado"]
["Orografía",null,null,null,"IV","Escarpado"]
["Velocidad Directriz"]
["ALINEAMIENTO HORIZONTAL",null,null,null,null,"RVV"]
["Radio Mínimo",null,null,null,null,"RVD"]
["Radio Excepcional",null,null,null,null,"Camino de Herradura"]
["Nro de Curvas Por Kilòmetro"]
["Grados Acumulados/kilometro"]
["ALINEAMIENTO VERTICAL"]
["Pendiente Mínima"]
["Pendiente Máxima "]
["Pendiente Máxima Excepcional"]
["SECCIONES TRANSVERSALES"]
["Número de Carriles"]
["Ancho de Plataforma"]
["Ancho de Calzada"]
["Ancho de Berma"]
["Tipo de pavimento"]
["Cunetas"]
["Bombeo"]
["Sobreanchos"]
["Peralte Máximo "]
["Plazoletas de Cruce"]
["Derecho de Vía"]
["Talud en relleno"]

{"sheet":"C. Costos","index":9,"n_rows":80,"n_cols":21,"rows_kept":80,"cut":false,"hidden":false,"merged":[[8,1,8,2],[8,12,8,13],[19,12,19,13],[30,12,30,13],[30,1,30,2],[19,1,19,2],[2,10,2,11],[6,8,7,8],[6,9,7,9],[56,6,56,10],[56,17,56,21],[50,17,50,19],[51,17,51,19],[52,17,52,19],[54,17,54,19],[55,17,55,19],[42,6,42,8],[44,6,44,8],[45,6,45,8],[50,6,50,8],[51,6,51,8],[71,12,71,18],[63,12,63,16],[2,12,2,16],[3,12,3,17],[65,14,66,14],[65,15,66,15],[42,17,42,19],[44,17,44,19],[45,17,45,19],[46,17,46,19],[47,17,47,19],[49,17,49,19],[67,12,67,13],[68,12,68,13],[69,12,69,13],[65,12,66,13],[69,1,69,2],[46,6,46,8],[47,6,47,8],[49,6,49,8],[70,12,70,18],[52,6,52,8],[54,6,54,8],[55,6,55,8],[0,1,0,5],[3,1,3,5],[63,1,63,5],[70,1,70,7],[71,1,71,7],[6,4,6,5],[6,6,6,7],[6,1,7,1],[6,2,7,2],[6,3,7,3],[65,1,66,2],[65,3,66,3],[65,4,66,4],[67,1,67,2],[5,1,5,7],[68,1,68,2],[74,11,75,11],[74,1,75,1],[74,5,75,5],[74,9,75,9],[74,10,75,10],[0,21,0,22],[2,17,2,19],[2,20,2,21],[5,12,5,18],[6,14,7,14],[6,15,6,16],[6,17,6,18],[6,12,7,12],[6,13,7,13],[0,12,0,16],[6,19,7,19],[6,20,7,20],[1,17,1,18],[1,19,1,20]]}
[null,"COSTO DE LA INVERSIÓN",null,null,null,null,null,null,null,"HOJA C.Costos",null,null,"COSTO DE LA INVERSIÓN",null,null,null,null,null,null,null,"HOJA C.Costos"]
[]
[null,"ALTERNATIVA Nº1",null,null,null,null,null,null,null,null,null,null,"ALTERNATIVA Nº2"]
[null,"Longitud Total proyecto",null,null,null,null,null,null,null,null,null,null,"Longitud Total proyecto"]
[]
[null,{"$f":"'Ficha Estandar'!C21","v":" DEL SERVICIO DE TRANSITABILIDAD VIAL DEL/LA  DEL DISTRITO DE , DE LA PROVINCIA DE , DEL DEPARTAMENTO DE "},null,null,null,null,null,null,"Región Geográfica",{"$f":"'Ficha Estandar'!C88","v":0},null,null,{"$f":"B6","v":" DEL SERVICIO DE TRANSITABILIDAD VIAL DEL/LA  DEL DISTRITO DE , DE LA PROVINCIA DE , DEL DEPARTAMENTO DE "},null,null,null,null,null,null,"Región Geográfica",{"$f":"'Ficha Estandar'!C88","v":0}]
[null,"Naturaleza de acción\n1/","Activos","Tipo de factor producción ","Unidad física",null,"Dimensión física",null,"Precio unitario (soles/UM)","Costo total \n(soles)",null,null,"Naturaleza de acción\n1/","Activos","Tipo de factor producción ","Unidad física",null,"Unidad física",null,"Precio unitario (soles/UM)","Costo total \n(soles)"]
[null,null,null,null,"Unidad de medida","Cantidad","Unidad de medida","Cantidad",null,null,null,null,null,null,null,"Unidad de medida","Cantidad","Unidad de medida","Cantidad"]
[null,"Tramo 1",null,"Longitud (km)",null,null,null,null,null,{"$f":"+SUM(J10:J19)","v":0},null,null,"Tramo 1",null,"Longitud (km)",null,null,null,null,null,{"$f":"+SUM(U10:U19)","v":0}]
[null,"Adquisición","Derecho de vía 2/","Terrenos","Und",null,"m2",null,null,{"$f":"+F10*H10*I10","v":0},null,null,null,"Derecho de vía","Terrenos","Und",null,"m2",null,null,{"$f":"+Q10*S10*T10","v":0}]
[null,"Construcción","Plataforma","Infraestructura","Und",null,"Km",null,null,{"$f":"+F11*H11*I11","v":0},null,null,null,"Plataforma","Infraestructura","Und",null,"Km",null,null,{"$f":"+Q11*S11*T11","v":0}]
[null,"Construcción","Intersección ","Infraestructura","Und",null,"m2",null,null,0,null,null,null,"Intersección ","Infraestructura","Und",null,"m2",null,null,0]
[null,"Construcción","Protección ribereña vial","Infraestructura","Und",null,"m",null,null,0,null,null,null,"Protección ribereña vial","Infraestructura","Und",null,"m",null,null,0]
[null,"Construcción","Talud/ muro de contención","Infraestructura","Und",null,"m",null,null,0,null,null,null,"Talud/ muro de contención","Infraestructura","Und",null,"m",null,null,0]
[null,"Adquisición","Drenaje Transversales","Infraestructura","Und",null,"m",null,null,0,null,null,null,"Drenaje Transversales","Infraestructura","Und",null,"m",null,null,0]
[null,"Adecuación","Dispositivos de Control de Tránsito","Equipo","Und",null,"Km",null,null,0,null,null,null,"Dispositivos de Control de Tránsito","Equipo","Und",null,"Km",null,null,0]
[null,"Construcción ","Puente Peatonal","Infraestructura","Und",null,"Und",null,null,0,null,null,null,"Puente Peatonal","Infraestructura","Und",null,"Und",null,null,0]
[null,"Construcción","Estación de Peaje/Pesaje","Infraestructura","Und",null,"Und",null,null,0,null,null,null,"Estación de Peaje/Pesaje","Infraestructura","Und",null,"Und",null,null,0]
[null,"Reparación","Puente","Infraestructura","Und",null,"m",null,null,0,null,null,null,"Puente","Infraestructura","Und",null,"m",null,null,0]
[null,"Tramo 2",null,"Longitud (km)",null,null,null,null,null,{"$f":"+SUM(J21:J30)","v":0},null,null,"Tramo 2",null,"Longitud (km)",null,null,null,null,null,{"$f":"+SUM(U21:U30)","v":0}]
[null,null,"Derecho de vía","Terrenos","Und",null,"m2",null,null,{"$f":"+F21*H21*I21","v":0},null,null,null,"Derecho de vía","Terrenos","Und",null,"m2",null,null,{"$f":"+Q21*S21*T21","v":0}]
[null,null,"Plataforma","Infraestructura","Und",null,"Km",null,null,{"$f":"+F22*H22*I22","v":0},null,null,null,"Plataforma","Infraestructura","Und",null,"Km",null,null,{"$f":"+Q22*S22*T22","v":0}]
[null,null,"Intersección ","Infraestructura","Und",null,"m2",null,null,0,null,null,null,"Intersección ","Infraestructura","Und",null,"m2",null,null,0]
[null,null,"Protección ribereña vial","Infraestructura","Und",null,"m",null,null,0,null,null,null,"Protección ribereña vial","Infraestructura","Und",null,"m",null,null,0]
[null,null,"Talud/ muro de contención","Infraestructura","Und",null,"m",null,null,0,null,null,null,"Talud/ muro de contención","Infraestructura","Und",null,"m",null,null,0]
[null,null,"Drenaje Transversales","Infraestructura","Und",null,"m",null,null,0,null,null,null,"Drenaje Transversales","Infraestructura","Und",null,"m",null,null,0]
[null,null,"Dispositivos de Control de Tránsito","Equipo","Und",null,"Km",null,null,0,null,null,null,"Dispositivos de Control de Tránsito","Equipo","Und",null,"Km",null,null,0]
[null,null,"Puente Peatonal","Infraestructura","Und",null,"Und",null,null,0,null,null,null,"Puente Peatonal","Infraestructura","Und",null,"Und",null,null,0]
[null,null,"Estación de Peaje/Pesaje","Infraestructura","Und",null,"Und",null,null,0,null,null,null,"Estación de Peaje/Pesaje","Infraestructura","Und",null,"Und",null,null,0]
[null,null,"Puente","Infraestructura","Und",null,"m",null,null,0,null,null,null,"Puente","Infraestructura","Und",null,"m",null,null,0]
[null,"Tramo 3",null,"Longitud (km)",null,null,null,null,null,{"$f":"+SUM(J32:J41)","v":0},null,null,"Tramo 3",null,"Longitud (km)",null,null,null,null,null,{"$f":"+SUM(U32:U41)","v":0}]
[null,null,"Derecho de vía","Terrenos","Und",null,"m2",null,null,{"$f":"+F32*H32*I32","v":0},null,null,null,"Derecho de vía","Terrenos","Und",null,"m2",null,null,{"$f":"+Q32*S32*T32","v":0}]
[null,null,"Plataforma","Infraestructura","Und",null,"Km",null,null,{"$f":"+F33*H33*I33","v":0},null,null,null,"Plataforma","Infraestructura","Und",null,"Km",null,null,{"$f":"+Q33*S33*T33","v":0}]
[null,null,"Intersección ","Infraestructura","Und",null,"m2",null,null,0,null,null,null,"Intersección ","Infraestructura","Und",null,"m2",null,null,0]
[null,null,"Protección ribereña vial","Infraestructura","Und",null,"m",null,null,0,null,null,null,"Protección ribereña vial","Infraestructura","Und",null,"m",null,null,0]
[null,null,"Talud/ muro de contención","Infraestructura","Und",null,"m",null,null,0,null,null,null,"Talud/ muro de contención","Infraestructura","Und",null,"m",null,null,0]
[null,null,"Drenaje Transversales","Infraestructura","Und",null,"m",null,null,0,null,null,null,"Drenaje Transversales","Infraestructura","Und",null,"m",null,null,0]
[null,null,"Dispositivos de Control de Tránsito","Equipo","Und",null,"Km",null,null,0,null,null,null,"Dispositivos de Control de Tránsito","Equipo","Und",null,"Km",null,null,0]
[null,null,"Puente Peatonal","Infraestructura","Und",null,"Und",null,null,0,null,null,null,"Puente Peatonal","Infraestructura","Und",null,"Und",null,null,0]
[null,null,"Estación de Peaje/Pesaje","Infraestructura","Und",null,"Und",null,null,0,null,null,null,"Estación de Peaje/Pesaje","Infraestructura","Und",null,"Und",null,null,0]
[null,null,"Puente","Infraestructura","Und",null,"m",null,null,0,null,null,null,"Puente","Infraestructura","Und",null,"m",null,null,0]
[]
[null,null,null,null,null,null," SUB TOTAL DEL COSTO DIRECTO DE LA INVERSIÓN (A)",null,null,{"$f":"+$J$31+$J$20+$J$9","v":0},null,null,null,null,null,null,null," SUB TOTAL DEL COSTO DIRECTO DE LA INVERSIÓN (A)",null,null,{"$f":"+$U$31+$U$20+$U$9","v":0}]
[]
[null,null,null,null,null,null,"  GASTOS GENERALES",null,null,null,null,null,null,null,null,null,null,"  GASTOS GENERALES"]
[null,null,null,null,null,null,"UTILIDAD",null,null,null,null,null,null,null,null,null,null,"UTILIDAD"]
[null,null,null,null,null,null,"IMPUESTOS (IGV)",null,null,{"$f":"($J$43+$J$45+$J$46)*0.18","v":0},null,null,null,null,null,null,null,"IMPUESTOS (IGV)",null,null,{"$f":"(U43+U45+U46)*0.18","v":0}]
[null,null,null,null,null,null,"SUB TOTAL COSTOS INDIRECTO (B)",null,null,{"$f":"+SUM(J45:J47)","v":0},null,null,null,null,null,null,null,"SUB TOTAL COSTOS INDIRECTO (B)",null,null,{"$f":"+SUM(U45:U47)","v":0}]
[]
[null,null,null,null,null,null,"SUPERVISIÓN",null,null,null,null,null,null,null,null,null,null,"SUPERVISIÓN"]
[null,null,null,null,null,null,"EXPEDIENTE TÉCNICO",null,null,null,null,null,null,null,null,null,null,"EXPEDIENTE TÉCNICO"]
[null,null,null,null,null,null,"GESTIÓN DEL PROYECTO ",null,null,null,null,null,null,null,null,null,null,"GESTIÓN DEL PROYECTO 2/",null,null,{"$f":"+$J$48*V52","v":0}]
[null,null,null,null,null,null,"SUBTOTAL OTROS COSTOS (C)",null,null,{"$f":"+SUM(J50:J52)","v":0},null,null,null,null,null,null,null,"SUBTOTAL OTROS COSTOS (C)",null,null,{"$f":"+SUM(U50:U52)","v":0}]
[]
[null,null,null,null,null,null,"COSTO TOTAL DE LA INVERSIÓN (A + B + C)",null,null,{"$f":"+J43+J48+J53","v":0},null,null,null,null,null,null,null,"COSTO TOTAL DE LA INVERSIÓN (A + B + C)",null,null,{"$f":"+U43+U48+U53","v":0}]
[null,null,null,null,null,null,"CONTROL CONCURRENTE 3/",null,null,{"$f":"+J55*0.02","v":0},null,null,null,null,null,null,null,"CONTROL CONCURRENTE 3/"]
[null,null,null,null,null,null,"1/ La naturaleza de acción adecuadas deben ser identificados en la  Guía General para la Identificación, Formulación y Evaluación de Proyectos de Inversión de la DGPMI.",null,null,null,null,null,null,null,null,null,null,"1/ La naturaleza de acción adecuadas deben ser identificados en la  Guía General para la Identificación, Formulación y Evaluación de Proyectos de Inversión de la DGPMI."]
[null,null,null,null,null,null,"2/ Activo referido al valor de adquisición del predio.",null,null,null,null,null,null,null,null,null,null,"2/ Activo referido al valor de adquisición del predio."]
[null,null,null,null,null,null,"3/ En el marco de la Ley 31358; solo para proyectos con mayor a cinco millones de gasto de inversión.",null,null,null,null,null,null,null,null,null,null,"3/ En el marco de la Ley 31358; solo para proyectos con mayor a cinco millones de gasto de inversión."]
[]
[]
[]
[]
[null,"COSTO DE OPERACIÓN Y MANTENIMIENTO REFERENCIALES (*)",null,null,null,null,null,null,null,null,null,null,"COSTO DE OPERACIÓN Y MANTENIMIENTO REFERENCIALES (*)"]
[]
[null,"Descripción",null,"Precios de Mercado S. /Km","Politicas de Operación",null,null,null,null,null,null,null,"Descripción",null,"Precios de Mercado S. /Km","Politicas de Operación"]
[]
[null,"Mant. Periódico Sin Proyecto",null,null,"1 años",null,null,null,null,null,null,null,"Mant. Periódico Sin Proyecto",null,null,"1 años"]
[null,"Mant. Rutinario Con Proyecto",null,null,"1 años *",null,null,null,null,null,null,null,"Mant. Rutinario Con Proyecto",null,null,"1 años *"]
[null,"Mant. Periódico Con Proyecto",null,null,"3 años *",null,null,null,null,null,null,null,"Mant. Periódico Con Proyecto",null,null,"3 años *"]
[null,"* Variable en base a la alternativa tecnológica",null,null,null,null,null,null,null,null,null,null,"* Variable en base a la alternativa tecnológica"]
[null,"Valor resultado de la estructura del Costo de Mantenimiento",null,null,null,null,null,null,null,null,null,null,"Valor resultado de la estructura del Costo de Mantenimiento"]
[]
[null,"Sin Proyecto",null,null,null,null,null,null,null,"Con Proyecto"]
[null,"Descripción",null,null,null,"Precios de Mercado S. /Km",null,null,null,"Descripción","Precios de Mercado S. /Km","Politicas de Mantenimiento"]
[]
[null,"Mant. Periódico Sin Proyecto",null,null,null,null,null,null,null,"Mant. Rutinario Con Proyecto",null,"1 años *"]
[null,"Valor resultado de la estructura del Costo de Mantenimiento",null,null,null,null,null,null,null,"Mant. Periódico Con Proyecto",null,"3 años *"]
[null,null,null,null,null,null,null,null,null,"* Variable en base a la alternativa tecnológica"]
[null,null,null,null,null,null,null,null,null,"Valor resultado de la estructura del Costo de Mantenimiento"]

{"sheet":"Hoja9","index":10,"n_rows":23,"n_cols":24,"rows_kept":23,"cut":false,"hidden":true,"merged":[]}
["AMAZONAS.","ANCASH.","APURÍMAC.","AREQUIPA.","AYACUCHO.","CAJAMARCA.","LIMA.","CUSCO.","HUANCAVELICA.","HUANUCO.","ICA.","JUNÍN.","LA LIBERTAD.","LAMBAYEQUE.","LORETO.","MADRE DE DIOS.","MOQUEGUA.","PASCO.","PIURA.","PUNO.","SAN MARTIN.","TACNA.","TUMBES.","UCAYALI."]
["CHACHAPOYAS","HUARAZ","ABANCAY","AREQUIPA","HUAMANGA","CAJAMARCA","CALLAO","CUSCO","HUANCAVELICA","HUANUCO","ICA","HUANCAYO","TRUJILLO","CHICLAYO","MAYNAS","TAMBOPATA","MARISCAL NIETO","PASCO","PIURA","PUNO","MOYOBAMBA","TACNA","TUMBES","CORONEL PORTILLO"]
["BAGUA","AIJA","ANDAHUAYLAS","CAMANÁ","CANGALLO","CAJABAMBA","LIMA","ACOMAYO","ACOBAMBA","AMBO","CHINCHA","CONCEPCIÓN","ASCOPE","FERREÑAFE","ALTO AMAZONAS","MANÚ","GENERAL SÁNCHEZ CERRO","DANIEL A. CARRIÓN","AYABACA","AZÁNGARO","BELLAVISTA","CANDARAVE","CONTRALMIRANTE VILLAR","ATALAYA"]
["BONGARÁ","ANTONIO RAYMONDI","ANTABAMBA","CARAVELÍ","HUANCA SANCOS","CELENDÍN","BARRANCA","ANTA","ANGARAES","DOS DE MAYO","NAZCA","CHANCHAMAYO","BOLÍVAR","LAMBAYEQUE","LORETO","TAHUAMANÚ","ILO","OXAPAMPA","HUANCABAMBA","CARABAYA","EL DORADO","JORGE BASADRE","ZARUMILLA","PADRE ABAD"]
["CONDORCANQUI","ASUNCIÓN","AYMARAES","CASTILLA","HUANTA","CHOTA","CAJATAMBO","CALCA","CASTROVIRREYNA","HUACAYBAMBA","PALPA","JAUJA","CHEPÉN",null,"MARISCAL RAMÓN CASTILLA",null,null,null,"MORROPÓN","CHUCUITO","HUALLAGA","TARATA",null,"PURÚS"]
["LUYA","BOLOGNESI","COTABAMBAS","CAYLLOMA","LA MAR","CONTUMAZÁ","CANTA","CANAS","CHURCAMPA","HUAMALIES","PISCO","JUNIN","JULCÁN",null,"REQUENA",null,null,null,"PAITA","EL COLLAO","LAMAS"]
["RODRÍGUEZ DE MENDOZA","CARHUAZ","CHINCHEROS","CONDESUYOS","LUCANAS","CUTERVO","CAÑETE","CANCHIS","HUAYTARÁ","LEONCIO PRADO",null,"SATIPO ","OTUZCO",null,"UCAYALI",null,null,null,"SULLANA","HUANCANÉ","MARISCAL CÁCERES"]
["UTCUBAMBA","CARLOS FERMÍN FITZCARRALD","GRAU","CONDESUYOS","PARINACOCHAS","HUALGAYOC","HUARAL","CHUMBIVILCAS","TAYACAJA","MARAÑÓN",null,"TARMA","PACASMAYO",null,"DATEM DEL MARAÑÓN",null,null,null,"TALARA","LAMPA","PICOTA"]
[null,"CASMA",null,"ISLAY","PAUCAR DEL SARA SARA","JAÉN","HUAURA","ESPINAR",null,"PACHITEA",null,"YAULI","PATAZ",null,null,null,null,null,"SECHURA","MELGAR","RIOJA"]
[null,"CORONGO",null,"LA UNIÓN","SUCRE","SAN IGNACIO","OYÓN","LA CONVENCIÓN",null,"PUERTO INCA",null,"CHUPACA","SÁNCHEZ CARRIÓN",null,null,null,null,null,null,"MOHO","SAN MARTIN"]
[null,"HUARI",null,null,"VÍCTOR FAJARDO","SAN MARCOS","YAUYOS","PARURO",null,"LAURICOCHA",null,null,"SANTIAGO DE CHUCO",null,null,null,null,null,null,"SAN ANTONIO DE PUTINA","TOCACHE"]
[null,"HUARMEY",null,null,"VILCAS HUAMÁN","SAN MIGUEL",null,"PAUCARTAMBO",null,"YAROWILCA",null,null,"GRAN CHIMÚ",null,null,null,null,null,null,"SAN ROMÁN"]
[null,"HUAYLAS",null,null,null,"SAN PABLO",null,"QUISPICANCHI",null,null,null,null,"VIRÚ",null,null,null,null,null,null,"SANDIA"]
[null,"MARISCAL LUZURIAGA",null,null,null,"SANTA CRUZ",null,"URUBAMBA",null,null,null,null,null,null,null,null,null,null,null,"YUNGUYO"]
[null,"OCROS"]
[null,"PALLASCA"]
[null,"POMABAMBA"]
[null,"RECUAY"]
[null,"SANTA"]
[null,"SIHUAS"]
[null,"YUNGAY",null,null,null,null,null,null,null,null,null,null,null,null,null,null,"DEPARTAMENTO","PASCO"]
[]
[null,null,null,null,null,null,null,null,null,null,null,null,null,null,null,null,"PROVINCIA","DANIEL A. CARRIÓN"]

{"sheet":"Hoja10","index":11,"n_rows":44,"n_cols":195,"rows_kept":44,"cut":false,"hidden":true,"merged":[]}
["CHACHAPOYAS","BAGUA","BONGARÁ","CONDORCANQUI","LUYA","RODRÍGUEZ DE MENDOZA","UTCUBAMBA","HUARAZ","AIJA","ANTONIO RAYMONDI","ASUNCIÓN","BOLOGNESI","CARHUAZ","CARLOS FERMÍN FITZCARRALD","CASMA","CORONGO","HUARI","HUARMEY","HUAYLAS","MARISCAL LUZURIAGA","OCROS","PALLASCA","POMABAMBA","RECUAY","SANTA","SIHUAS","YUNGAY","ABANCAY","ANDAHUAYLAS","ANTABAMBA","AYMARAES","COTABAMBAS","CHINCHEROS","GRAU","AREQUIPA","CAMANÁ","CARAVELÍ","CASTILLA","CAYLLOMA","CONDESUYOS","ISLAY","LA UNIÓN","HUAMANGA","CANGALLO","HUANCA SANCOS","HUANTA","LA MAR","LUCANAS","PARINACOCHAS","PAUCAR DEL SARA SARA","SUCRE","VÍCTOR FAJARDO","VILCAS HUAMÁN","CAJAMARCA","CAJABAMBA","CELENDÍN","CHOTA","CONTUMAZÁ","CUTERVO","HUALGAYOC","JAÉN","SAN IGNACIO","SAN MARCOS","SAN MIGUEL","SAN PABLO","SANTA CRUZ","CALLAO","CUSCO","ACOMAYO","ANTA","CALCA","CANAS","CANCHIS","CHUMBIVILCAS","ESPINAR","LA CONVENCIÓN","PARURO","PAUCARTAMBO","QUISPICANCHI","URUBAMBA","HUANCAVELICA","ACOBAMBA","ANGARAES","CASTROVIRREYNA","CHURCAMPA","HUAYTARÁ","TAYACAJA","HUANUCO","AMBO","DOS DE MAYO","HUACAYBAMBA","HUAMALIES","LEONCIO PRADO","MARAÑÓN","PACHITEA","PUERTO INCA","LAURICOCHA","YAROWILCA","ICA","CHINCHA","NAZCA","PALPA","PISCO","HUANCAYO","CONCEPCIÓN","CHANCHAMAYO","JAUJA","JUNIN","SATIPO ","TARMA","YAULI","CHUPACA","TRUJILLO","ASCOPE","BOLÍVAR","CHEPÉN","JULCÁN","OTUZCO","PACASMAYO","PATAZ","SÁNCHEZ CARRIÓN","SANTIAGO DE CHUCO","GRAN CHIMÚ","VIRÚ","CHICLAYO","FERREÑAFE","LAMBAYEQUE","LIMA","BARRANCA","CAJATAMBO","CANTA","CAÑETE","HUARAL","HUAROCHIRI","HUAURA","OYÓN","YAUYOS","MAYNAS","ALTO AMAZONAS","LORETO","MARISCAL RAMÓN CASTILLA","REQUENA","UCAYALI","DATEM DEL MARAÑÓN","TAMBOPATA","MANÚ","TAHUAMANÚ","MARISCAL NIETO","GENERAL SÁNCHEZ CERRO","ILO","PASCO","DANIEL A. CARRIÓN","OXAPAMPA","PIURA","AYABACA","HUANCABAMBA","MORROPÓN","PAITA","SULLANA","TALARA","SECHURA","PUNO","AZÁNGARO","CARABAYA","CHUCUITO","EL COLLAO","HUANCANÉ","LAMPA","MELGAR","MOHO","SAN ANTONIO DE PUTINA","SAN ROMÁN","SANDIA","YUNGUYO","MOYOBAMBA","BELLAVISTA","EL DORADO","HUALLAGA","LAMAS","MARISCAL CÁCERES","PICOTA","RIOJA","SAN MARTIN","TOCACHE","TACNA","CANDARAVE","JORGE BASADRE","TARATA","TUMBES","CONTRALMIRANTE VILLAR","ZARUMILLA","CORONEL PORTILLO","ATALAYA","PADRE ABAD","PURÚS"]
[" CHACHAPOYAS "," BAGUA "," JUMBILLA "," NIEVA "," LAMUD "," SAN NICOLAS "," BAGUA GRANDE "," HUARAZ "," AIJA "," LLAMELLIN "," CHACAS "," CHIQUIAN "," CARHUAZ "," SAN LUIS "," CASMA "," CORONGO "," HUARI "," HUARMEY "," CARAZ "," PISCOBAMBA "," OCROS "," CABANA "," POMABAMBA "," RECUAY "," CHIMBOTE "," SIHUAS "," YUNGAY "," ABANCAY "," ANDAHUAYLAS "," ANTABAMBA "," CHALHUANCA "," TAMBOBAMBA "," CHINCHEROS "," CHUQUIBAMBILLA "," AREQUIPA "," CAMANA "," CARAVELI "," APLAO "," CHIVAY "," CHUQUIBAMBA "," MOLLENDO "," COTAHUASI "," AYACUCHO "," CANGALLO "," SANCOS "," HUANTA "," SAN MIGUEL "," PUQUIO "," CORACORA "," PAUSA "," QUEROBAMBA "," HUANCAPI "," VILCAS HUAMAN "," CAJAMARCA "," CAJABAMBA "," CELENDIN "," CHOTA "," CONTUMAZA "," CUTERVO "," BAMBAMARCA "," JAEN "," SAN IGNACIO "," PEDRO GALVEZ "," SAN MIGUEL "," SAN PABLO "," SANTA CRUZ "," CALLAO "," MI PERÚ "," WANCHAQ "," SANGARARA "," ZURITE "," YANAOCA "," SICUANI "," SANTO TOMAS "," ESPINAR "," SANTA ANA "," PARURO "," PAUCARTAMBO "," URCOS "," URUBAMBA "," HUANCAVELICA "," ACOBAMBA "," LIRCAY "," CASTROVIRREYNA "," CHURCAMPA "," HUAYTARA "," PAMPAS "," HUANUCO "," AMBO "," LA UNION "," HUACAYBAMBA "," LLATA "," RUPA-RUPA "," HUACRACHUCO "," PANAO "," PUERTO INCA "," JESUS "," CHAVINILLO "," ICA "," CHINCHA ALTA "," NAZCA "," PALPA "," PISCO "," HUANCAYO "," VIQUES "," CHANCHAMAYO "," JAUJA "," JUNIN "," SATIPO "," TARMA "," LA OROYA "," CHUPACA "," TRUJILLO "," ASCOPE "," BOLIVAR "," CHEPEN "," JULCAN "," OTUZCO "," SAN PEDRO DE LLOC "," TAYABAMBA "," HUAMACHUCO "," SANTIAGO DE CHUCO "," CASCAS "," VIRU "," CHICLAYO "," FERREÑAFE "," LAMBAYEQUE "," LIMA "," BARRANCA "," CAJATAMBO "," CANTA "," SAN VICENTE DE CAÑETE "," HUARAL "," MATUCANA "," HUACHO "," OYON "," YAUYOS "," IQUITOS "," YURIMAGUAS "," NAUTA "," RAMON CASTILLA "," REQUENA "," CONTAMANA "," BARRANCA "," TAMBOPATA "," MANU "," IÑAPARI "," MOQUEGUA "," OMATE "," ILO "," CHAUPIMARCA "," YANAHUANCA "," OXAPAMPA "," PIURA "," AYABACA "," HUANCABAMBA "," MORROPON "," PAITA "," SULLANA "," PARIÑAS "," SECHURA "," PUNO "," AZANGARO "," MACUSANI "," JULI "," ILAVE "," HUANCANE "," LAMPA "," AYAVIRI "," MOHO "," PUTINA "," JULIACA "," SANDIA "," YUNGUYO "," MOYOBAMBA "," BELLAVISTA "," SAN JOSE DE SISA "," SAPOSOA "," LAMAS "," JUANJUI "," PICOTA "," RIOJA "," TARAPOTO "," TOCACHE "," TACNA "," CANDARAVE "," LOCUMBA "," TARATA "," TUMBES "," ZORRITOS "," ZARUMILLA "," CALLERIA "," RAYMONDI "," PADRE ABAD "," PURUS "]
[" ASUNCION "," ARAMANGO "," CHISQUILLA "," EL CENEPA "," CAMPORREDONDO "," CHIRIMOTO "," CAJARURO "," COCHABAMBA "," CORIS "," ACZO "," ACOCHACA "," ABELARDO PARDO LEZAMETA "," ACOPAMPA "," SAN NICOLAS "," BUENA VISTA ALTA "," ACO "," ANRA "," COCHAPETI "," HUALLANCA "," CASCA "," ACAS "," BOLOGNESI "," HUAYLLAN "," CATAC "," CACERES DEL PERU "," ACOBAMBA "," CASCAPARA "," CHACOCHE "," ANDARAPA "," EL ORO "," CAPAYA "," COTABAMBAS "," ANCO_HUALLO "," CURPAHUASI "," ALTO SELVA ALEGRE "," JOSE MARIA QUIMPER "," ACARI "," ANDAGUA "," ACHOMA "," ANDARAY "," COCACHACRA "," ALCA "," ACOCRO "," CHUSCHI "," CARAPO "," AYAHUANCO "," ANCO "," AUCARA "," CHUMPI "," COLTA "," BELEN "," ALCAMENCA "," ACCOMARCA "," ASUNCION "," CACHACHI "," CHUMUCH "," ANGUIA "," CHILETE "," CALLAYUC "," CHUGUR "," BELLAVISTA "," CHIRINOS "," CHANCAY "," BOLIVAR "," SAN BERNARDINO "," ANDABAMBA "," BELLAVISTA "," CUSCO "," ACOMAYO "," ANTA "," CALCA "," CHECCA "," CHECACUPE "," CAPACMARCA "," CONDOROMA "," ECHARATE "," ACCHA "," CAICAY "," ANDAHUAYLILLAS "," CHINCHERO "," ACOBAMBILLA "," ANDABAMBA "," ANCHONGA "," ARMA "," ANCO "," AYAVI "," ACOSTAMBO "," AMARILIS "," CAYNA "," CHUQUIS "," CANCHABAMBA "," ARANCAY "," DANIEL ALOMIAS ROBLES "," CHOLON "," CHAGLLA "," CODO DEL POZUZO "," BAÑOS "," CAHUAC "," LA TINGUIÑA "," ALTO LARAN "," CHANGUILLO "," LLIPATA "," HUANCANO "," CARHUACALLANGA "," CONCEPCION "," PERENE "," ACOLLA "," CARHUAMAYO "," COVIRIALI "," ACOBAMBA "," CHACAPALPA "," AHUAC "," EL PORVENIR "," CHICAMA "," BAMBAMARCA "," PACANGA "," CALAMARCA "," AGALLPAMPA "," GUADALUPE "," BULDIBUYO "," CHUGAY "," ANGASMARCA "," LUCMA "," CHAO "," CHONGOYAPE "," CAÑARIS "," CHOCHOPE ","ANCON "," PARAMONGA "," COPA "," ARAHUAY "," ASIA "," ATAVILLOS ALTO "," ANTIOQUIA "," AMBAR "," ANDAJES "," ALIS "," ALTO NANAY "," BALSAPUERTO "," PARINARI "," PEBAS "," ALTO TAPICHE "," INAHUAYA "," CAHUAPANAS "," INAMBARI "," FITZCARRALD "," IBERIA "," CARUMAS "," CHOJATA "," EL ALGARROBAL "," HUACHON "," CHACAYAN "," CHONTABAMBA "," CASTILLA "," FRIAS "," CANCHAQUE "," SALITRAL "," AMOTAPE "," BELLAVISTA "," EL ALTO "," BELLAVISTA DE LA UNION "," ACORA "," ACHAYA "," AJOYANI "," DESAGUADERO "," CAPAZO "," COJATA "," CABANILLA "," ANTAUTA "," CONIMA "," ANANEA "," CABANA "," CUYOCUYO "," ANAPIA "," CALZADA "," ALTO BIAVO "," AGUA BLANCA "," ALTO SAPOSOA "," ALONSO DE ALVARADO "," CAMPANILLA "," BUENOS AIRES "," AWAJUN "," ALBERTO LEVEAU "," NUEVO PROGRESO "," ALTO DE LA ALIANZA "," CAIRANI "," ILABAYA "," HEROES ALBARRACIN "," CORRALES "," CASITAS "," AGUAS VERDES "," CAMPOVERDE "," SEPAHUA "," IRAZOLA "]
[" BALSAS "," COPALLIN "," CHURUJA "," RIO SANTIAGO "," COCABAMBA "," COCHAMAL "," CUMBA "," COLCABAMBA "," HUACLLAN "," CHACCHO ",null," ANTONIO RAYMONDI "," AMASHCA "," YAUYA "," COMANDANTE NOEL "," BAMBAS "," CAJAY "," CULEBRAS "," HUATA "," ELEAZAR GUZMAN BARRON "," CAJAMARQUILLA "," CONCHUCOS "," PAROBAMBA "," COTAPARACO "," COISHCO "," ALFONSO UGARTE "," MANCOS "," CIRCA "," CHIARA "," HUAQUIRCA "," CARAYBAMBA "," COYLLURQUI "," COCHARCAS "," GAMARRA "," CAYMA "," MARIANO NICOLAS VALCARCEL "," ATICO "," AYO "," CABANACONDE "," CAYARANI "," DEAN VALDIVIA "," CHARCANA "," ACOS VINCHOS "," LOS MOROCHUCOS "," SACSAMARCA "," HUAMANGUILLA "," AYNA "," CABANA "," CORONEL CASTAÑEDA "," CORCULLA "," CHALCOS "," APONGO "," CARHUANCA "," CHETILLA "," CONDEBAMBA "," CORTEGANA "," CHADIN "," CUPISNIQUE "," CHOROS "," HUALGAYOC "," CHONTALI "," HUARANGO "," EDUARDO VILLANUEVA "," CALQUIS "," SAN LUIS "," CATACHE "," CARMEN DE LA LEGUA Y REYNOSO "," CCORCA "," ACOPIA "," ANCAHUASI "," COYA "," KUNTURKANKI "," COMBAPATA "," CHAMACA "," COPORAQUE "," HUAYOPATA "," CCAPI "," CHALLABAMBA "," CAMANTI "," HUAYLLABAMBA "," ACORIA "," ANTA "," CALLANMARCA "," AURAHUA "," CHINCHIHUASI "," CORDOVA "," ACRAQUIA "," CHINCHAO "," COLPAS "," MARIAS "," COCHABAMBA "," CHAVIN DE PARIARCA "," HERMILIO VALDIZAN "," SAN BUENAVENTURA "," MOLINO "," HONORIA "," JIVIA "," CHACABAMBA "," LOS AQUIJES "," CHAVIN "," EL INGENIO "," RIO GRANDE "," HUMAY "," CHACAPAMPA "," ACO "," PICHANAQUI "," APATA "," ONDORES "," LLAYLLA "," HUARICOLCA "," HUAY-HUAY "," CHONGOS BAJO "," FLORENCIA DE MORA "," CHOCOPE "," CONDORMARCA "," PUEBLO NUEVO "," CARABAMBA "," CHARAT "," JEQUETEPEQUE "," CHILLIA "," COCHORCO "," CACHICADAN "," COMPIN "," GUADALUPITO "," ETEN "," INCAHUASI "," ILLIMO ","ATE "," PATIVILCA "," GORGOR "," HUAMANTANGA "," CALANGO "," ATAVILLOS BAJO "," CALLAHUANCA "," CALETA DE CARQUIN "," CAUJUL "," AYAUCA "," FERNANDO LORES "," JEBEROS "," TIGRE "," YAVARI "," CAPELO "," PADRE MARQUEZ "," MANSERICHE "," LAS PIEDRAS "," MADRE DE DIOS "," TAHUAMANU "," CUCHUMBAYA "," COALAQUE "," PACOCHA "," HUARIACA "," GOYLLARISQUIZGA "," HUANCABAMBA "," CATACAOS "," JILILI "," EL CARMEN DE LA FRONTERA "," SAN JUAN DE BIGOTE "," ARENAL "," IGNACIO ESCUDERO "," LA BREA "," BERNAL "," AMANTANI "," ARAPA "," AYAPATA "," HUACULLANI "," PILCUYO "," HUATASANI "," CALAPUJA "," CUPI "," HUAYRAPATA "," PEDRO VILCA APAZA "," CABANILLAS "," LIMBANI "," COPANI "," HABANA "," BAJO BIAVO "," SAN MARTIN "," EL ESLABON "," BARRANQUITA "," HUICUNGO "," CASPISAPA "," ELIAS SOPLIN VARGAS "," CACATACHI "," POLVORA "," CALANA "," CAMILACA "," ITE "," ESTIQUE "," LA CRUZ "," CANOAS DE PUNTA SAL "," MATAPALO "," IPARIA "," TAHUANIA "," CURIMANA "]
[" CHETO "," EL PARCO "," COROSHA ",null," COLCAMAR "," HUAMBO "," EL MILAGRO "," HUANCHAY "," LA MERCED "," CHINGAS ",null," AQUIA "," ANTA ",null," YAUTAN "," CUSCA "," CHAVIN DE HUANTAR "," HUAYAN "," HUAYLAS "," FIDEL OLIVAS ESCUDERO "," CARHUAPAMPA "," HUACASCHUQUE "," QUINUABAMBA "," HUAYLLAPAMPA "," MACATE "," CASHAPAMPA "," MATACOTO "," CURAHUASI "," HUANCARAMA "," JUAN ESPINOZA MEDRANO "," CHAPIMARCA "," HAQUIRA "," HUACCANA "," HUAYLLATI "," CERRO COLORADO "," MARISCAL CACERES "," ATIQUIPA "," CHACHAS "," CALLALLI "," CHICHAS "," ISLAY "," HUAYNACOTAS "," CARMEN ALTO "," MARIA PARADO DE BELLIDO "," SANTIAGO DE LUCANAMARCA "," IGUAIN "," CHILCAS "," CARMEN SALCEDO "," PACAPAUSA "," LAMPA "," CHILCAYOC "," ASQUIPATA "," CONCEPCION "," COSPAN "," SITACOCHA "," HUASMIN "," CHIGUIRIP "," GUZMANGO "," CUJILLO ",null," COLASAY "," LA COIPA "," GREGORIO PITA "," CATILLUC "," TUMBADEN "," CHANCAYBAÑOS "," LA PERLA "," POROY "," ACOS "," CACHIMAYO "," LAMAY "," LANGUI "," MARANGANI "," COLQUEMARCA "," OCORURO "," MARANURA "," COLCHA "," COLQUEPATA "," CCARHUAYO "," MACHUPICCHU "," CONAYCA "," CAJA "," CCOCHACCASA "," CAPILLAS "," EL CARMEN "," HUAYACUNDO ARMA "," AHUAYCHA "," CHURUBAMBA "," CONCHAMARCA "," PACHAS "," PINRA "," JACAS GRANDE "," JOSE CRESPO Y CASTILLO "," LA MORADA"," UMARI "," TOURNAVISTA "," QUEROPALCA "," APARICIO POMARES "," OCUCAJE "," CHINCHA BAJA "," MARCONA "," SANTA CRUZ "," INDEPENDENCIA "," CHICCHE "," ANDAMARCA "," SAN LUIS DE SHUARO "," ATAURA "," ULCUMAYO "," MAZAMARI "," HUASAHUASI "," MARCAPOMACOCHA "," HUACHAC "," HUANCHACO "," MAGDALENA DE CAO "," LONGOTEA ",null," HUASO "," HUARANCHAL "," PACASMAYO "," HUANCASPATA "," CURGOS "," MOLLEBAMBA "," SAYAPULLO ",null," ETEN PUERTO "," MANUEL ANTONIO MESONES MURO "," JAYANCA ","BARRANCO "," SUPE "," HUANCAPON "," HUAROS "," CERRO AZUL "," AUCALLAMA "," CARAMPOMA "," CHECRAS "," COCHAMARCA "," AYAVIRI "," INDIANA "," LAGUNAS "," TROMPETEROS "," SAN PABLO "," EMILIO SAN MARTIN "," PAMPA HERMOSA "," MORONA "," LABERINTO "," HUEPETUHE ",null," SAMEGUA "," ICHUÑA ",null," HUAYLLAY "," PAUCAR "," PALCAZU "," CURA MORI "," LAGUNAS "," HUARMACA "," SANTA CATALINA DE MOSSA "," COLAN "," LANCONES "," LOBITOS "," CRISTO NOS VALGA "," ATUNCOLLA "," ASILLO "," COASA "," KELLUYO "," SANTA ROSA "," INCHUPALLA "," NICASIO "," LLALLI "," TILALI "," QUILCAPUNCU "," CARACOTO "," PATAMBUCO "," CUTURAPI "," JEPELACIO "," HUALLAGA "," SANTA ROSA "," PISCOYACU "," CAYNARACHI "," PACHIZA "," PILLUANA "," NUEVA CAJAMARCA "," CHAZUTA "," SHUNTE "," CIUDAD NUEVA "," CURIBAYA ",null," ESTIQUE-PAMPA "," PAMPAS DE HOSPITAL ",null," PAPAYAL "," MASISEA "," YURUA "]
[" CHILIQUIN "," IMAZA "," CUISPES ",null," CONILA "," LIMABAMBA "," JAMALCA "," INDEPENDENCIA "," SUCCHA "," MIRGAS ",null," CAJACAY "," ATAQUERO ",null,null," LA PAMPA "," HUACACHI "," MALVAS "," MATO "," LLAMA "," COCHAS "," HUANDOVAL ",null," LLACLLIN "," MORO "," CHINGALPO "," QUILLO "," HUANIPACA "," HUANCARAY "," OROPESA "," COLCABAMBA "," MARA "," OCOBAMBA "," MAMARA "," CHARACATO "," NICOLAS DE PIEROLA "," BELLA UNION "," CHILCAYMARCA "," CAYLLOMA "," IRAY "," MEJIA "," PAMPAMARCA "," CHIARA "," PARAS ",null," LURICOCHA "," CHUNGUI "," CHAVIÑA "," PULLO "," MARCABAMBA "," HUACAÑA "," CANARIA "," HUAMBALPA "," ENCAÑADA ",null," JORGE CHAVEZ "," CHIMBAN "," SAN BENITO "," LA RAMADA ",null," HUABAL "," NAMBALLE "," ICHOCAN "," EL PRADO ",null," LA ESPERANZA "," LA PUNTA "," SAN JERONIMO "," MOSOC LLACTA "," CHINCHAYPUJIO "," LARES "," LAYO "," PITUMARCA "," LIVITACA "," PALLPATA "," OCOBAMBA "," HUANOQUITE "," HUANCARANI "," CCATCA "," MARAS "," CUENCA "," MARCAS "," CHINCHO "," CHUPAMARCA "," LA MERCED "," LARAMARCA "," COLCABAMBA "," MARGOS "," HUACAR "," QUIVILLA ",null," JIRCAN "," LUYANDO "," SANTA ROSA DE ALTO YANAJANCA",null," YUYAPICHIS "," RONDOS "," JACAS CHICO "," PACHACUTEC "," EL CARMEN "," VISTA ALEGRE "," TIBILLO "," PARACAS "," CHILCA "," CHAMBARA "," SAN RAMON "," CANCHAYLLO ",null," PAMPA HERMOSA "," LA UNION "," MOROCOCHA "," HUAMANCACA CHICO "," LA ESPERANZA "," PAIJAN "," UCHUMARCA ",null,null," LA CUESTA "," SAN JOSE "," HUAYLILLAS "," MARCABAL "," MOLLEPATA ",null,null," JOSE LEONARDO ORTIZ "," PITIPO "," MOCHUMI ","BREÑA "," SUPE PUERTO "," MANAS "," LACHAQUI "," CHILCA "," CHANCAY "," CHICLA "," HUALMAY "," NAVAN "," AZANGARO "," LAS AMAZONAS "," SANTA CRUZ "," URARINAS ",null," MAQUIA "," SARAYACU "," PASTAZA ",null,null,null," SAN CRISTOBAL "," LA CAPILLA ",null," NINACACA "," SAN PEDRO DE PILLAO "," POZUZO "," EL TALLAN "," MONTERO "," LALAQUIZ "," SANTO DOMINGO "," LA HUACA "," MARCAVELICA "," LOS ORGANOS "," VICE "," CAPACHICA "," CAMINACA "," CORANI "," PISACOMA "," CONDURIRI "," PUSI "," OCUVIRI "," MACARI ",null," SINA ",null," PHARA "," OLLARAYA "," SORITOR "," SAN PABLO "," SHATOJA "," SACANCHE "," CUÑUMBUQUI "," PAJARILLO "," PUCACACA "," PARDO MIGUEL "," CHIPURANA "," UCHIZA "," INCLAN "," HUANUARA ",null," SITAJARA "," SAN JACINTO ",null,null," YARINACOCHA "]
[" CHUQUIBAMBA "," LA PECA "," FLORIDA ",null," INGUILPATA "," LONGAR "," LONYA GRANDE "," JANGAS ",null," SAN JUAN DE RONTOY ",null," CANIS "," MARCARA ",null,null," YANAC "," HUACCHIS ",null," PAMPAROMAS "," LLUMPA "," CONGAS "," LACABAMBA ",null," MARCA "," NEPEÑA "," HUAYLLABAMBA "," RANRAHIRCA "," LAMBRAMA "," HUAYANA "," PACHACONAS "," COTARUSE "," CHALLHUAHUACHO "," ONGOY "," MICAELA BASTIDAS "," CHIGUATA "," OCOÑA "," CAHUACHO "," CHOCO "," COPORAQUE "," RIO GRANDE "," PUNTA DE BOMBON "," PUYCA "," OCROS "," TOTOS ",null," SANTILLANA "," LUIS CARRANZA "," CHIPAO "," PUYUSCA "," OYOLO "," MORCOLLA "," CAYARA "," INDEPENDENCIA "," JESUS ",null," JOSE GALVEZ "," CHOROPAMPA "," SANTA CRUZ DE TOLED "," PIMPINGOS ",null," LAS PIRIAS "," SAN JOSE DE LOURDES "," JOSE MANUEL QUIROZ "," LA FLORIDA ",null," NINABAMBA "," VENTANILLA "," SAN SEBASTIAN "," POMACANCHI "," HUAROCONDO "," PISAC "," PAMPAMARCA "," SAN PABLO "," LLUSCO "," PICHIGUA "," QUELLOUNO "," OMACHA "," KOSÑIPATA "," CUSIPATA "," OLLANTAYTAMBO "," HUACHOCOLPA "," PAUCARA "," CONGALLA "," COCAS "," LOCROJA "," OCOYO "," DANIEL HERNANDEZ "," QUISQUI "," SAN FRANCISCO "," RIPAN ",null," MIRAFLORES "," MARIANO DAMASO BERAUN ",null,null,null," SAN FRANCISCO DE ASIS "," OBAS "," PARCONA "," GROCIO PRADO ",null,null," SAN ANDRES "," CHONGOS ALTO "," COCHAS "," VITOC "," CURICACA ",null," PANGOA "," PALCA "," PACCHA "," SAN JUAN DE YSCOS "," LAREDO "," RAZURI "," UCUNCHA ",null,null," MACHE ",null," HUAYO "," SANAGORAN "," QUIRUVILCA ",null,null," LA VICTORIA "," PUEBLO NUEVO "," MORROPE ","CARABAYLLO ",null,null," SAN BUENAVENTURA "," COAYLLO "," IHUARI "," CUENCA "," HUAURA "," PACHANGARA "," CACRA "," MAZAN "," TENIENTE CESAR LOPEZ ROJAS ",null,null," PUINAHUA "," VARGAS GUERRA "," ANDOAS ",null,null,null," TORATA "," LLOQUE ",null," PALLANCHACRA "," SANTA ANA DE TUSI "," PUERTO BERMUDEZ "," LA ARENA "," PACAIPAMPA "," SAN MIGUEL DE EL FAIQUE "," YAMANGO "," TAMARINDO "," MIGUEL CHECA "," MANCORA "," RINCONADA LLICUAR "," CHUCUITO "," CHUPA "," CRUCERO "," POMATA ",null," ROSASPATA "," PALCA "," NUÑOA ",null,null,null," QUIACA "," TINICACHI "," YANTALO "," SAN RAFAEL ",null," TINGO DE SAPOSOA "," PINTO RECODO ",null," SAN CRISTOBAL "," POSIC "," EL PORVENIR ",null," PACHIA "," QUILAHUANI ",null," SUSAPAYA "," SAN JUAN DE LA VIRGEN ",null,null," NUEVA REQUENA "]
[" GRANADA ",null," JAZAN ",null," LONGUITA "," MARISCAL BENAVIDES "," YAMON "," LA LIBERTAD ",null,null,null," COLQUIOC "," PARIAHUANCA ",null,null," YUPAN "," HUACHIS ",null," PUEBLO LIBRE "," LUCMA "," LLIPA "," LLAPO ",null," PAMPAS CHICO "," SAMANCO "," QUICHES "," SHUPLUY "," PICHIRHUA "," KISHUARA "," SABAINO "," HUAYLLO ",null," URANMARCA "," PATAYPAMPA "," JACOBO HUNTER "," QUILCA "," CHALA "," HUANCARQUI "," HUAMBO "," SALAMANCA ",null," QUECHUALLA "," PACAYCASA ",null,null," SIVIA "," SANTA ROSA "," HUAC-HUAS "," SAN FRANCISCO DE RAVACAYCO "," PARARCA "," PAICO "," COLCA "," SAURAMA "," LLACANORA ",null," MIGUEL IGLESIAS "," COCHABAMBA "," TANTARICA "," QUEROCOTILLO ",null," POMAHUACA "," TABACONAS "," JOSE SABOGAL "," LLAPA ",null," PULAN ",null," SANTIAGO "," RONDOCAN "," LIMATAMBO "," SAN SALVADOR "," QUEHUE "," SAN PEDRO "," QUIÑOTA "," SUYCKUTAMBO "," KIMBIRI "," PACCARITAMBO ",null," HUARO "," YUCAY "," HUAYLLAHUARA "," POMACOCHA "," HUANCA-HUANCA "," HUACHOS "," PAUCARBAMBA "," PILPICHACA "," HUACHOCOLPA "," SAN FRANCISCO DE CAYRAN "," SAN RAFAEL "," SHUNQUI ",null," MONZON "," PUCAYACU",null,null,null," SAN MIGUEL DE CAURI "," PAMPAMARCA "," PUEBLO NUEVO "," PUEBLO NUEVO ",null,null," SAN CLEMENTE "," CHUPURO "," COMAS ",null," EL MANTARO ",null," RIO NEGRO "," PALCAMAYO "," SANTA BARBARA DE CARHUACAYAN "," SAN JUAN DE JARPA "," MOCHE "," SANTIAGO DE CAO ",null,null,null," PARANDAY ",null," ONGON "," SARIN "," SANTA CRUZ DE CHUCA ",null,null," LAGUNAS ",null," MOTUPE ","CHACLACAYO ",null,null," SANTA ROSA DE QUIVES "," IMPERIAL "," LAMPIAN "," HUACHUPAMPA "," LEONCIO PRADO ",null," CARANIA "," NAPO ",null,null,null," SAQUENA ",null,null,null,null,null,null," MATALAQUE ",null," PAUCARTAMBO "," TAPUC "," VILLA RICA "," LA UNION "," PAIMAS "," SONDOR ",null," VICHAYAL "," QUERECOTILLO ",null,null," COATA "," JOSE DOMINGO CHOQUEHUANCA "," ITUATA "," ZEPITA ",null," TARACO "," PARATIA "," ORURILLO ",null,null,null," SAN JUAN DEL ORO "," UNICACHI ",null,null,null,null," RUMISAPA ",null," SAN HILARION "," SAN FERNANDO "," HUIMBAYOC ",null," PALCA ",null,null," TARUCACHI ",null,null,null," MANANTAY "]
[" HUANCAS ",null," RECTA ",null," LONYA CHICO "," MILPUC ",null," OLLEROS ",null,null,null," HUALLANCA "," SAN MIGUEL DE ACO ",null,null,null," HUANTAR ",null," SANTA CRUZ "," MUSGA "," SAN CRISTOBAL DE RAJAN "," PALLASCA ",null," PARARIN "," SANTA "," RAGASH "," YANAMA "," SAN PEDRO DE CACHORA "," PACOBAMBA ",null," JUSTO APU SAHUARAURA ",null," RANRACANCHA "," PROGRESO "," LA JOYA "," SAMUEL PASTOR "," CHAPARRA "," MACHAGUAY "," HUANCA "," YANAQUIHUA ",null," SAYLA "," QUINUA ",null,null," LLOCHEGUA "," TAMBO "," LARAMATE "," UPAHUACHO "," SAN JAVIER DE ALPABAMBA "," SAN PEDRO DE LARCAY "," HUAMANQUIQUIA "," VISCHONGO "," LOS BAÑOS DEL INCA ",null," OXAMARCA "," CONCHAN "," YONAN "," SAN ANDRES DE CUTERVO ",null," PUCARA ",null,null," NANCHOC ",null," SAUCEPAMPA ",null," SAYLLA ",null," MOLLEPATA "," TARAY "," TUPAC AMARU "," TINTA "," VELILLE "," ALTO PICHIGUA "," SANTA TERESA "," PILLPINTO ",null," LUCRE ",null," IZCUCHACA "," ROSARIO "," HUAYLLAY GRANDE "," HUAMATAMBO "," SAN MIGUEL DE MAYOCC "," QUERCO "," HUARIBAMBA "," SAN PEDRO DE CHAULAN "," TOMAY KICHWA "," SILLAPATA ",null," PUNCHAO "," CASTILLO GRANDE",null,null,null,null," CHORAS "," SALAS "," SAN JUAN DE YANAC ",null,null," TUPAC AMARU INCA "," COLCA "," HEROINAS TOLEDO ",null," HUAMALI ",null," RIO TAMBO "," SAN PEDRO DE CAJAS "," SANTA ROSA DE SACCO "," TRES DE DICIEMBRE "," POROTO "," CASA GRANDE ",null,null,null," SALPO ",null," PARCOY "," SARTIMBAMBA "," SITABAMBA ",null,null," MONSEFU ",null," OLMOS "," CHORRILLOS ",null,null,null," LUNAHUANA "," PACARAOS "," HUANZA "," PACCHO ",null," CATAHUASI "," PUNCHANA ",null,null,null," SOPLIN ",null,null,null,null,null,null," PUQUINA ",null," SAN FRANCISCO DE ASIS DE YARUSYACAN "," VILCABAMBA ",null," LAS LOMAS "," SAPILLICA "," SONDORILLO ",null,null," SALITRAL ",null,null," HUATA "," MUÑANI "," OLLACHEA ",null,null," VILQUE CHICO "," PUCARA "," SANTA ROSA ",null,null,null," YANAHUAYA ",null,null,null,null,null," SAN ROQUE DE CUMBAZA ",null," SHAMBOYACU "," YORONGOS "," JUAN GUERRA ",null," POCOLLAY ",null,null," TICACO "]
[" LA JALCA ",null," SAN CARLOS ",null," LUYA "," OMIA ",null," PAMPAS ",null,null,null," HUASTA "," SHILLA ",null,null,null," MASIN ",null," SANTO TORIBIO ",null," SAN PEDRO "," PAMPAS ",null," TAPACOCHA "," NUEVO CHIMBOTE "," SAN JUAN ",null," TAMBURCO "," PACUCHA ",null," LUCRE ",null,null," SAN ANTONIO "," MARIANO MELGAR ",null," HUANUHUANU "," ORCOPAMPA "," ICHUPAMPA ",null,null," TAURIA "," SAN JOSE DE TICLLAS ",null,null,null,null," LEONCIO PRADO ",null," SAN JOSE DE USHUA "," SAN SALVADOR DE QUIJE "," HUANCARAYLLA ",null," MAGDALENA ",null," SOROCHUCO "," HUAMBOS ",null," SAN JUAN DE CUTERVO ",null," SALLIQUE ",null,null," NIEPOS ",null," SEXI ",null,null,null," PUCYURA "," YANATILE ",null,null,null,null," VILCABAMBA "," YAURISQUE ",null," MARCAPATA ",null," LARIA ",null," JULCAMARCA "," MOLLEPAMPA "," SAN PEDRO DE CORIS "," QUITO-ARMA "," ÑAHUIMPUQUIO "," SANTA MARIA DEL VALLE ",null," YANAS ",null," PUÑOS "," PUEBLO NUEVO ",null,null,null,null,null," SAN JOSE DE LOS MOLINOS "," SAN PEDRO DE HUACARPANA ",null,null,null," CULLHUAS "," MANZANARES ",null," HUARIPAMPA ",null,null," TAPO "," SUITUCANCHA "," YANACANCHA "," SALAVERRY ",null,null,null,null," SINSICAP ",null," PATAZ ",null,null,null,null," NUEVA ARICA ",null," PACORA "," CIENEGUILLA ",null,null,null," MALA "," SAN MIGUEL DE ACOS "," HUAROCHIRI "," SANTA LEONOR ",null," CHOCOS "," PUTUMAYO ",null,null,null," TAPICHE ",null,null,null,null,null,null," QUINISTAQUILLAS ",null," SIMON BOLIVAR ",null,null," TAMBO GRANDE "," SICCHEZ "," CHULUCANAS ",null,null,null,null,null," MAÑAZO "," POTONI "," SAN GABAN ",null,null,null," SANTA LUCIA "," UMACHIRI ",null,null,null," ALTO INAMBARI ",null,null,null,null,null," SHANAO ",null," TINGO DE PONASA "," YURACYACU "," LA BANDA DE SHILCAYO ",null," SAMA "]
[" LEIMEBAMBA ",null," SHIPASBAMBA ",null," LUYA VIEJO "," SANTA ROSA ",null," PARIACOTO ",null,null,null," HUAYLLACAYAN "," TINCO ",null,null,null," PAUCAS ",null," YURACMARCA ",null," SANTIAGO DE CHILCAS "," SANTA ROSA ",null," TICAPAMPA ",null," SICSIBAMBA ",null,null," PAMPACHIRI ",null," POCOHUANCA ",null,null," SANTA ROSA "," MIRAFLORES ",null," JAQUI "," PAMPACOLCA "," LARI ",null,null," TOMEPAMPA "," SAN JUAN BAUTISTA ",null,null,null,null," LLAUTA ",null," SARA SARA "," SANTIAGO DE PAUCARAY "," HUAYA ",null," MATARA ",null," SUCRE "," LAJAS ",null," SAN LUIS DE LUCMA ",null," SAN FELIPE ",null,null," SAN GREGORIO ",null," UTICYACU ",null,null,null,null,null,null,null,null,null," PICHARI ",null,null," OCONGATE ",null," MANTA ",null," SAN ANTONIO DE ANTAPARCO "," SAN JUAN "," PACHAMARCA "," SAN ANTONIO DE CUSICANCHA "," PAZOS "," YARUMAYO ",null,null,null," SINGA "," SANTO DOMINGO DE ANDA",null,null,null,null,null," SAN JUAN BAUTISTA "," SUNAMPE ",null,null,null," EL TAMBO "," MARISCAL CASTILLA ",null," HUERTAS ",null,null,null," YAULI ",null," SIMBAL ",null,null,null,null," USQUIL ",null," PIAS ",null,null,null,null," OYOTUN ",null," SALAS "," COMAS ",null,null,null," NUEVO IMPERIAL "," SANTA CRUZ DE ANDAMARCA "," LAHUAYTAMBO "," SANTA MARIA ",null," COCHAS "," TORRES CAUSANA ",null,null,null," JENARO HERRERA ",null,null,null,null,null,null," UBINAS ",null," TICLACAYAN ",null,null,null," SUYO "," BUENOS AIRES ",null,null,null,null,null," PAUCARCOLLA "," SAMAN "," USICAYOS ",null,null,null," VILAVILA ",null,null,null,null," SAN PEDRO DE PUTINA PUNCO ",null,null,null,null,null," TABALOSOS ",null," TRES UNIDOS ",null," MORALES ",null," CORONEL GREGORIO ALBARRACIN LANCHIPA "]
[" LEVANTO ",null," VALERA ",null," MARIA "," TOTORA ",null," PIRA ",null,null,null," LA PRIMAVERA "," YUNGAR ",null,null,null," PONTO ",null,null,null,null," TAUCA ",null,null,null,null,null,null," POMACOCHA ",null," SAN JUAN DE CHACÑA ",null,null," TURPAY "," MOLLEBAYA ",null," LOMAS "," TIPAN "," LLUTA ",null,null," TORO "," SANTIAGO DE PISCHA ",null,null,null,null," LUCANAS ",null,null," SORAS "," SARHUA ",null," NAMORA ",null," UTCO "," LLAMA ",null," SANTA CRUZ ",null," SAN JOSE DEL ALTO ",null,null," SAN SILVESTRE DE COCHAN ",null," YAUYUCAN ",null,null,null,null,null,null,null,null,null,null,null,null," OROPESA ",null," MARISCAL CACERES ",null," SANTO TOMAS DE PATA "," SANTA ANA ",null," SAN FRANCISCO DE SANGAYAICO "," QUISHUAR "," PILLCO MARCA ",null,null,null," TANTAMAYO ",null,null,null,null,null,null," SANTIAGO "," TAMBO DE MORA ",null,null,null," HUACRAPUQUIO "," MATAHUASI ",null," JANJAILLO ",null,null,null,null,null," VICTOR LARCO HERRERA ",null,null,null,null,null,null," SANTIAGO DE CHALLAS ",null,null,null,null," PICSI ",null," SAN JOSE "," EL AGUSTINO ",null,null,null," PACARAN "," SUMBILCA "," LANGA "," SAYAN ",null," COLONIA "," BELEN ",null,null,null," YAQUERANA ",null,null,null,null,null,null," YUNGA ",null," TINYAHUARCO ",null,null,null,null," CHALACO ",null,null,null,null,null," PICHACANI "," SAN ANTON ",null,null,null,null,null,null,null,null,null,null,null,null,null,null,null," ZAPATERO ",null,null,null," PAPAPLAYA "]
[" MAGDALENA ",null," YAMBRASBAMBA ",null," OCALLI "," VISTA ALEGRE ",null," TARICA ",null,null,null," MANGAS ",null,null,null,null," RAHUAPAMPA ",null,null,null,null,null,null,null,null,null,null,null," SAN ANTONIO DE CACHI ",null," SAÑAYCA ",null,null," VILCABAMBA "," PAUCARPATA ",null," QUICACHA "," UÑON "," MACA ",null,null,null," SOCOS ",null,null,null,null," OCAÑA ",null,null,null," VILCANCHOS ",null," SAN JUAN ",null," LA LIBERTAD DE PALLAN "," MIRACOSTA ",null," SANTO DOMINGO DE LA CAPILLA ",null," SANTA ROSA ",null,null," TONGOD ",null,null,null,null,null,null,null,null,null,null,null,null,null,null," QUIQUIJANA ",null," MOYA ",null," SECCLLA "," TANTARA ",null," SAN ISIDRO "," SALCABAMBA "," SAN PABLO DE PILLAO",null,null,null,null,null,null,null,null,null,null," SUBTANJALLA ",null,null,null,null," HUALHUAS "," MITO ",null," JULCAN ",null,null,null,null,null,null,null,null,null,null,null,null," TAURIJA ",null,null,null,null," PIMENTEL ",null," TUCUME "," INDEPENDENCIA ",null,null,null," QUILMANA "," VEINTISIETE DE NOVIEMBRE "," LARAOS "," VEGUETA ",null," HONGOS "," SAN JUAN BAUTISTA ",null,null,null,null,null,null,null,null,null,null,null,null," VICCO ",null,null,null,null," LA MATANZA ",null,null,null,null,null," PLATERIA "," SAN JOSE ",null,null,null,null,null,null,null,null,null,null,null,null,null,null,null,null,null,null,null," SAN ANTONIO "]
[" MARISCAL CASTILLA ",null,null,null," OCUMAL ",null,null,null,null,null,null," PACLLON ",null,null,null,null," RAPAYAN ",null,null,null,null,null,null,null,null,null,null,null," SAN JERONIMO ",null," SORAYA ",null,null," VIRUNDO "," POCSI ",null," YAUCA "," URACA "," MADRIGAL ",null,null,null," TAMBILLO ",null,null,null,null," OTOCA ",null,null,null,null,null,null,null,null," PACCHA ",null," SANTO TOMAS ",null,null,null,null," UNION AGUA BLANCA ",null,null,null,null,null,null,null,null,null,null,null,null,null,null,null,null," NUEVO OCCORO ",null,null," TICRAPO ",null," SANTIAGO DE CHOCORVOS "," SALCAHUASI ",null,null,null,null,null,null,null,null,null,null,null," TATE ",null,null,null,null," HUANCAN "," NUEVE DE JULIO ",null," LEONOR ORDOÑEZ ",null,null,null,null,null,null,null,null,null,null,null,null," URPAY ",null,null,null,null," REQUE ",null,null," JESUS MARIA",null,null,null," SAN ANTONIO ",null," MARIATANA ",null,null," HUAMPARA "," TENIENTE MANUEL CLAVERO ",null,null,null,null,null,null,null,null,null,null,null,null," YANACANCHA ",null,null,null,null,null,null,null,null,null,null," SAN ANTONIO "," SAN JUAN DE SALINAS ",null,null,null,null,null,null,null,null,null,null,null,null,null,null,null,null,null,null,null," SAUCE "]
[" MOLINOPAMPA ",null,null,null," PISUQUIA ",null,null,null,null,null,null," SAN MIGUEL DE CORPANQUI ",null,null,null,null," SAN MARCOS ",null,null,null,null,null,null,null,null,null,null,null," SAN MIGUEL DE CHACCRAMPA ",null," TAPAIRIHUA ",null,null," CURASCO "," POLOBAYA ",null,null," VIRACO "," SAN ANTONIO DE CHUCA ",null,null,null," VINCHOS ",null,null,null,null," SAISA ",null,null,null,null,null,null,null,null," PION ",null," SOCOTA ",null,null,null,null,null,null,null,null,null,null,null,null,null,null,null,null,null,null,null,null,null," PALCA ",null,null,null,null," SANTIAGO DE QUIRAHUARA "," SAN MARCOS DE ROCCHAC ",null,null,null,null,null,null,null,null,null,null,null," YAUCA DEL ROSARIO ",null,null,null,null," HUASICANCHA "," ORCOTUNA ",null," LLOCLLAPAMPA ",null,null,null,null,null,null,null,null,null,null,null,null,null,null,null,null,null," SANTA ROSA ",null,null," LA MOLINA ",null,null,null," SAN LUIS ",null," RICARDO PALMA ",null,null," HUANCAYA ",null,null,null,null,null,null,null,null,null,null,null,null,null,null,null,null,null,null,null,null,null,null,null,null," TIQUILLACA "," SANTIAGO DE PUPUJA ",null,null,null,null,null,null,null,null,null,null,null,null,null,null,null,null,null,null,null," SHAPAJA "]
[" MONTEVIDEO ",null,null,null," PROVIDENCIA ",null,null,null,null,null,null," TICLLOS ",null,null,null,null," SAN PEDRO DE CHANA ",null,null,null,null,null,null,null,null,null,null,null," SANTA MARIA DE CHICMO ",null," TINTAY ",null,null,null," QUEQUEÑA ",null,null,null," SIBAYO ",null,null,null," JESUS NAZARENO ",null,null,null,null," SAN CRISTOBAL ",null,null,null,null,null,null,null,null," QUEROCOTO ",null," TORIBIO CASANOVA ",null,null,null,null,null,null,null,null,null,null,null,null,null,null,null,null,null,null,null,null,null," PILCHACA ",null,null,null,null," SANTO DOMINGO DE CAPILLAS "," SURCUBAMBA ",null,null,null,null,null,null,null,null,null,null,null,null,null,null,null,null," HUAYUCACHI "," SAN JOSE DE QUERO ",null," MARCO ",null,null,null,null,null,null,null,null,null,null,null,null,null,null,null,null,null," SAÑA ",null,null," LA VICTORIA ",null,null,null," SANTA CRUZ DE FLORES ",null," SAN ANDRES DE TUPICOCHA ",null,null," HUANGASCAR ",null,null,null,null,null,null,null,null,null,null,null,null,null,null,null,null,null,null,null,null,null,null,null,null," VILQUE "," TIRAPATA "]
[" OLLEROS ",null,null,null," SAN CRISTOBAL ",null,null,null,null,null,null,null,null,null,null,null," UCO ",null,null,null,null,null,null,null,null,null,null,null," TALAVERA ",null," TORAYA ",null,null,null," SABANDIA ",null,null,null," TAPAY ",null,null,null,null,null,null,null,null," SAN JUAN ",null,null,null,null,null,null,null,null," SAN JUAN DE LICUPIS ",null,null,null,null,null,null,null,null,null,null,null,null,null,null,null,null,null,null,null,null,null,null,null," VILCA ",null,null,null,null," TAMBO "," TINTAY PUNCU ",null,null,null,null,null,null,null,null,null,null,null,null,null,null,null,null," INGENIO "," SANTA ROSA DE OCOPA ",null," MASMA ",null,null,null,null,null,null,null,null,null,null,null,null,null,null,null,null,null," CAYALTI ",null,null," LINCE ",null,null,null," ZUÑIGA ",null," SAN ANTONIO ",null,null," HUANTAN "]
[" QUINJALCA ",null,null,null," SAN FRANCISCO DEL YESO ",null,null,null,null,null,null,null,null,null,null,null,null,null,null,null,null,null,null,null,null,null,null,null," TUMAY HUARACA ",null," YANACA ",null,null,null," SACHACA ",null,null,null," TISCO ",null,null,null,null,null,null,null,null," SAN PEDRO ",null,null,null,null,null,null,null,null," TACABAMBA ",null,null,null,null,null,null,null,null,null,null,null,null,null,null,null,null,null,null,null,null,null,null,null," YAULI ",null,null,null,null,null,null,null,null,null,null,null,null,null,null,null,null,null,null,null,null,null,null," PARIAHUANCA ",null,null," MASMA CHICCHE ",null,null,null,null,null,null,null,null,null,null,null,null,null,null,null,null,null," PATAPO ",null,null," LOS OLIVOS ",null,null,null,null,null," SAN BARTOLOME ",null,null," HUAÑEC "]
[" SAN FRANCISCO DE DAGUAS ",null,null,null," SAN JERONIMO ",null,null,null,null,null,null,null,null,null,null,null,null,null,null,null,null,null,null,null,null,null,null,null," TURPO ",null,null,null,null,null," SAN JUAN DE SIGUAS ",null,null,null," TUTI ",null,null,null,null,null,null,null,null," SAN PEDRO DE PALCO ",null,null,null,null,null,null,null,null," TOCMOCHE ",null,null,null,null,null,null,null,null,null,null,null,null,null,null,null,null,null,null,null,null,null,null,null," ASCENSION ",null,null,null,null,null,null,null,null,null,null,null,null,null,null,null,null,null,null,null,null,null,null," PILCOMAYO ",null,null," MOLINOS ",null,null,null,null,null,null,null,null,null,null,null,null,null,null,null,null,null," POMALCA ",null,null," LURIGANCHO ",null,null,null,null,null," SAN DAMIAN ",null,null," LARAOS "]
[" SAN ISIDRO DE MAINO ",null,null,null," SAN JUAN DE LOPECANCHA ",null,null,null,null,null,null,null,null,null,null,null,null,null,null,null,null,null,null,null,null,null,null,null," KAQUIABAMBA ",null,null,null,null,null," SAN JUAN DE TARUCANI ",null,null,null," YANQUE ",null,null,null,null,null,null,null,null," SANCOS ",null,null,null,null,null,null,null,null," CHALAMARCA ",null,null,null,null,null,null,null,null,null,null,null,null,null,null,null,null,null,null,null,null,null,null,null," HUANDO ",null,null,null,null,null,null,null,null,null,null,null,null,null,null,null,null,null,null,null,null,null,null," PUCARA ",null,null," MONOBAMBA ",null,null,null,null,null,null,null,null,null,null,null,null,null,null,null,null,null," PUCALA ",null,null," LURIN ",null,null,null,null,null," SAN JUAN DE IRIS ",null,null," LINCHA "]
[" SOLOCO ",null,null,null," SANTA CATALINA ",null,null,null,null,null,null,null,null,null,null,null,null,null,null,null,null,null,null,null,null,null,null,null,null,null,null,null,null,null," SANTA ISABEL DE SIGUAS ",null,null,null," MAJES ",null,null,null,null,null,null,null,null," SANTA ANA DE HUAYCAHUACHO ",null,null,null,null,null,null,null,null,null,null,null,null,null,null,null,null,null,null,null,null,null,null,null,null,null,null,null,null,null,null,null,null,null,null,null,null,null,null,null,null,null,null,null,null,null,null,null,null,null,null,null,null,null,null,null," QUICHUAY ",null,null," MUQUI ",null,null,null,null,null,null,null,null,null,null,null,null,null,null,null,null,null," TUMAN ",null,null," MAGDALENA DEL MAR ",null,null,null,null,null," SAN JUAN DE TANTARANCHE ",null,null," MADEAN "]
[" SONCHE ",null,null,null," SANTO TOMAS ",null,null,null,null,null,null,null,null,null,null,null,null,null,null,null,null,null,null,null,null,null,null,null,null,null,null,null,null,null," SANTA RITA DE SIGUAS ",null,null,null,null,null,null,null,null,null,null,null,null," SANTA LUCIA ",null,null,null,null,null,null,null,null,null,null,null,null,null,null,null,null,null,null,null,null,null,null,null,null,null,null,null,null,null,null,null,null,null,null,null,null,null,null,null,null,null,null,null,null,null,null,null,null,null,null,null,null,null,null,null," QUILCAS ",null,null," MUQUIYAUYO ",null,null,null,null,null,null,null,null,null,null,null,null,null,null,null,null,null,null,null,null," PUEBLO LIBRE ",null,null,null,null,null," SAN LORENZO DE QUINTI ",null,null," MIRAFLORES "]
[null,null,null,null," TINGO ",null,null,null,null,null,null,null,null,null,null,null,null,null,null,null,null,null,null,null,null,null,null,null,null,null,null,null,null,null," SOCABAYA ",null,null,null,null,null,null,null,null,null,null,null,null,null,null,null,null,null,null,null,null,null,null,null,null,null,null,null,null,null,null,null,null,null,null,null,null,null,null,null,null,null,null,null,null,null,null,null,null,null,null,null,null,null,null,null,null,null,null,null,null,null,null,null,null,null,null,null,null," SAN AGUSTIN ",null,null," PACA ",null,null,null,null,null,null,null,null,null,null,null,null,null,null,null,null,null,null,null,null," MIRAFLORES ",null,null,null,null,null," SAN MATEO ",null,null," OMAS "]
[null,null,null,null," TRITA ",null,null,null,null,null,null,null,null,null,null,null,null,null,null,null,null,null,null,null,null,null,null,null,null,null,null,null,null,null," TIABAYA ",null,null,null,null,null,null,null,null,null,null,null,null,null,null,null,null,null,null,null,null,null,null,null,null,null,null,null,null,null,null,null,null,null,null,null,null,null,null,null,null,null,null,null,null,null,null,null,null,null,null,null,null,null,null,null,null,null,null,null,null,null,null,null,null,null,null,null,null," SAN JERONIMO DE TUNAN ",null,null," PACCHA ",null,null,null,null,null,null,null,null,null,null,null,null,null,null,null,null,null,null,null,null," PACHACAMAC ",null,null,null,null,null," SAN MATEO DE OTAO ",null,null," PUTINZA "]
[null,null,null,null,null,null,null,null,null,null,null,null,null,null,null,null,null,null,null,null,null,null,null,null,null,null,null,null,null,null,null,null,null,null," UCHUMAYO ",null,null,null,null,null,null,null,null,null,null,null,null,null,null,null,null,null,null,null,null,null,null,null,null,null,null,null,null,null,null,null,null,null,null,null,null,null,null,null,null,null,null,null,null,null,null,null,null,null,null,null,null,null,null,null,null,null,null,null,null,null,null,null,null,null,null,null,null," SAÑO ",null,null," PANCAN ",null,null,null,null,null,null,null,null,null,null,null,null,null,null,null,null,null,null,null,null," PUCUSANA ",null,null,null,null,null," SAN PEDRO DE CASTA ",null,null," QUINCHES "]
[null,null,null,null,null,null,null,null,null,null,null,null,null,null,null,null,null,null,null,null,null,null,null,null,null,null,null,null,null,null,null,null,null,null," VITOR ",null,null,null,null,null,null,null,null,null,null,null,null,null,null,null,null,null,null,null,null,null,null,null,null,null,null,null,null,null,null,null,null,null,null,null,null,null,null,null,null,null,null,null,null,null,null,null,null,null,null,null,null,null,null,null,null,null,null,null,null,null,null,null,null,null,null,null,null," SAPALLANGA ",null,null," PARCO ",null,null,null,null,null,null,null,null,null,null,null,null,null,null,null,null,null,null,null,null," PUENTE PIEDRA ",null,null,null,null,null," SAN PEDRO DE HUANCAYRE ",null,null," QUINOCAY "]
[null,null,null,null,null,null,null,null,null,null,null,null,null,null,null,null,null,null,null,null,null,null,null,null,null,null,null,null,null,null,null,null,null,null," YANAHUARA ",null,null,null,null,null,null,null,null,null,null,null,null,null,null,null,null,null,null,null,null,null,null,null,null,null,null,null,null,null,null,null,null,null,null,null,null,null,null,null,null,null,null,null,null,null,null,null,null,null,null,null,null,null,null,null,null,null,null,null,null,null,null,null,null,null,null,null,null," SICAYA ",null,null," POMACANCHA ",null,null,null,null,null,null,null,null,null,null,null,null,null,null,null,null,null,null,null,null," PUNTA HERMOSA ",null,null,null,null,null," SANGALLAYA ",null,null," SAN JOAQUIN "]
[null,null,null,null,null,null,null,null,null,null,null,null,null,null,null,null,null,null,null,null,null,null,null,null,null,null,null,null,null,null,null,null,null,null," YARABAMBA ",null,null,null,null,null,null,null,null,null,null,null,null,null,null,null,null,null,null,null,null,null,null,null,null,null,null,null,null,null,null,null,null,null,null,null,null,null,null,null,null,null,null,null,null,null,null,null,null,null,null,null,null,null,null,null,null,null,null,null,null,null,null,null,null,null,null,null,null," SANTO DOMINGO DE ACOBAMBA ",null,null," RICRAN ",null,null,null,null,null,null,null,null,null,null,null,null,null,null,null,null,null,null,null,null," PUNTA NEGRA ",null,null,null,null,null," SANTA CRUZ DE COCACHACRA ",null,null," SAN PEDRO DE PILAS "]
[null,null,null,null,null,null,null,null,null,null,null,null,null,null,null,null,null,null,null,null,null,null,null,null,null,null,null,null,null,null,null,null,null,null," YURA ",null,null,null,null,null,null,null,null,null,null,null,null,null,null,null,null,null,null,null,null,null,null,null,null,null,null,null,null,null,null,null,null,null,null,null,null,null,null,null,null,null,null,null,null,null,null,null,null,null,null,null,null,null,null,null,null,null,null,null,null,null,null,null,null,null,null,null,null,null,null,null," SAN LORENZO ",null,null,null,null,null,null,null,null,null,null,null,null,null,null,null,null,null,null,null,null," RIMAC ",null,null,null,null,null," SANTA EULALIA ",null,null," TANTA "]
[null,null,null,null,null,null,null,null,null,null,null,null,null,null,null,null,null,null,null,null,null,null,null,null,null,null,null,null,null,null,null,null,null,null," JOSE LUIS BUSTAMANTE Y RIVERO ",null,null,null,null,null,null,null,null,null,null,null,null,null,null,null,null,null,null,null,null,null,null,null,null,null,null,null,null,null,null,null,null,null,null,null,null,null,null,null,null,null,null,null,null,null,null,null,null,null,null,null,null,null,null,null,null,null,null,null,null,null,null,null,null,null,null,null,null,null,null,null," SAN PEDRO DE CHUNAN ",null,null,null,null,null,null,null,null,null,null,null,null,null,null,null,null,null,null,null,null," SAN BARTOLO ",null,null,null,null,null," SANTIAGO DE ANCHUCAYA ",null,null," TAURIPAMPA "]
[null,null,null,null,null,null,null,null,null,null,null,null,null,null,null,null,null,null,null,null,null,null,null,null,null,null,null,null,null,null,null,null,null,null,null,null,null,null,null,null,null,null,null,null,null,null,null,null,null,null,null,null,null,null,null,null,null,null,null,null,null,null,null,null,null,null,null,null,null,null,null,null,null,null,null,null,null,null,null,null,null,null,null,null,null,null,null,null,null,null,null,null,null,null,null,null,null,null,null,null,null,null,null,null,null,null," SAUSA ",null,null,null,null,null,null,null,null,null,null,null,null,null,null,null,null,null,null,null,null," SAN BORJA ",null,null,null,null,null," SANTIAGO DE TUNA ",null,null," TOMAS "]
[null,null,null,null,null,null,null,null,null,null,null,null,null,null,null,null,null,null,null,null,null,null,null,null,null,null,null,null,null,null,null,null,null,null,null,null,null,null,null,null,null,null,null,null,null,null,null,null,null,null,null,null,null,null,null,null,null,null,null,null,null,null,null,null,null,null,null,null,null,null,null,null,null,null,null,null,null,null,null,null,null,null,null,null,null,null,null,null,null,null,null,null,null,null,null,null,null,null,null,null,null,null,null,null,null,null," SINCOS ",null,null,null,null,null,null,null,null,null,null,null,null,null,null,null,null,null,null,null,null," SAN ISIDRO ",null,null,null,null,null," SANTO DOMINGO DE LOS OLLEROS ",null,null," TUPE "]
[null,null,null,null,null,null,null,null,null,null,null,null,null,null,null,null,null,null,null,null,null,null,null,null,null,null,null,null,null,null,null,null,null,null,null,null,null,null,null,null,null,null,null,null,null,null,null,null,null,null,null,null,null,null,null,null,null,null,null,null,null,null,null,null,null,null,null,null,null,null,null,null,null,null,null,null,null,null,null,null,null,null,null,null,null,null,null,null,null,null,null,null,null,null,null,null,null,null,null,null,null,null,null,null,null,null," TUNAN MARCA ",null,null,null,null,null,null,null,null,null,null,null,null,null,null,null,null,null,null,null,null," SAN JUAN DE LURIGANCHO ",null,null,null,null,null," SURCO ",null,null," VIÑAC "]
[null,null,null,null,null,null,null,null,null,null,null,null,null,null,null,null,null,null,null,null,null,null,null,null,null,null,null,null,null,null,null,null,null,null,null,null,null,null,null,null,null,null,null,null,null,null,null,null,null,null,null,null,null,null,null,null,null,null,null,null,null,null,null,null,null,null,null,null,null,null,null,null,null,null,null,null,null,null,null,null,null,null,null,null,null,null,null,null,null,null,null,null,null,null,null,null,null,null,null,null,null,null,null,null,null,null," YAULI ",null,null,null,null,null,null,null,null,null,null,null,null,null,null,null,null,null,null,null,null," SAN JUAN DE MIRAFLORES ",null,null,null,null,null,null,null,null," VITIS "]
[null,null,null,null,null,null,null,null,null,null,null,null,null,null,null,null,null,null,null,null,null,null,null,null,null,null,null,null,null,null,null,null,null,null,null,null,null,null,null,null,null,null,null,null,null,null,null,null,null,null,null,null,null,null,null,null,null,null,null,null,null,null,null,null,null,null,null,null,null,null,null,null,null,null,null,null,null,null,null,null,null,null,null,null,null,null,null,null,null,null,null,null,null,null,null,null,null,null,null,null,null,null,null,null,null,null," YAUYOS ",null,null,null,null,null,null,null,null,null,null,null,null,null,null,null,null,null,null,null,null," SAN LUIS "]
[null,null,null,null,null,null,null,null,null,null,null,null,null,null,null,null,null,null,null,null,null,null,null,null,null,null,null,null,null,null,null,null,null,null,null,null,null,null,null,null,null,null,null,null,null,null,null,null,null,null,null,null,null,null,null,null,null,null,null,null,null,null,null,null,null,null,null,null,null,null,null,null,null,null,null,null,null,null,null,null,null,null,null,null,null,null,null,null,null,null,null,null,null,null,null,null,null,null,null,null,null,null,null,null,null,null,null,null,null,null,null,null,null,null,null,null,null,null,null,null,null,null,null,null,null,null,null," SAN MARTIN DE PORRES "]
[null,null,null,null,null,null,null,null,null,null,null,null,null,null,null,null,null,null,null,null,null,null,null,null,null,null,null,null,null,null,null,null,null,null,null,null,null,null,null,null,null,null,null,null,null,null,null,null,null,null,null,null,null,null,null,null,null,null,null,null,null,null,null,null,null,null,null,null,null,null,null,null,null,null,null,null,null,null,null,null,null,null,null,null,null,null,null,null,null,null,null,null,null,null,null,null,null,null,null,null,null,null,null,null,null,null,null,null,null,null,null,null,null,null,null,null,null,null,null,null,null,null,null,null,null,null,null," SAN MIGUEL "]
[null,null,null,null,null,null,null,null,null,null,null,null,null,null,null,null,null,null,null,null,null,null,null,null,null,null,null,null,null,null,null,null,null,null,null,null,null,null,null,null,null,null,null,null,null,null,null,null,null,null,null,null,null,null,null,null,null,null,null,null,null,null,null,null,null,null,null,null,null,null,null,null,null,null,null,null,null,null,null,null,null,null,null,null,null,null,null,null,null,null,null,null,null,null,null,null,null,null,null,null,null,null,null,null,null,null,null,null,null,null,null,null,null,null,null,null,null,null,null,null,null,null,null,null,null,null,null," SANTA ANITA "]
[null,null,null,null,null,null,null,null,null,null,null,null,null,null,null,null,null,null,null,null,null,null,null,null,null,null,null,null,null,null,null,null,null,null,null,null,null,null,null,null,null,null,null,null,null,null,null,null,null,null,null,null,null,null,null,null,null,null,null,null,null,null,null,null,null,null,null,null,null,null,null,null,null,null,null,null,null,null,null,null,null,null,null,null,null,null,null,null,null,null,null,null,null,null,null,null,null,null,null,null,null,null,null,null,null,null,null,null,null,null,null,null,null,null,null,null,null,null,null,null,null,null,null,null,null,null,null," SANTA MARIA DEL MAR "]
[null,null,null,null,null,null,null,null,null,null,null,null,null,null,null,null,null,null,null,null,null,null,null,null,null,null,null,null,null,null,null,null,null,null,null,null,null,null,null,null,null,null,null,null,null,null,null,null,null,null,null,null,null,null,null,null,null,null,null,null,null,null,null,null,null,null,null,null,null,null,null,null,null,null,null,null,null,null,null,null,null,null,null,null,null,null,null,null,null,null,null,null,null,null,null,null,null,null,null,null,null,null,null,null,null,null,null,null,null,null,null,null,null,null,null,null,null,null,null,null,null,null,null,null,null,null,null,"SANTA ROSA "]
[null,null,null,null,null,null,null,null,null,null,null,null,null,null,null,null,null,null,null,null,null,null,null,null,null,null,null,null,null,null,null,null,null,null,null,null,null,null,null,null,null,null,null,null,null,null,null,null,null,null,null,null,null,null,null,null,null,null,null,null,null,null,null,null,null,null,null,null,null,null,null,null,null,null,null,null,null,null,null,null,null,null,null,null,null,null,null,null,null,null,null,null,null,null,null,null,null,null,null,null,null,null,null,null,null,null,null,null,null,null,null,null,null,null,null,null,null,null,null,null,null,null,null,null,null,null,null," SANTIAGO DE SURCO "]
[null,null,null,null,null,null,null,null,null,null,null,null,null,null,null,null,null,null,null,null,null,null,null,null,null,null,null,null,null,null,null,null,null,null,null,null,null,null,null,null,null,null,null,null,null,null,null,null,null,null,null,null,null,null,null,null,null,null,null,null,null,null,null,null,null,null,null,null,null,null,null,null,null,null,null,null,null,null,null,null,null,null,null,null,null,null,null,null,null,null,null,null,null,null,null,null,null,null,null,null,null,null,null,null,null,null,null,null,null,null,null,null,null,null,null,null,null,null,null,null,null,null,null,null,null,null,null," SURQUILLO "]
[null,null,null,null,null,null,null,null,null,null,null,null,null,null,null,null,null,null,null,null,null,null,null,null,null,null,null,null,null,null,null,null,null,null,null,null,null,null,null,null,null,null,null,null,null,null,null,null,null,null,null,null,null,null,null,null,null,null,null,null,null,null,null,null,null,null,null,null,null,null,null,null,null,null,null,null,null,null,null,null,null,null,null,null,null,null,null,null,null,null,null,null,null,null,null,null,null,null,null,null,null,null,null,null,null,null,null,null,null,null,null,null,null,null,null,null,null,null,null,null,null,null,null,null,null,null,null," VILLA EL SALVADOR "]
[null,null,null,null,null,null,null,null,null,null,null,null,null,null,null,null,null,null,null,null,null,null,null,null,null,null,null,null,null,null,null,null,null,null,null,null,null,null,null,null,null,null,null,null,null,null,null,null,null,null,null,null,null,null,null,null,null,null,null,null,null,null,null,null,null,null,null,null,null,null,null,null,null,null,null,null,null,null,null,null,null,null,null,null,null,null,null,null,null,null,null,null,null,null,null,null,null,null,null,null,null,null,null,null,null,null,null,null,null,null,null,null,null,null,null,null,null,null,null,null,null,null,null,null,null,null,null," VILLA MARIA DEL TRIUNFO "]

{"sheet":"D1.Evaluación (C-E)","index":12,"n_rows":65,"n_cols":33,"rows_kept":65,"cut":false,"hidden":false,"merged":[[30,6,32,6],[30,7,32,7],[30,8,30,9],[31,8,31,9],[48,6,49,6],[48,7,48,8],[0,6,0,9],[12,6,14,6],[12,7,14,7],[12,8,12,9],[13,8,13,9],[0,0,0,3],[48,0,49,0],[12,2,12,3],[13,2,13,3],[12,0,14,0],[12,1,14,1],[30,0,32,0],[31,2,31,3],[30,2,30,3],[48,1,48,2],[30,1,32,1]]}
["EVALUACION ECONOMICA",null,null,null,null,"HOJA D1.Evaluación","EVALUACION ECONOMICA",null,null,null,null,"HOJA D1.Evaluación"]
[null,null,"Para IMDA menor o igual a 200 emplear esta metodológia",null,null,null,null,null,"Para IMDA menor o igual a 200 emplear esta metodológia"]
["ALTERNATIVA Nº1",null,null,null,null,null,"ALTERNATIVA Nº2"]
[]
["A) FACTORES DE CONVERSIÓN A PRECIOS SOCIALES",null,null,null,null,null,"A) FACTORES DE CONVERSIÓN A PRECIOS SOCIALES",null,null,null,null,null,null,0.1]
[null,"Obras","Factor","Tasa Social de Descuento",0.08,null,null,"Obras","Factor","Tasa Social de Descuento",0.08,null,null,0.25]
[null,"Inversión",0.79,"Valor Residual ",0.1,null,null,"Inversión",0.79,"Valor Residual ",0.1,null,null,0.3]
[null,"Mantenimiento y Operación",0.75,null,null,null,null,"Mantenimiento y Operación",0.75]
[]
[]
["B) COSTOS DE INVERSIÓN Y MANTENIMIENTO A PRECIOS DEL MERCADO",null,null,null,null,null,"B) COSTOS DE INVERSIÓN Y MANTENIMIENTO A PRECIOS DEL MERCADO"]
[]
["Año","Sin Proyecto ","Con Proyecto",null,null,null,"Año","Sin Proyecto ","Con Proyecto"]
[null,"Sin Proyecto ","Alternativa Solucion",null,null,null,null,"Sin Proyecto ","Alternativa Solucion"]
[null,null,"Inversión","Mantenimiento*",null,null,null,null,"Inversión","Mantenimiento*",null,null,null,1,2,3,4,5,6,7,8,9,10,11,12,13,14,15,16,17,18,19,20]
[0,null,{"$f":"+'C. Costos'!J55","v":0},null,null,null,0,null,{"$f":"+'C. Costos'!U55","v":0},null,null,null,"Sin Proyecto",{"$f":"+B17","v":0},{"$f":"+B18","v":0},{"$f":"+B19","v":0},{"$f":"+B20","v":0},{"$f":"+B21","v":0},{"$f":"+B22","v":0},{"$f":"+B23","v":0},{"$f":"+B24","v":0},{"$f":"+B25","v":0},{"$f":"+B26","v":0}]
[1,{"$f":"+'C. Costos'!D68","v":0},null,{"$f":"+'C. Costos'!D69","v":0},null,null,1,{"$f":"+'C. Costos'!O68","v":0},null,{"$f":"+'C. Costos'!O69","v":0},null,null,"Con Proyecto ",{"$f":"D17","v":0},{"$f":"D18","v":0},{"$f":"D19","v":0},{"$f":"+D20","v":0},{"$f":"+D21","v":0},{"$f":"+D22","v":0},{"$f":"+D23","v":0},{"$f":"+D24","v":0},{"$f":"+D25","v":0},{"$f":"+D26","v":0}]
[2,{"$f":"+B17","v":0},null,{"$f":"+'C. Costos'!D69","v":0},null,null,2,{"$f":"+H17","v":0},null,{"$f":"+'C. Costos'!O69","v":0},null,null,"Incremental",{"$f":"+N16-N17","v":0},{"$f":"+O16-O17","v":0},0,0,0,0,0,0,0,0]
[3,{"$f":"+B18","v":0},null,{"$f":"+'C. Costos'!D70","v":0},null,null,3,{"$f":"+H18","v":0},null,{"$f":"+'C. Costos'!O70","v":0}]
[4,0,null,{"$f":"+D17","v":0},null,null,4,0,null,{"$f":"+J17","v":0}]
[5,0,null,0,null,null,5,0,null,0]
[6,0,null,0,null,null,6,0,null,0]
[7,0,null,0,null,null,7,0,null,0]
[8,0,null,0,null,null,8,0,null,0]
[9,0,null,0,null,null,9,0,null,0]
[10,0,{"$f":"-C16*E7","v":0},0,null,null,10,0,{"$f":"-I16*K7","v":0},0]
["* Incluye costo de operación, el cual considera un 10% del costo de mantenimiento rutinario.",null,null,null,null,null,"* Incluye costo de operación, el cual considera un 10% del costo de mantenimiento rutinario."]
[]
["C) COSTOS DE INVERSIÓN Y MANTENIMIENTO A PRECIOS SOCIALES",null,null,null,null,null,"C) COSTOS DE INVERSIÓN Y MANTENIMIENTO A PRECIOS SOCIALES"]
[]
["Año","Sin Proyecto ","Con Proyecto",null,null,null,"Año","Sin Proyecto ","Con Proyecto"]
[null,"Sin Proyecto ","Alternativa Solucion",null,null,null,null,"Sin Proyecto ","Alternativa Solucion"]
[null,null,"Inversión","Mantenimiento*",null,null,null,null,"Inversión","Mantenimiento*"]
[0,null,{"$f":"+C16*C7","v":0},null,null,null,0,null,{"$f":"+I16*I7","v":0}]
[1,{"$f":"+B17*$C$8","v":0},null,{"$f":"+D17*$C$8","v":0},null,null,1,{"$f":"+H17*$C$8","v":0},null,{"$f":"+J17*$C$8","v":0}]
[2,0,null,{"$f":"+D18*$C$8","v":0},null,null,2,{"$f":"+H18*$C$8","v":0},null,{"$f":"+J18*$C$8","v":0}]
[3,0,null,{"$f":"+D19*$C$8","v":0},null,null,3,0,null,{"$f":"+J19*$C$8","v":0}]
[4,0,null,{"$f":"+D20*$C$8","v":0},null,null,4,0,null,{"$f":"+J20*$C$8","v":0}]
[5,0,null,{"$f":"+D20*$C$8","v":0},null,null,5,0,null,{"$f":"+J21*$C$8","v":0}]
[6,0,null,{"$f":"+D22*$C$8","v":0},null,null,6,0,null,0]
[7,0,null,0,null,null,7,{"$f":"+H23*$C$8","v":0},null,0]
[8,0,null,0,null,null,8,{"$f":"+H24*$C$8","v":0},null,0]
[9,0,null,0,null,null,9,0,null,0]
[10,0,{"$f":"+C26*$C$8","v":0},0,null,null,10,0,{"$f":"+I26*$C$8","v":0},0]
[]
["D) COSTOS INCREMENTALES",null,null,null,null,null,"D) COSTOS INCREMENTALES"]
["En Soles a Precios Sociales",null,null,null,null,null,"En Soles a Precios Sociales"]
[]
["Año","Alternativa Soluciòn",null,null,null,null,"Año","Alternativa Soluciòn"]
[null,"Inversión","Mantenimiento*",null,null,null,null,"Inversión","Mantenimiento*"]
[0,{"$f":"+C34","v":0},null,null,null,null,0,{"$f":"+I34","v":0}]
[{"$f":"+A51+1","v":1},null,{"$f":"+D35-B35","v":0},null,null,null,{"$f":"+G51+1","v":1},null,{"$f":"+J35-H35","v":0}]
[2,null,0,null,null,null,2,null,{"$f":"+J36-H36","v":0}]
[3,null,0,null,null,null,3,null,0]
[4,null,0,null,null,null,4,null,0]
[5,null,0,null,null,null,5,null,0]
[6,null,0,null,null,null,6,null,0]
[7,null,0,null,null,null,7,null,0]
[8,null,0,null,null,null,8,null,0]
[9,null,0,null,null,null,9,null,0]
[10,null,0,null,null,null,10,null,0]
[null,"Valor Actual de los Costos (VAC)",{"$f":"NPV($E$6,C52:C61)+B51","v":0},null,null,null,null,"Valor Actual de los Costos (VAC)",{"$f":"NPV($K$6,I52:I61)+H51","v":0}]
[null,"Ratio C-E",{"$f":"IFERROR(+C62/'A2.Demanda'!C265,\"0\")","v":"0"},null,null,null,null,"Ratio C-E",{"$f":"IFERROR(+I62/'A2.Demanda'!C265,\"0\")","v":"0"}]
[null,"Costo Anual Equivalente (CAE)",{"$f":"-PMT($E$6,10,C62)","v":0},null,null,null,null,"Costo Anual Equivalente (CAE)",{"$f":"-PMT($K$6,10,I62)","v":0}]
[null,"VAC/Km",{"$f":"IFERROR(C62/'Ficha Estandar'!C86,\"0\")","v":0},null,null,null,null,"VAC/Km",{"$f":"IFERROR(I62/'Ficha Estandar'!C86,\"0\")","v":0}]

{"sheet":"D2.Ratio C-E","index":13,"n_rows":22,"n_cols":10,"rows_kept":22,"cut":false,"hidden":false,"merged":[[4,0,5,0],[6,0,9,0],[10,0,13,0],[12,1,12,2],[13,1,13,2],[6,1,6,2],[7,1,7,2],[8,1,8,2],[9,1,9,2],[10,1,10,2],[11,1,11,2],[0,8,0,9],[4,6,4,7],[4,8,4,9],[4,4,4,5],[4,1,5,2],[4,3,5,3],[15,0,15,9],[16,0,16,9],[17,0,17,9],[18,0,18,9],[19,0,19,9]]}
[null,null,null,null,null,null,null,null,"HOJA D2. Ratio C-E"]
[]
[null,null,"RATIO COSTO EFICIENCIA POR KILÓMETRO A PRECIOS SOCIALES SEGÚN ALTERNATIVA TECNOLÓGICA POR REGIÓN"]
[]
["IMDA\nProyectado\n(Veh/día)","Solución Técnica Recomendada ",null,"Horizonte\n(Años)\n4/","Costa",null,"Sierra",null,"Selva"]
[null,null,null,null,"† Plataforma Referencial 5/\n(Metros)","Costo/Km\nVAC\n(Soles)","† Plataforma Referencial\n5/\n(Metros)","Costo/Km\nVAC\n(Soles)","† Plataforma Referencial\n5/\n(Metros)","Costo/Km\n(Soles)"]
["101 - 200","Solución Básica (Estabilizado + Micropavimento) 1/",null,10,6,1072024.7150259544,6,1312146.341669918,6,1232235.2247811081]
[null,"Solución Básica (Estabilizado + TSB) 1/",null,10,6,1467937.7895382592,6,1627295.9850624718,6,1674153.8872834006]
[null,"Solución Básica (Estabilizado + Slurry Seal) 1/",null,10,6,1073480.9336330411,6,1319321.1869958225,6,1237503.8612007399]
[null,"Solución Básica (Solo Estabilizado) 2/",null,10,6,629454.09715792839,6,851846.64171671506,6,1227603.2809849714]
["000 - 100","Solución Básica (Estabilizado + TSB) 1/",null,10,5,1132337.8070837162,5,1213293.2285158881,5,1253112.0463730898]
[null,"Solución Básica (Estabilizado + Slurry Seal) 1/",null,10,5,736991.03980750078,5,900933.80275007512,5,813242.57084556669]
[null,"Solución Básica (Solo Estabilizado) 2/",null,10,5,428639.07003311691,5,576298.7018618061,5,806367.1679179495]
[null,"Afirmado",null,10,5,336115.15050623275,5,386088.7204508225,5,526602.68766552885]
["Donde:"]
["1/ Las Alternativas Tecnológicas descritas en esta tabla, representan soluciones convencionales. No obstante, el formulador podrá proponer otra solución tecnológica, tomando en cuenta factores de localización y disponibilidad de materiales, sin que ello implique un cambio en las Líneas de Corte propuesta."]
["2/ Para un Número de Ejes Equivalentes Igual o Mayor a: 500,000 EE o 35 (veh. pesados) "]
["3/ Para un Número de Ejes Equivalentes Igual o Mayor a: 75,000 EE o 4 (veh. pesados) "]
["4/ El horizonte de evaluación, considera la vida útil de las soluciones técnicas señaladas, siempre y cuando el mantenimiento rutinario y periódico se realice de forma oportuna bajo responsabilidad de la institución responsable de ello. "]
["5/ Plataforma Referencial = Calzada + berma; expresada en metros. Excepcionalmente podrán utilizarse calzadas de hasta 5 m, con el correspondiente sustento técnico y económico"]
["Para identificar la región natural (Costa, Sierra o Selva) a la que pertenece la UP (carretera interurbana) revisar el siguinte enlace: "]
["https://www.inei.gob.pe/biblioteca-virtual/publicaciones-digitales/"]

{"sheet":"E1.Evaluación (B-C)","index":14,"n_rows":201,"n_cols":53,"rows_kept":201,"cut":false,"hidden":false,"merged":[[160,1,161,1],[132,1,134,1],[104,1,106,1],[104,3,104,4],[0,14,0,15],[133,3,133,4],[160,4,161,4],[160,5,161,5],[160,2,160,3],[104,2,106,2],[105,3,105,4],[132,2,134,2],[132,3,132,4],[0,30,0,31],[104,17,106,17],[104,18,106,18],[104,19,104,20],[105,19,105,20],[160,21,161,21],[132,17,134,17],[132,18,134,18],[132,19,132,20],[133,19,133,20],[160,17,161,17],[160,18,160,19],[160,20,161,20]]}
["EVALUACION ECONOMICA BENEFICIO - COSTO",null,null,null,null,null,null,null,null,null,null,null,null,null,"HOJA E1.Evaluación",null,"EVALUACION ECONOMICA BENEFICIO - COSTO",null,null,null,null,null,null,null,null,null,null,null,null,null,"HOJA E1.Evaluación",null,null,null,null,null,6,{"$f":"+AK1+1","v":7},8,9,10,11,12,13,14,15,16,17,18,19,20,21,22]
[null,null,null,"ALTERNATIVA 1",null,null,null,"Para IMDA mayores a 200 emplear esta metodológia",null,null,null,null,null,null,null,null,null,null,null,"ALTERNATIVA 2",null,null,null,"Para IMDA mayores a 200 emplear esta metodológia"]
["Situación Sin Proyecto",null,null,null,null,null,null,null,null,null,null,null,null,null,null,null,"Situación Sin Proyecto"]
[null,"Región","Topografía","Superficie","Estado",null,null,null,"Longitud Total proyecto",null,{"$f":"+'Ficha Estandar'!C86","v":1},"Km","T.C.",3.8,null,null,null,"Región","Topografía","Superficie","Estado",null,null,null,"Longitud Total proyecto",null,12,"Km","T.C.",3.8]
[null,"Sierra","Ondulado","Sin Afirmar","Malo",{"$f":"B5&C5&D5&E5","v":"SierraOnduladoSin AfirmarMalo"},null,null,"Horizonte de evaluación",null,{"$f":"+'A2.Demanda'!C10","v":10},"años",null,null,null,null,null,"Sierra","Ondulado","Sin Afirmar","Malo",{"$f":"R5&S5&T5&U5","v":"SierraOnduladoSin AfirmarMalo"}]
["COV Sin Proyecto",null,null,null,null,null,null,null,null,null,null,null,null,null,null,null,"COV Sin Proyecto"]
[null,"Auto","Station Wagon","Camioneta","Camioneta Rural","Microbús","Bus 2 Ejes","Bus 3 Ejes","Bus 4 Ejes","Camión 2 Ejes","Camión 3 Ejes","Camión 4 Ejes","Semitrailer 2 Ejes","Semitrailer 3 Ejes","Articulado",null,null,"Auto","Station Wagon","Camioneta","Camioneta Rural","Microbús","Bus 2 Ejes","Bus 3 Ejes","Bus 4 Ejes","Camión 2 Ejes","Camión 3 Ejes","Camión 4 Ejes","Semitrailer 2 Ejes","Semitrailer 3 Ejes","Articulado"]
[null,"AU","SW","CA","CR","MB","B2","B3","B4","C2","C3","C4","S2","S3","TR",null,null,"AU","SW","CA","CR","MB","B2","B3","B4","C2","C3","C4","S2","S3","TR"]
[null,"$/veh-km","$/veh-km","$/veh-km","$/veh-km","$/veh-km","$/veh-km","$/veh-km","$/veh-km","$/veh-km","$/veh-km","$/veh-km","$/veh-km","$/veh-km","$/veh-km",null,null,"$/veh-km","$/veh-km","$/veh-km","$/veh-km","$/veh-km","$/veh-km","$/veh-km","$/veh-km","$/veh-km","$/veh-km","$/veh-km","$/veh-km","$/veh-km","$/veh-km"]
[null,{"$f":"VLOOKUP($F$5,'E2. COV Interurbano'!$A$6:$S$149,AK$1,0)","v":0.57864854503910657},{"$f":"VLOOKUP($F$5,'E2. COV Interurbano'!$A$6:$S$149,AL$1,0)","v":0.56811872212517511},{"$f":"VLOOKUP($F$5,'E2. COV Interurbano'!$A$6:$S$149,AM$1,0)","v":1.1024600740570119},{"$f":"VLOOKUP($F$5,'E2. COV Interurbano'!$A$6:$S$149,AN$1,0)","v":1.0792125422416712},{"$f":"VLOOKUP($F$5,'E2. COV Interurbano'!$A$6:$S$149,AO$1,0)","v":1.7268849167021632},{"$f":"VLOOKUP($F$5,'E2. COV Interurbano'!$A$6:$S$149,AP$1,0)","v":2.8365453379106413},{"$f":"VLOOKUP($F$5,'E2. COV Interurbano'!$A$6:$S$149,AQ$1,0)","v":2.908206127743691},{"$f":"VLOOKUP($F$5,'E2. COV Interurbano'!$A$6:$S$149,AR$1,0)","v":3.345443766989304},{"$f":"VLOOKUP($F$5,'E2. COV Interurbano'!$A$6:$S$149,AS$1,0)","v":1.1315647911020321},{"$f":"VLOOKUP($F$5,'E2. COV Interurbano'!$A$6:$S$149,AT$1,0)","v":1.5878400224010016},{"$f":"VLOOKUP($F$5,'E2. COV Interurbano'!$A$6:$S$149,AU$1,0)","v":2.2431260731801492},{"$f":"VLOOKUP($F$5,'E2. COV Interurbano'!$A$6:$S$149,AV$1,0)","v":2.6002293717392684},{"$f":"VLOOKUP($F$5,'E2. COV Interurbano'!$A$6:$S$149,AW$1,0)","v":2.6993096504575136},{"$f":"VLOOKUP($F$5,'E2. COV Interurbano'!$A$6:$S$149,AX$1,0)","v":2.9433540418912592},null,null,{"$f":"VLOOKUP($F$5,'E2. COV Interurbano'!$A$6:$S$149,AK$1,0)","v":0.57864854503910657},{"$f":"VLOOKUP($F$5,'E2. COV Interurbano'!$A$6:$S$149,AL$1,0)","v":0.56811872212517511},{"$f":"VLOOKUP($F$5,'E2. COV Interurbano'!$A$6:$S$149,AM$1,0)","v":1.1024600740570119},{"$f":"VLOOKUP($F$5,'E2. COV Interurbano'!$A$6:$S$149,AN$1,0)","v":1.0792125422416712},{"$f":"VLOOKUP($F$5,'E2. COV Interurbano'!$A$6:$S$149,AO$1,0)","v":1.7268849167021632},{"$f":"VLOOKUP($F$5,'E2. COV Interurbano'!$A$6:$S$149,AP$1,0)","v":2.8365453379106413},{"$f":"VLOOKUP($F$5,'E2. COV Interurbano'!$A$6:$S$149,AQ$1,0)","v":2.908206127743691},{"$f":"VLOOKUP($F$5,'E2. COV Interurbano'!$A$6:$S$149,AR$1,0)","v":3.345443766989304},{"$f":"VLOOKUP($F$5,'E2. COV Interurbano'!$A$6:$S$149,AS$1,0)","v":1.1315647911020321},{"$f":"VLOOKUP($F$5,'E2. COV Interurbano'!$A$6:$S$149,AT$1,0)","v":1.5878400224010016},{"$f":"VLOOKUP($F$5,'E2. COV Interurbano'!$A$6:$S$149,AU$1,0)","v":2.2431260731801492},{"$f":"VLOOKUP($F$5,'E2. COV Interurbano'!$A$6:$S$149,AV$1,0)","v":2.6002293717392684},{"$f":"VLOOKUP($F$5,'E2. COV Interurbano'!$A$6:$S$149,AW$1,0)","v":2.6993096504575136},{"$f":"VLOOKUP($F$5,'E2. COV Interurbano'!$A$6:$S$149,AX$1,0)","v":2.9433540418912592}]
[]
["Situación Con Proyecto",null,null,null,null,null,null,null,null,null,null,null,null,null,null,null,"Situación Con Proyecto"]
[null,"Región","Topografía","Superficie","Estado",null,null,null,null,"Recorrido reducido por el tráfico desviado",3," (De corresponder, sino considerar \"cero\")",null,null,null,null,null,"Región","Topografía","Superficie","Estado",null,null,null,null,"Recorrido reducido por el tráfico desviado",3," (De corresponder, sino considerar \"cero\")"]
[null,"Sierra","Ondulado","Afirmado","Bueno",{"$f":"B14&C14&D14&E14","v":"SierraOnduladoAfirmadoBueno"},null,null,null,null,null,null,null,null,null,null,null,"Sierra","Ondulado","Asfaltado","Bueno",{"$f":"R14&S14&T14&U14","v":"SierraOnduladoAsfaltadoBueno"}]
["COV Con proyecto",null,null,{"$f":"VLOOKUP('E1.Evaluación (B-C)'!D14,'E2. COV Interurbano'!$X$2:$Z$7,3,0)","v":"Nota: Para Afirmado el horizonte de evaluación es hasta de 10 años como máximo "},null,null,null,null,null,null,null,null,null,null,null,null,"COV Con proyecto",null,null,{"$f":"VLOOKUP('E1.Evaluación (B-C)'!T14,'E2. COV Interurbano'!$X$2:$Z$7,3,0)","v":""}]
[null,"Auto","Station Wagon","Camioneta","Camioneta Rural","Microbús","Bus 2 Ejes","Bus 3 Ejes","Bus 4 Ejes","Camión 2 Ejes","Camión 3 Ejes","Camión 4 Ejes","Semitrailer 2 Ejes","Semitrailer 3 Ejes","Articulado",null,null,"Auto","Station Wagon","Camioneta","Camioneta Rural","Microbús","Bus 2 Ejes","Bus 3 Ejes","Bus 4 Ejes","Camión 2 Ejes","Camión 3 Ejes","Camión 4 Ejes","Semitrailer 2 Ejes","Semitrailer 3 Ejes","Articulado"]
[null,"AU","SW","CA","CR","MB","B2","B3","B4","C2","C3","C4","S2","S3","TR",null,null,"AU","SW","CA","CR","MB","B2","B3","B4","C2","C3","C4","S2","S3","TR"]
[null,"$/veh-km","$/veh-km","$/veh-km","$/veh-km","$/veh-km","$/veh-km","$/veh-km","$/veh-km","$/veh-km","$/veh-km","$/veh-km","$/veh-km","$/veh-km","$/veh-km",null,null,"$/veh-km","$/veh-km","$/veh-km","$/veh-km","$/veh-km","$/veh-km","$/veh-km","$/veh-km","$/veh-km","$/veh-km","$/veh-km","$/veh-km","$/veh-km","$/veh-km"]
[null,{"$f":"VLOOKUP($F$14,'E2. COV Interurbano'!$A$6:$S$149,AK$1,0)","v":0.44838905217367719},{"$f":"VLOOKUP($F$14,'E2. COV Interurbano'!$A$6:$S$149,AL$1,0)","v":0.44143561475624876},{"$f":"VLOOKUP($F$14,'E2. COV Interurbano'!$A$6:$S$149,AM$1,0)","v":0.84337382596635535},{"$f":"VLOOKUP($F$14,'E2. COV Interurbano'!$A$6:$S$149,AN$1,0)","v":0.81973650150724631},{"$f":"VLOOKUP($F$14,'E2. COV Interurbano'!$A$6:$S$149,AO$1,0)","v":1.2727296533171832},{"$f":"VLOOKUP($F$14,'E2. COV Interurbano'!$A$6:$S$149,AP$1,0)","v":2.1956755270925425},{"$f":"VLOOKUP($F$14,'E2. COV Interurbano'!$A$6:$S$149,AQ$1,0)","v":2.2477620691663134},{"$f":"VLOOKUP($F$14,'E2. COV Interurbano'!$A$6:$S$149,AR$1,0)","v":2.5932065512317086},{"$f":"VLOOKUP($F$14,'E2. COV Interurbano'!$A$6:$S$149,AS$1,0)","v":0.81596679032722574},{"$f":"VLOOKUP($F$14,'E2. COV Interurbano'!$A$6:$S$149,AT$1,0)","v":1.1983356864799395},{"$f":"VLOOKUP($F$14,'E2. COV Interurbano'!$A$6:$S$149,AU$1,0)","v":1.6749650548510855},{"$f":"VLOOKUP($F$14,'E2. COV Interurbano'!$A$6:$S$149,AV$1,0)","v":1.9728076341085286},{"$f":"VLOOKUP($F$14,'E2. COV Interurbano'!$A$6:$S$149,AW$1,0)","v":2.0342897573611709},{"$f":"VLOOKUP($F$14,'E2. COV Interurbano'!$A$6:$S$149,AX$1,0)","v":2.2016052063094307},null,null,{"$f":"VLOOKUP($V$14,'E2. COV Interurbano'!$A$6:$S$149,AK$1,0)","v":0.40698422233137344},{"$f":"VLOOKUP($V$14,'E2. COV Interurbano'!$A$6:$S$149,AL$1,0)","v":0.39602845916252194},{"$f":"VLOOKUP($V$14,'E2. COV Interurbano'!$A$6:$S$149,AM$1,0)","v":0.76573537260877178},{"$f":"VLOOKUP($V$14,'E2. COV Interurbano'!$A$6:$S$149,AN$1,0)","v":0.76361881642546769},{"$f":"VLOOKUP($V$14,'E2. COV Interurbano'!$A$6:$S$149,AO$1,0)","v":1.214634466579259},{"$f":"VLOOKUP($V$14,'E2. COV Interurbano'!$A$6:$S$149,AP$1,0)","v":2.1135871266502981},{"$f":"VLOOKUP($V$14,'E2. COV Interurbano'!$A$6:$S$149,AQ$1,0)","v":2.1631600553556227},{"$f":"VLOOKUP($V$14,'E2. COV Interurbano'!$A$6:$S$149,AR$1,0)","v":2.4750322444766475},{"$f":"VLOOKUP($V$14,'E2. COV Interurbano'!$A$6:$S$149,AS$1,0)","v":0.65708800579050342},{"$f":"VLOOKUP($V$14,'E2. COV Interurbano'!$A$6:$S$149,AT$1,0)","v":0.99377794054224666},{"$f":"VLOOKUP($V$14,'E2. COV Interurbano'!$A$6:$S$149,AU$1,0)","v":1.3713877540408186},{"$f":"VLOOKUP($V$14,'E2. COV Interurbano'!$A$6:$S$149,AV$1,0)","v":1.6701819125820618},{"$f":"VLOOKUP($V$14,'E2. COV Interurbano'!$A$6:$S$149,AW$1,0)","v":1.7179581973950011},{"$f":"VLOOKUP($V$14,'E2. COV Interurbano'!$A$6:$S$149,AX$1,0)","v":1.8447316098694786}]
["∆COV",{"$f":"+B10-B19","v":0.13025949286542937},0.12668310736892635,0.2590862480906565,0.25947604073442487,0.45415526338497991,0.6408698108180988,0.66044405857737765,0.75223721575759539,0.31559800077480638,0.38950433592106215,0.56816101832906374,0.62742173763073983,0.66501989309634268,0.74174883558182847,null,"∆COV",{"$f":"+R10-R19","v":0.17166432270773313},0.17209026296265317,0.33672470144824007,0.31559372581620349,0.51225045012290416,0.72295821126034321,0.7450460723880683,0.87041152251265652,0.4744767853115287,0.59406208185875498,0.87173831913933064,0.93004745915720655,0.98135145306251248,1.0986224320217806]
[]
["BENEFICIOS",null,null,null,null,null,null,null,null,null,null,null,null,null,null,null,"BENEFICIOS"]
["Tráfico Normal"]
[1,{"$f":"+'A2.Demanda'!C292*365*$K$4*$N$4*B$20","v":0},{"$f":"+'A2.Demanda'!D292*365*$K$4*$N$4*C$20","v":0},{"$f":"+'A2.Demanda'!E292*365*$K$4*$N$4*D$20","v":0},{"$f":"+'A2.Demanda'!F292*365*$K$4*$N$4*E$20","v":0},{"$f":"+'A2.Demanda'!G292*365*$K$4*$N$4*F$20","v":0},{"$f":"+'A2.Demanda'!H292*365*$K$4*$N$4*G$20","v":0},{"$f":"+'A2.Demanda'!I292*365*$K$4*$N$4*H$20","v":0},{"$f":"+'A2.Demanda'!J292*365*$K$4*$N$4*I$20","v":0},{"$f":"+'A2.Demanda'!K292*365*$K$4*$N$4*J$20","v":0},{"$f":"+'A2.Demanda'!L292*365*$K$4*$N$4*K$20","v":0},{"$f":"+'A2.Demanda'!M292*365*$K$4*$N$4*L$20","v":0},{"$f":"+'A2.Demanda'!N292*365*$K$4*$N$4*M$20","v":0},{"$f":"+'A2.Demanda'!O292*365*$K$4*$N$4*N$20","v":0},{"$f":"+'A2.Demanda'!P292*365*$K$4*$N$4*O$20","v":0},{"$f":"SUM(B24:O24)","v":0},"Año 1",{"$f":"+'A2.Demanda'!C292*365*$AA$4*$AD$4*R$20","v":0},{"$f":"+'A2.Demanda'!D292*365*$AA$4*$AD$4*S$20","v":0},{"$f":"+'A2.Demanda'!E292*365*$AA$4*$AD$4*T$20","v":0},{"$f":"+'A2.Demanda'!F292*365*$AA$4*$AD$4*U$20","v":0},{"$f":"+'A2.Demanda'!G292*365*$AA$4*$AD$4*V$20","v":0},{"$f":"+'A2.Demanda'!H292*365*$AA$4*$AD$4*W$20","v":0},{"$f":"+'A2.Demanda'!I292*365*$AA$4*$AD$4*X$20","v":0},{"$f":"+'A2.Demanda'!J292*365*$AA$4*$AD$4*Y$20","v":0},{"$f":"+'A2.Demanda'!K292*365*$AA$4*$AD$4*Z$20","v":0},{"$f":"+'A2.Demanda'!L292*365*$AA$4*$AD$4*AA$20","v":0},{"$f":"+'A2.Demanda'!M292*365*$AA$4*$AD$4*AB$20","v":0},{"$f":"+'A2.Demanda'!N292*365*$AA$4*$AD$4*AC$20","v":0},{"$f":"+'A2.Demanda'!O292*365*$AA$4*$AD$4*AD$20","v":0},{"$f":"+'A2.Demanda'!P292*365*$AA$4*$AD$4*AE$20","v":0},{"$f":"SUM(R24:AE24)","v":0}]
[{"$f":"+A24+1","v":2},{"$f":"+'A2.Demanda'!C293*365*$K$4*$N$4*B$20","v":0},{"$f":"+'A2.Demanda'!D293*365*$K$4*$N$4*C$20","v":0},{"$f":"+'A2.Demanda'!E293*365*$K$4*$N$4*D$20","v":0},{"$f":"+'A2.Demanda'!F293*365*$K$4*$N$4*E$20","v":0},{"$f":"+'A2.Demanda'!G293*365*$K$4*$N$4*F$20","v":0},{"$f":"+'A2.Demanda'!H293*365*$K$4*$N$4*G$20","v":0},{"$f":"+'A2.Demanda'!I293*365*$K$4*$N$4*H$20","v":0},{"$f":"+'A2.Demanda'!J293*365*$K$4*$N$4*I$20","v":0},{"$f":"+'A2.Demanda'!K293*365*$K$4*$N$4*J$20","v":0},{"$f":"+'A2.Demanda'!L293*365*$K$4*$N$4*K$20","v":0},{"$f":"+'A2.Demanda'!M293*365*$K$4*$N$4*L$20","v":0},{"$f":"+'A2.Demanda'!N293*365*$K$4*$N$4*M$20","v":0},{"$f":"+'A2.Demanda'!O293*365*$K$4*$N$4*N$20","v":0},{"$f":"+'A2.Demanda'!P293*365*$K$4*$N$4*O$20","v":0},0,"Año 2",{"$f":"+'A2.Demanda'!C293*365*$AA$4*$AD$4*R$20","v":0},{"$f":"+'A2.Demanda'!D293*365*$AA$4*$AD$4*S$20","v":0},{"$f":"+'A2.Demanda'!E293*365*$AA$4*$AD$4*T$20","v":0},{"$f":"+'A2.Demanda'!F293*365*$AA$4*$AD$4*U$20","v":0},{"$f":"+'A2.Demanda'!G293*365*$AA$4*$AD$4*V$20","v":0},{"$f":"+'A2.Demanda'!H293*365*$AA$4*$AD$4*W$20","v":0},{"$f":"+'A2.Demanda'!I293*365*$AA$4*$AD$4*X$20","v":0},{"$f":"+'A2.Demanda'!J293*365*$AA$4*$AD$4*Y$20","v":0},{"$f":"+'A2.Demanda'!K293*365*$AA$4*$AD$4*Z$20","v":0},{"$f":"+'A2.Demanda'!L293*365*$AA$4*$AD$4*AA$20","v":0},{"$f":"+'A2.Demanda'!M293*365*$AA$4*$AD$4*AB$20","v":0},{"$f":"+'A2.Demanda'!N293*365*$AA$4*$AD$4*AC$20","v":0},{"$f":"+'A2.Demanda'!O293*365*$AA$4*$AD$4*AD$20","v":0},{"$f":"+'A2.Demanda'!P293*365*$AA$4*$AD$4*AE$20","v":0},0]
[{"$f":"+A25+1","v":3},{"$f":"+'A2.Demanda'!C294*365*$K$4*$N$4*B$20","v":0},{"$f":"+'A2.Demanda'!D294*365*$K$4*$N$4*C$20","v":0},{"$f":"+'A2.Demanda'!E294*365*$K$4*$N$4*D$20","v":0},{"$f":"+'A2.Demanda'!F294*365*$K$4*$N$4*E$20","v":0},{"$f":"+'A2.Demanda'!G294*365*$K$4*$N$4*F$20","v":0},{"$f":"+'A2.Demanda'!H294*365*$K$4*$N$4*G$20","v":0},{"$f":"+'A2.Demanda'!I294*365*$K$4*$N$4*H$20","v":0},{"$f":"+'A2.Demanda'!J294*365*$K$4*$N$4*I$20","v":0},{"$f":"+'A2.Demanda'!K294*365*$K$4*$N$4*J$20","v":0},{"$f":"+'A2.Demanda'!L294*365*$K$4*$N$4*K$20","v":0},{"$f":"+'A2.Demanda'!M294*365*$K$4*$N$4*L$20","v":0},{"$f":"+'A2.Demanda'!N294*365*$K$4*$N$4*M$20","v":0},{"$f":"+'A2.Demanda'!O294*365*$K$4*$N$4*N$20","v":0},{"$f":"+'A2.Demanda'!P294*365*$K$4*$N$4*O$20","v":0},0,"Año 3",{"$f":"+'A2.Demanda'!C294*365*$AA$4*$AD$4*R$20","v":0},{"$f":"+'A2.Demanda'!D294*365*$AA$4*$AD$4*S$20","v":0},{"$f":"+'A2.Demanda'!E294*365*$AA$4*$AD$4*T$20","v":0},{"$f":"+'A2.Demanda'!F294*365*$AA$4*$AD$4*U$20","v":0},{"$f":"+'A2.Demanda'!G294*365*$AA$4*$AD$4*V$20","v":0},{"$f":"+'A2.Demanda'!H294*365*$AA$4*$AD$4*W$20","v":0},{"$f":"+'A2.Demanda'!I294*365*$AA$4*$AD$4*X$20","v":0},{"$f":"+'A2.Demanda'!J294*365*$AA$4*$AD$4*Y$20","v":0},{"$f":"+'A2.Demanda'!K294*365*$AA$4*$AD$4*Z$20","v":0},{"$f":"+'A2.Demanda'!L294*365*$AA$4*$AD$4*AA$20","v":0},{"$f":"+'A2.Demanda'!M294*365*$AA$4*$AD$4*AB$20","v":0},{"$f":"+'A2.Demanda'!N294*365*$AA$4*$AD$4*AC$20","v":0},{"$f":"+'A2.Demanda'!O294*365*$AA$4*$AD$4*AD$20","v":0},{"$f":"+'A2.Demanda'!P294*365*$AA$4*$AD$4*AE$20","v":0},0]
[4,{"$f":"+'A2.Demanda'!C295*365*$K$4*$N$4*B$20","v":0},{"$f":"+'A2.Demanda'!D295*365*$K$4*$N$4*C$20","v":0},{"$f":"+'A2.Demanda'!E295*365*$K$4*$N$4*D$20","v":0},{"$f":"+'A2.Demanda'!F295*365*$K$4*$N$4*E$20","v":0},{"$f":"+'A2.Demanda'!G295*365*$K$4*$N$4*F$20","v":0},{"$f":"+'A2.Demanda'!H295*365*$K$4*$N$4*G$20","v":0},{"$f":"+'A2.Demanda'!I295*365*$K$4*$N$4*H$20","v":0},{"$f":"+'A2.Demanda'!J295*365*$K$4*$N$4*I$20","v":0},{"$f":"+'A2.Demanda'!K295*365*$K$4*$N$4*J$20","v":0},{"$f":"+'A2.Demanda'!L295*365*$K$4*$N$4*K$20","v":0},{"$f":"+'A2.Demanda'!M295*365*$K$4*$N$4*L$20","v":0},{"$f":"+'A2.Demanda'!N295*365*$K$4*$N$4*M$20","v":0},{"$f":"+'A2.Demanda'!O295*365*$K$4*$N$4*N$20","v":0},{"$f":"+'A2.Demanda'!P295*365*$K$4*$N$4*O$20","v":0},0,"Año 4",{"$f":"+'A2.Demanda'!C295*365*$AA$4*$AD$4*R$20","v":0},{"$f":"+'A2.Demanda'!D295*365*$AA$4*$AD$4*S$20","v":0},{"$f":"+'A2.Demanda'!E295*365*$AA$4*$AD$4*T$20","v":0},{"$f":"+'A2.Demanda'!F295*365*$AA$4*$AD$4*U$20","v":0},{"$f":"+'A2.Demanda'!G295*365*$AA$4*$AD$4*V$20","v":0},{"$f":"+'A2.Demanda'!H295*365*$AA$4*$AD$4*W$20","v":0},{"$f":"+'A2.Demanda'!I295*365*$AA$4*$AD$4*X$20","v":0},{"$f":"+'A2.Demanda'!J295*365*$AA$4*$AD$4*Y$20","v":0},{"$f":"+'A2.Demanda'!K295*365*$AA$4*$AD$4*Z$20","v":0},{"$f":"+'A2.Demanda'!L295*365*$AA$4*$AD$4*AA$20","v":0},{"$f":"+'A2.Demanda'!M295*365*$AA$4*$AD$4*AB$20","v":0},{"$f":"+'A2.Demanda'!N295*365*$AA$4*$AD$4*AC$20","v":0},{"$f":"+'A2.Demanda'!O295*365*$AA$4*$AD$4*AD$20","v":0},{"$f":"+'A2.Demanda'!P295*365*$AA$4*$AD$4*AE$20","v":0},0]
[5,{"$f":"+'A2.Demanda'!C296*365*$K$4*$N$4*B$20","v":0},{"$f":"+'A2.Demanda'!D296*365*$K$4*$N$4*C$20","v":0},{"$f":"+'A2.Demanda'!E296*365*$K$4*$N$4*D$20","v":0},{"$f":"+'A2.Demanda'!F296*365*$K$4*$N$4*E$20","v":0},{"$f":"+'A2.Demanda'!G296*365*$K$4*$N$4*F$20","v":0},{"$f":"+'A2.Demanda'!H296*365*$K$4*$N$4*G$20","v":0},{"$f":"+'A2.Demanda'!I296*365*$K$4*$N$4*H$20","v":0},{"$f":"+'A2.Demanda'!J296*365*$K$4*$N$4*I$20","v":0},{"$f":"+'A2.Demanda'!K296*365*$K$4*$N$4*J$20","v":0},{"$f":"+'A2.Demanda'!L296*365*$K$4*$N$4*K$20","v":0},{"$f":"+'A2.Demanda'!M296*365*$K$4*$N$4*L$20","v":0},{"$f":"+'A2.Demanda'!N296*365*$K$4*$N$4*M$20","v":0},{"$f":"+'A2.Demanda'!O296*365*$K$4*$N$4*N$20","v":0},{"$f":"+'A2.Demanda'!P296*365*$K$4*$N$4*O$20","v":0},0,"Año 5",{"$f":"+'A2.Demanda'!C296*365*$AA$4*$AD$4*R$20","v":0},{"$f":"+'A2.Demanda'!D296*365*$AA$4*$AD$4*S$20","v":0},{"$f":"+'A2.Demanda'!E296*365*$AA$4*$AD$4*T$20","v":0},{"$f":"+'A2.Demanda'!F296*365*$AA$4*$AD$4*U$20","v":0},{"$f":"+'A2.Demanda'!G296*365*$AA$4*$AD$4*V$20","v":0},{"$f":"+'A2.Demanda'!H296*365*$AA$4*$AD$4*W$20","v":0},{"$f":"+'A2.Demanda'!I296*365*$AA$4*$AD$4*X$20","v":0},{"$f":"+'A2.Demanda'!J296*365*$AA$4*$AD$4*Y$20","v":0},{"$f":"+'A2.Demanda'!K296*365*$AA$4*$AD$4*Z$20","v":0},{"$f":"+'A2.Demanda'!L296*365*$AA$4*$AD$4*AA$20","v":0},{"$f":"+'A2.Demanda'!M296*365*$AA$4*$AD$4*AB$20","v":0},{"$f":"+'A2.Demanda'!N296*365*$AA$4*$AD$4*AC$20","v":0},{"$f":"+'A2.Demanda'!O296*365*$AA$4*$AD$4*AD$20","v":0},{"$f":"+'A2.Demanda'!P296*365*$AA$4*$AD$4*AE$20","v":0},0]
[6,{"$f":"+'A2.Demanda'!C297*365*$K$4*$N$4*B$20","v":0},{"$f":"+'A2.Demanda'!D297*365*$K$4*$N$4*C$20","v":0},{"$f":"+'A2.Demanda'!E297*365*$K$4*$N$4*D$20","v":0},{"$f":"+'A2.Demanda'!F297*365*$K$4*$N$4*E$20","v":0},{"$f":"+'A2.Demanda'!G297*365*$K$4*$N$4*F$20","v":0},{"$f":"+'A2.Demanda'!H297*365*$K$4*$N$4*G$20","v":0},{"$f":"+'A2.Demanda'!I297*365*$K$4*$N$4*H$20","v":0},{"$f":"+'A2.Demanda'!J297*365*$K$4*$N$4*I$20","v":0},{"$f":"+'A2.Demanda'!K297*365*$K$4*$N$4*J$20","v":0},{"$f":"+'A2.Demanda'!L297*365*$K$4*$N$4*K$20","v":0},{"$f":"+'A2.Demanda'!M297*365*$K$4*$N$4*L$20","v":0},{"$f":"+'A2.Demanda'!N297*365*$K$4*$N$4*M$20","v":0},{"$f":"+'A2.Demanda'!O297*365*$K$4*$N$4*N$20","v":0},{"$f":"+'A2.Demanda'!P297*365*$K$4*$N$4*O$20","v":0},0,"Año 6",{"$f":"+'A2.Demanda'!C297*365*$AA$4*$AD$4*R$20","v":0},{"$f":"+'A2.Demanda'!D297*365*$AA$4*$AD$4*S$20","v":0},{"$f":"+'A2.Demanda'!E297*365*$AA$4*$AD$4*T$20","v":0},{"$f":"+'A2.Demanda'!F297*365*$AA$4*$AD$4*U$20","v":0},{"$f":"+'A2.Demanda'!G297*365*$AA$4*$AD$4*V$20","v":0},{"$f":"+'A2.Demanda'!H297*365*$AA$4*$AD$4*W$20","v":0},{"$f":"+'A2.Demanda'!I297*365*$AA$4*$AD$4*X$20","v":0},{"$f":"+'A2.Demanda'!J297*365*$AA$4*$AD$4*Y$20","v":0},{"$f":"+'A2.Demanda'!K297*365*$AA$4*$AD$4*Z$20","v":0},{"$f":"+'A2.Demanda'!L297*365*$AA$4*$AD$4*AA$20","v":0},{"$f":"+'A2.Demanda'!M297*365*$AA$4*$AD$4*AB$20","v":0},{"$f":"+'A2.Demanda'!N297*365*$AA$4*$AD$4*AC$20","v":0},{"$f":"+'A2.Demanda'!O297*365*$AA$4*$AD$4*AD$20","v":0},{"$f":"+'A2.Demanda'!P297*365*$AA$4*$AD$4*AE$20","v":0},0]
[7,{"$f":"+'A2.Demanda'!C298*365*$K$4*$N$4*B$20","v":0},{"$f":"+'A2.Demanda'!D298*365*$K$4*$N$4*C$20","v":0},{"$f":"+'A2.Demanda'!E298*365*$K$4*$N$4*D$20","v":0},{"$f":"+'A2.Demanda'!F298*365*$K$4*$N$4*E$20","v":0},{"$f":"+'A2.Demanda'!G298*365*$K$4*$N$4*F$20","v":0},{"$f":"+'A2.Demanda'!H298*365*$K$4*$N$4*G$20","v":0},{"$f":"+'A2.Demanda'!I298*365*$K$4*$N$4*H$20","v":0},{"$f":"+'A2.Demanda'!J298*365*$K$4*$N$4*I$20","v":0},{"$f":"+'A2.Demanda'!K298*365*$K$4*$N$4*J$20","v":0},{"$f":"+'A2.Demanda'!L298*365*$K$4*$N$4*K$20","v":0},{"$f":"+'A2.Demanda'!M298*365*$K$4*$N$4*L$20","v":0},{"$f":"+'A2.Demanda'!N298*365*$K$4*$N$4*M$20","v":0},{"$f":"+'A2.Demanda'!O298*365*$K$4*$N$4*N$20","v":0},{"$f":"+'A2.Demanda'!P298*365*$K$4*$N$4*O$20","v":0},0,"Año 7",{"$f":"+'A2.Demanda'!C298*365*$AA$4*$AD$4*R$20","v":0},{"$f":"+'A2.Demanda'!D298*365*$AA$4*$AD$4*S$20","v":0},{"$f":"+'A2.Demanda'!E298*365*$AA$4*$AD$4*T$20","v":0},{"$f":"+'A2.Demanda'!F298*365*$AA$4*$AD$4*U$20","v":0},{"$f":"+'A2.Demanda'!G298*365*$AA$4*$AD$4*V$20","v":0},{"$f":"+'A2.Demanda'!H298*365*$AA$4*$AD$4*W$20","v":0},{"$f":"+'A2.Demanda'!I298*365*$AA$4*$AD$4*X$20","v":0},{"$f":"+'A2.Demanda'!J298*365*$AA$4*$AD$4*Y$20","v":0},{"$f":"+'A2.Demanda'!K298*365*$AA$4*$AD$4*Z$20","v":0},{"$f":"+'A2.Demanda'!L298*365*$AA$4*$AD$4*AA$20","v":0},{"$f":"+'A2.Demanda'!M298*365*$AA$4*$AD$4*AB$20","v":0},{"$f":"+'A2.Demanda'!N298*365*$AA$4*$AD$4*AC$20","v":0},{"$f":"+'A2.Demanda'!O298*365*$AA$4*$AD$4*AD$20","v":0},{"$f":"+'A2.Demanda'!P298*365*$AA$4*$AD$4*AE$20","v":0},0]
[8,{"$f":"+'A2.Demanda'!C299*365*$K$4*$N$4*B$20","v":0},{"$f":"+'A2.Demanda'!D299*365*$K$4*$N$4*C$20","v":0},{"$f":"+'A2.Demanda'!E299*365*$K$4*$N$4*D$20","v":0},{"$f":"+'A2.Demanda'!F299*365*$K$4*$N$4*E$20","v":0},{"$f":"+'A2.Demanda'!G299*365*$K$4*$N$4*F$20","v":0},{"$f":"+'A2.Demanda'!H299*365*$K$4*$N$4*G$20","v":0},{"$f":"+'A2.Demanda'!I299*365*$K$4*$N$4*H$20","v":0},{"$f":"+'A2.Demanda'!J299*365*$K$4*$N$4*I$20","v":0},{"$f":"+'A2.Demanda'!K299*365*$K$4*$N$4*J$20","v":0},{"$f":"+'A2.Demanda'!L299*365*$K$4*$N$4*K$20","v":0},{"$f":"+'A2.Demanda'!M299*365*$K$4*$N$4*L$20","v":0},{"$f":"+'A2.Demanda'!N299*365*$K$4*$N$4*M$20","v":0},{"$f":"+'A2.Demanda'!O299*365*$K$4*$N$4*N$20","v":0},{"$f":"+'A2.Demanda'!P299*365*$K$4*$N$4*O$20","v":0},0,"Año 8",{"$f":"+'A2.Demanda'!C299*365*$AA$4*$AD$4*R$20","v":0},{"$f":"+'A2.Demanda'!D299*365*$AA$4*$AD$4*S$20","v":0},{"$f":"+'A2.Demanda'!E299*365*$AA$4*$AD$4*T$20","v":0},{"$f":"+'A2.Demanda'!F299*365*$AA$4*$AD$4*U$20","v":0},{"$f":"+'A2.Demanda'!G299*365*$AA$4*$AD$4*V$20","v":0},{"$f":"+'A2.Demanda'!H299*365*$AA$4*$AD$4*W$20","v":0},{"$f":"+'A2.Demanda'!I299*365*$AA$4*$AD$4*X$20","v":0},{"$f":"+'A2.Demanda'!J299*365*$AA$4*$AD$4*Y$20","v":0},{"$f":"+'A2.Demanda'!K299*365*$AA$4*$AD$4*Z$20","v":0},{"$f":"+'A2.Demanda'!L299*365*$AA$4*$AD$4*AA$20","v":0},{"$f":"+'A2.Demanda'!M299*365*$AA$4*$AD$4*AB$20","v":0},{"$f":"+'A2.Demanda'!N299*365*$AA$4*$AD$4*AC$20","v":0},{"$f":"+'A2.Demanda'!O299*365*$AA$4*$AD$4*AD$20","v":0},{"$f":"+'A2.Demanda'!P299*365*$AA$4*$AD$4*AE$20","v":0},0]
[9,{"$f":"+'A2.Demanda'!C300*365*$K$4*$N$4*B$20","v":0},{"$f":"+'A2.Demanda'!D300*365*$K$4*$N$4*C$20","v":0},{"$f":"+'A2.Demanda'!E300*365*$K$4*$N$4*D$20","v":0},{"$f":"+'A2.Demanda'!F300*365*$K$4*$N$4*E$20","v":0},{"$f":"+'A2.Demanda'!G300*365*$K$4*$N$4*F$20","v":0},{"$f":"+'A2.Demanda'!H300*365*$K$4*$N$4*G$20","v":0},{"$f":"+'A2.Demanda'!I300*365*$K$4*$N$4*H$20","v":0},{"$f":"+'A2.Demanda'!J300*365*$K$4*$N$4*I$20","v":0},{"$f":"+'A2.Demanda'!K300*365*$K$4*$N$4*J$20","v":0},{"$f":"+'A2.Demanda'!L300*365*$K$4*$N$4*K$20","v":0},{"$f":"+'A2.Demanda'!M300*365*$K$4*$N$4*L$20","v":0},{"$f":"+'A2.Demanda'!N300*365*$K$4*$N$4*M$20","v":0},{"$f":"+'A2.Demanda'!O300*365*$K$4*$N$4*N$20","v":0},{"$f":"+'A2.Demanda'!P300*365*$K$4*$N$4*O$20","v":0},0,"Año 9",{"$f":"+'A2.Demanda'!C300*365*$AA$4*$AD$4*R$20","v":0},{"$f":"+'A2.Demanda'!D300*365*$AA$4*$AD$4*S$20","v":0},{"$f":"+'A2.Demanda'!E300*365*$AA$4*$AD$4*T$20","v":0},{"$f":"+'A2.Demanda'!F300*365*$AA$4*$AD$4*U$20","v":0},{"$f":"+'A2.Demanda'!G300*365*$AA$4*$AD$4*V$20","v":0},{"$f":"+'A2.Demanda'!H300*365*$AA$4*$AD$4*W$20","v":0},{"$f":"+'A2.Demanda'!I300*365*$AA$4*$AD$4*X$20","v":0},{"$f":"+'A2.Demanda'!J300*365*$AA$4*$AD$4*Y$20","v":0},{"$f":"+'A2.Demanda'!K300*365*$AA$4*$AD$4*Z$20","v":0},{"$f":"+'A2.Demanda'!L300*365*$AA$4*$AD$4*AA$20","v":0},{"$f":"+'A2.Demanda'!M300*365*$AA$4*$AD$4*AB$20","v":0},{"$f":"+'A2.Demanda'!N300*365*$AA$4*$AD$4*AC$20","v":0},{"$f":"+'A2.Demanda'!O300*365*$AA$4*$AD$4*AD$20","v":0},{"$f":"+'A2.Demanda'!P300*365*$AA$4*$AD$4*AE$20","v":0},0]
[10,{"$f":"+'A2.Demanda'!C301*365*$K$4*$N$4*B$20","v":0},{"$f":"+'A2.Demanda'!D301*365*$K$4*$N$4*C$20","v":0},{"$f":"+'A2.Demanda'!E301*365*$K$4*$N$4*D$20","v":0},{"$f":"+'A2.Demanda'!F301*365*$K$4*$N$4*E$20","v":0},{"$f":"+'A2.Demanda'!G301*365*$K$4*$N$4*F$20","v":0},{"$f":"+'A2.Demanda'!H301*365*$K$4*$N$4*G$20","v":0},{"$f":"+'A2.Demanda'!I301*365*$K$4*$N$4*H$20","v":0},{"$f":"+'A2.Demanda'!J301*365*$K$4*$N$4*I$20","v":0},{"$f":"+'A2.Demanda'!K301*365*$K$4*$N$4*J$20","v":0},{"$f":"+'A2.Demanda'!L301*365*$K$4*$N$4*K$20","v":0},{"$f":"+'A2.Demanda'!M301*365*$K$4*$N$4*L$20","v":0},{"$f":"+'A2.Demanda'!N301*365*$K$4*$N$4*M$20","v":0},{"$f":"+'A2.Demanda'!O301*365*$K$4*$N$4*N$20","v":0},{"$f":"+'A2.Demanda'!P301*365*$K$4*$N$4*O$20","v":0},0,"Año 10",{"$f":"+'A2.Demanda'!C301*365*$AA$4*$AD$4*R$20","v":0},{"$f":"+'A2.Demanda'!D301*365*$AA$4*$AD$4*S$20","v":0},{"$f":"+'A2.Demanda'!E301*365*$AA$4*$AD$4*T$20","v":0},{"$f":"+'A2.Demanda'!F301*365*$AA$4*$AD$4*U$20","v":0},{"$f":"+'A2.Demanda'!G301*365*$AA$4*$AD$4*V$20","v":0},{"$f":"+'A2.Demanda'!H301*365*$AA$4*$AD$4*W$20","v":0},{"$f":"+'A2.Demanda'!I301*365*$AA$4*$AD$4*X$20","v":0},{"$f":"+'A2.Demanda'!J301*365*$AA$4*$AD$4*Y$20","v":0},{"$f":"+'A2.Demanda'!K301*365*$AA$4*$AD$4*Z$20","v":0},{"$f":"+'A2.Demanda'!L301*365*$AA$4*$AD$4*AA$20","v":0},{"$f":"+'A2.Demanda'!M301*365*$AA$4*$AD$4*AB$20","v":0},{"$f":"+'A2.Demanda'!N301*365*$AA$4*$AD$4*AC$20","v":0},{"$f":"+'A2.Demanda'!O301*365*$AA$4*$AD$4*AD$20","v":0},{"$f":"+'A2.Demanda'!P301*365*$AA$4*$AD$4*AE$20","v":0},0]
[11,{"$f":"+'A2.Demanda'!C302*365*$K$4*$N$4*B$20","v":0},{"$f":"+'A2.Demanda'!D302*365*$K$4*$N$4*C$20","v":0},{"$f":"+'A2.Demanda'!E302*365*$K$4*$N$4*D$20","v":0},{"$f":"+'A2.Demanda'!F302*365*$K$4*$N$4*E$20","v":0},{"$f":"+'A2.Demanda'!G302*365*$K$4*$N$4*F$20","v":0},{"$f":"+'A2.Demanda'!H302*365*$K$4*$N$4*G$20","v":0},{"$f":"+'A2.Demanda'!I302*365*$K$4*$N$4*H$20","v":0},{"$f":"+'A2.Demanda'!J302*365*$K$4*$N$4*I$20","v":0},{"$f":"+'A2.Demanda'!K302*365*$K$4*$N$4*J$20","v":0},{"$f":"+'A2.Demanda'!L302*365*$K$4*$N$4*K$20","v":0},{"$f":"+'A2.Demanda'!M302*365*$K$4*$N$4*L$20","v":0},{"$f":"+'A2.Demanda'!N302*365*$K$4*$N$4*M$20","v":0},{"$f":"+'A2.Demanda'!O302*365*$K$4*$N$4*N$20","v":0},{"$f":"+'A2.Demanda'!P302*365*$K$4*$N$4*O$20","v":0},0,"Año 11",{"$f":"+'A2.Demanda'!C302*365*$AA$4*$AD$4*R$20","v":0},{"$f":"+'A2.Demanda'!D302*365*$AA$4*$AD$4*S$20","v":0},{"$f":"+'A2.Demanda'!E302*365*$AA$4*$AD$4*T$20","v":0},{"$f":"+'A2.Demanda'!F302*365*$AA$4*$AD$4*U$20","v":0},{"$f":"+'A2.Demanda'!G302*365*$AA$4*$AD$4*V$20","v":0},{"$f":"+'A2.Demanda'!H302*365*$AA$4*$AD$4*W$20","v":0},{"$f":"+'A2.Demanda'!I302*365*$AA$4*$AD$4*X$20","v":0},{"$f":"+'A2.Demanda'!J302*365*$AA$4*$AD$4*Y$20","v":0},{"$f":"+'A2.Demanda'!K302*365*$AA$4*$AD$4*Z$20","v":0},{"$f":"+'A2.Demanda'!L302*365*$AA$4*$AD$4*AA$20","v":0},{"$f":"+'A2.Demanda'!M302*365*$AA$4*$AD$4*AB$20","v":0},{"$f":"+'A2.Demanda'!N302*365*$AA$4*$AD$4*AC$20","v":0},{"$f":"+'A2.Demanda'!O302*365*$AA$4*$AD$4*AD$20","v":0},{"$f":"+'A2.Demanda'!P302*365*$AA$4*$AD$4*AE$20","v":0},0]
[12,{"$f":"+'A2.Demanda'!C303*365*$K$4*$N$4*B$20","v":0},{"$f":"+'A2.Demanda'!D303*365*$K$4*$N$4*C$20","v":0},{"$f":"+'A2.Demanda'!E303*365*$K$4*$N$4*D$20","v":0},{"$f":"+'A2.Demanda'!F303*365*$K$4*$N$4*E$20","v":0},{"$f":"+'A2.Demanda'!G303*365*$K$4*$N$4*F$20","v":0},{"$f":"+'A2.Demanda'!H303*365*$K$4*$N$4*G$20","v":0},{"$f":"+'A2.Demanda'!I303*365*$K$4*$N$4*H$20","v":0},{"$f":"+'A2.Demanda'!J303*365*$K$4*$N$4*I$20","v":0},{"$f":"+'A2.Demanda'!K303*365*$K$4*$N$4*J$20","v":0},{"$f":"+'A2.Demanda'!L303*365*$K$4*$N$4*K$20","v":0},{"$f":"+'A2.Demanda'!M303*365*$K$4*$N$4*L$20","v":0},{"$f":"+'A2.Demanda'!N303*365*$K$4*$N$4*M$20","v":0},{"$f":"+'A2.Demanda'!O303*365*$K$4*$N$4*N$20","v":0},{"$f":"+'A2.Demanda'!P303*365*$K$4*$N$4*O$20","v":0},0,"Año 12",{"$f":"+'A2.Demanda'!C303*365*$AA$4*$AD$4*R$20","v":0},{"$f":"+'A2.Demanda'!D303*365*$AA$4*$AD$4*S$20","v":0},{"$f":"+'A2.Demanda'!E303*365*$AA$4*$AD$4*T$20","v":0},{"$f":"+'A2.Demanda'!F303*365*$AA$4*$AD$4*U$20","v":0},{"$f":"+'A2.Demanda'!G303*365*$AA$4*$AD$4*V$20","v":0},{"$f":"+'A2.Demanda'!H303*365*$AA$4*$AD$4*W$20","v":0},{"$f":"+'A2.Demanda'!I303*365*$AA$4*$AD$4*X$20","v":0},{"$f":"+'A2.Demanda'!J303*365*$AA$4*$AD$4*Y$20","v":0},{"$f":"+'A2.Demanda'!K303*365*$AA$4*$AD$4*Z$20","v":0},{"$f":"+'A2.Demanda'!L303*365*$AA$4*$AD$4*AA$20","v":0},{"$f":"+'A2.Demanda'!M303*365*$AA$4*$AD$4*AB$20","v":0},{"$f":"+'A2.Demanda'!N303*365*$AA$4*$AD$4*AC$20","v":0},{"$f":"+'A2.Demanda'!O303*365*$AA$4*$AD$4*AD$20","v":0},{"$f":"+'A2.Demanda'!P303*365*$AA$4*$AD$4*AE$20","v":0},0]
[13,{"$f":"+'A2.Demanda'!C304*365*$K$4*$N$4*B$20","v":0},{"$f":"+'A2.Demanda'!D304*365*$K$4*$N$4*C$20","v":0},{"$f":"+'A2.Demanda'!E304*365*$K$4*$N$4*D$20","v":0},{"$f":"+'A2.Demanda'!F304*365*$K$4*$N$4*E$20","v":0},{"$f":"+'A2.Demanda'!G304*365*$K$4*$N$4*F$20","v":0},{"$f":"+'A2.Demanda'!H304*365*$K$4*$N$4*G$20","v":0},{"$f":"+'A2.Demanda'!I304*365*$K$4*$N$4*H$20","v":0},{"$f":"+'A2.Demanda'!J304*365*$K$4*$N$4*I$20","v":0},{"$f":"+'A2.Demanda'!K304*365*$K$4*$N$4*J$20","v":0},{"$f":"+'A2.Demanda'!L304*365*$K$4*$N$4*K$20","v":0},{"$f":"+'A2.Demanda'!M304*365*$K$4*$N$4*L$20","v":0},{"$f":"+'A2.Demanda'!N304*365*$K$4*$N$4*M$20","v":0},{"$f":"+'A2.Demanda'!O304*365*$K$4*$N$4*N$20","v":0},{"$f":"+'A2.Demanda'!P304*365*$K$4*$N$4*O$20","v":0},0,"Año 13",{"$f":"+'A2.Demanda'!C304*365*$AA$4*$AD$4*R$20","v":0},{"$f":"+'A2.Demanda'!D304*365*$AA$4*$AD$4*S$20","v":0},{"$f":"+'A2.Demanda'!E304*365*$AA$4*$AD$4*T$20","v":0},{"$f":"+'A2.Demanda'!F304*365*$AA$4*$AD$4*U$20","v":0},{"$f":"+'A2.Demanda'!G304*365*$AA$4*$AD$4*V$20","v":0},{"$f":"+'A2.Demanda'!H304*365*$AA$4*$AD$4*W$20","v":0},{"$f":"+'A2.Demanda'!I304*365*$AA$4*$AD$4*X$20","v":0},{"$f":"+'A2.Demanda'!J304*365*$AA$4*$AD$4*Y$20","v":0},{"$f":"+'A2.Demanda'!K304*365*$AA$4*$AD$4*Z$20","v":0},{"$f":"+'A2.Demanda'!L304*365*$AA$4*$AD$4*AA$20","v":0},{"$f":"+'A2.Demanda'!M304*365*$AA$4*$AD$4*AB$20","v":0},{"$f":"+'A2.Demanda'!N304*365*$AA$4*$AD$4*AC$20","v":0},{"$f":"+'A2.Demanda'!O304*365*$AA$4*$AD$4*AD$20","v":0},{"$f":"+'A2.Demanda'!P304*365*$AA$4*$AD$4*AE$20","v":0},0]
[14,{"$f":"+'A2.Demanda'!C305*365*$K$4*$N$4*B$20","v":0},{"$f":"+'A2.Demanda'!D305*365*$K$4*$N$4*C$20","v":0},{"$f":"+'A2.Demanda'!E305*365*$K$4*$N$4*D$20","v":0},{"$f":"+'A2.Demanda'!F305*365*$K$4*$N$4*E$20","v":0},{"$f":"+'A2.Demanda'!G305*365*$K$4*$N$4*F$20","v":0},{"$f":"+'A2.Demanda'!H305*365*$K$4*$N$4*G$20","v":0},{"$f":"+'A2.Demanda'!I305*365*$K$4*$N$4*H$20","v":0},{"$f":"+'A2.Demanda'!J305*365*$K$4*$N$4*I$20","v":0},{"$f":"+'A2.Demanda'!K305*365*$K$4*$N$4*J$20","v":0},{"$f":"+'A2.Demanda'!L305*365*$K$4*$N$4*K$20","v":0},{"$f":"+'A2.Demanda'!M305*365*$K$4*$N$4*L$20","v":0},{"$f":"+'A2.Demanda'!N305*365*$K$4*$N$4*M$20","v":0},{"$f":"+'A2.Demanda'!O305*365*$K$4*$N$4*N$20","v":0},{"$f":"+'A2.Demanda'!P305*365*$K$4*$N$4*O$20","v":0},0,"Año 14",{"$f":"+'A2.Demanda'!C305*365*$AA$4*$AD$4*R$20","v":0},{"$f":"+'A2.Demanda'!D305*365*$AA$4*$AD$4*S$20","v":0},{"$f":"+'A2.Demanda'!E305*365*$AA$4*$AD$4*T$20","v":0},{"$f":"+'A2.Demanda'!F305*365*$AA$4*$AD$4*U$20","v":0},{"$f":"+'A2.Demanda'!G305*365*$AA$4*$AD$4*V$20","v":0},{"$f":"+'A2.Demanda'!H305*365*$AA$4*$AD$4*W$20","v":0},{"$f":"+'A2.Demanda'!I305*365*$AA$4*$AD$4*X$20","v":0},{"$f":"+'A2.Demanda'!J305*365*$AA$4*$AD$4*Y$20","v":0},{"$f":"+'A2.Demanda'!K305*365*$AA$4*$AD$4*Z$20","v":0},{"$f":"+'A2.Demanda'!L305*365*$AA$4*$AD$4*AA$20","v":0},{"$f":"+'A2.Demanda'!M305*365*$AA$4*$AD$4*AB$20","v":0},{"$f":"+'A2.Demanda'!N305*365*$AA$4*$AD$4*AC$20","v":0},{"$f":"+'A2.Demanda'!O305*365*$AA$4*$AD$4*AD$20","v":0},{"$f":"+'A2.Demanda'!P305*365*$AA$4*$AD$4*AE$20","v":0},0]
[15,{"$f":"+'A2.Demanda'!C306*365*$K$4*$N$4*B$20","v":0},{"$f":"+'A2.Demanda'!D306*365*$K$4*$N$4*C$20","v":0},{"$f":"+'A2.Demanda'!E306*365*$K$4*$N$4*D$20","v":0},{"$f":"+'A2.Demanda'!F306*365*$K$4*$N$4*E$20","v":0},{"$f":"+'A2.Demanda'!G306*365*$K$4*$N$4*F$20","v":0},{"$f":"+'A2.Demanda'!H306*365*$K$4*$N$4*G$20","v":0},{"$f":"+'A2.Demanda'!I306*365*$K$4*$N$4*H$20","v":0},{"$f":"+'A2.Demanda'!J306*365*$K$4*$N$4*I$20","v":0},{"$f":"+'A2.Demanda'!K306*365*$K$4*$N$4*J$20","v":0},{"$f":"+'A2.Demanda'!L306*365*$K$4*$N$4*K$20","v":0},{"$f":"+'A2.Demanda'!M306*365*$K$4*$N$4*L$20","v":0},{"$f":"+'A2.Demanda'!N306*365*$K$4*$N$4*M$20","v":0},{"$f":"+'A2.Demanda'!O306*365*$K$4*$N$4*N$20","v":0},{"$f":"+'A2.Demanda'!P306*365*$K$4*$N$4*O$20","v":0},0,"Año 15",{"$f":"+'A2.Demanda'!C306*365*$AA$4*$AD$4*R$20","v":0},{"$f":"+'A2.Demanda'!D306*365*$AA$4*$AD$4*S$20","v":0},{"$f":"+'A2.Demanda'!E306*365*$AA$4*$AD$4*T$20","v":0},{"$f":"+'A2.Demanda'!F306*365*$AA$4*$AD$4*U$20","v":0},{"$f":"+'A2.Demanda'!G306*365*$AA$4*$AD$4*V$20","v":0},{"$f":"+'A2.Demanda'!H306*365*$AA$4*$AD$4*W$20","v":0},{"$f":"+'A2.Demanda'!I306*365*$AA$4*$AD$4*X$20","v":0},{"$f":"+'A2.Demanda'!J306*365*$AA$4*$AD$4*Y$20","v":0},{"$f":"+'A2.Demanda'!K306*365*$AA$4*$AD$4*Z$20","v":0},{"$f":"+'A2.Demanda'!L306*365*$AA$4*$AD$4*AA$20","v":0},{"$f":"+'A2.Demanda'!M306*365*$AA$4*$AD$4*AB$20","v":0},{"$f":"+'A2.Demanda'!N306*365*$AA$4*$AD$4*AC$20","v":0},{"$f":"+'A2.Demanda'!O306*365*$AA$4*$AD$4*AD$20","v":0},{"$f":"+'A2.Demanda'!P306*365*$AA$4*$AD$4*AE$20","v":0},0]
[16,{"$f":"+'A2.Demanda'!C307*365*$K$4*$N$4*B$20","v":0},{"$f":"+'A2.Demanda'!D307*365*$K$4*$N$4*C$20","v":0},{"$f":"+'A2.Demanda'!E307*365*$K$4*$N$4*D$20","v":0},{"$f":"+'A2.Demanda'!F307*365*$K$4*$N$4*E$20","v":0},{"$f":"+'A2.Demanda'!G307*365*$K$4*$N$4*F$20","v":0},{"$f":"+'A2.Demanda'!H307*365*$K$4*$N$4*G$20","v":0},{"$f":"+'A2.Demanda'!I307*365*$K$4*$N$4*H$20","v":0},{"$f":"+'A2.Demanda'!J307*365*$K$4*$N$4*I$20","v":0},{"$f":"+'A2.Demanda'!K307*365*$K$4*$N$4*J$20","v":0},{"$f":"+'A2.Demanda'!L307*365*$K$4*$N$4*K$20","v":0},{"$f":"+'A2.Demanda'!M307*365*$K$4*$N$4*L$20","v":0},{"$f":"+'A2.Demanda'!N307*365*$K$4*$N$4*M$20","v":0},{"$f":"+'A2.Demanda'!O307*365*$K$4*$N$4*N$20","v":0},{"$f":"+'A2.Demanda'!P307*365*$K$4*$N$4*O$20","v":0},0,"Año 16",{"$f":"+'A2.Demanda'!C307*365*$AA$4*$AD$4*R$20","v":0},{"$f":"+'A2.Demanda'!D307*365*$AA$4*$AD$4*S$20","v":0},{"$f":"+'A2.Demanda'!E307*365*$AA$4*$AD$4*T$20","v":0},{"$f":"+'A2.Demanda'!F307*365*$AA$4*$AD$4*U$20","v":0},{"$f":"+'A2.Demanda'!G307*365*$AA$4*$AD$4*V$20","v":0},{"$f":"+'A2.Demanda'!H307*365*$AA$4*$AD$4*W$20","v":0},{"$f":"+'A2.Demanda'!I307*365*$AA$4*$AD$4*X$20","v":0},{"$f":"+'A2.Demanda'!J307*365*$AA$4*$AD$4*Y$20","v":0},{"$f":"+'A2.Demanda'!K307*365*$AA$4*$AD$4*Z$20","v":0},{"$f":"+'A2.Demanda'!L307*365*$AA$4*$AD$4*AA$20","v":0},{"$f":"+'A2.Demanda'!M307*365*$AA$4*$AD$4*AB$20","v":0},{"$f":"+'A2.Demanda'!N307*365*$AA$4*$AD$4*AC$20","v":0},{"$f":"+'A2.Demanda'!O307*365*$AA$4*$AD$4*AD$20","v":0},{"$f":"+'A2.Demanda'!P307*365*$AA$4*$AD$4*AE$20","v":0},0]
[17,{"$f":"+'A2.Demanda'!C308*365*$K$4*$N$4*B$20","v":0},{"$f":"+'A2.Demanda'!D308*365*$K$4*$N$4*C$20","v":0},{"$f":"+'A2.Demanda'!E308*365*$K$4*$N$4*D$20","v":0},{"$f":"+'A2.Demanda'!F308*365*$K$4*$N$4*E$20","v":0},{"$f":"+'A2.Demanda'!G308*365*$K$4*$N$4*F$20","v":0},{"$f":"+'A2.Demanda'!H308*365*$K$4*$N$4*G$20","v":0},{"$f":"+'A2.Demanda'!I308*365*$K$4*$N$4*H$20","v":0},{"$f":"+'A2.Demanda'!J308*365*$K$4*$N$4*I$20","v":0},{"$f":"+'A2.Demanda'!K308*365*$K$4*$N$4*J$20","v":0},{"$f":"+'A2.Demanda'!L308*365*$K$4*$N$4*K$20","v":0},{"$f":"+'A2.Demanda'!M308*365*$K$4*$N$4*L$20","v":0},{"$f":"+'A2.Demanda'!N308*365*$K$4*$N$4*M$20","v":0},{"$f":"+'A2.Demanda'!O308*365*$K$4*$N$4*N$20","v":0},{"$f":"+'A2.Demanda'!P308*365*$K$4*$N$4*O$20","v":0},0,"Año 17",{"$f":"+'A2.Demanda'!C308*365*$AA$4*$AD$4*R$20","v":0},{"$f":"+'A2.Demanda'!D308*365*$AA$4*$AD$4*S$20","v":0},{"$f":"+'A2.Demanda'!E308*365*$AA$4*$AD$4*T$20","v":0},{"$f":"+'A2.Demanda'!F308*365*$AA$4*$AD$4*U$20","v":0},{"$f":"+'A2.Demanda'!G308*365*$AA$4*$AD$4*V$20","v":0},{"$f":"+'A2.Demanda'!H308*365*$AA$4*$AD$4*W$20","v":0},{"$f":"+'A2.Demanda'!I308*365*$AA$4*$AD$4*X$20","v":0},{"$f":"+'A2.Demanda'!J308*365*$AA$4*$AD$4*Y$20","v":0},{"$f":"+'A2.Demanda'!K308*365*$AA$4*$AD$4*Z$20","v":0},{"$f":"+'A2.Demanda'!L308*365*$AA$4*$AD$4*AA$20","v":0},{"$f":"+'A2.Demanda'!M308*365*$AA$4*$AD$4*AB$20","v":0},{"$f":"+'A2.Demanda'!N308*365*$AA$4*$AD$4*AC$20","v":0},{"$f":"+'A2.Demanda'!O308*365*$AA$4*$AD$4*AD$20","v":0},{"$f":"+'A2.Demanda'!P308*365*$AA$4*$AD$4*AE$20","v":0},0]
[18,{"$f":"+'A2.Demanda'!C309*365*$K$4*$N$4*B$20","v":0},{"$f":"+'A2.Demanda'!D309*365*$K$4*$N$4*C$20","v":0},{"$f":"+'A2.Demanda'!E309*365*$K$4*$N$4*D$20","v":0},{"$f":"+'A2.Demanda'!F309*365*$K$4*$N$4*E$20","v":0},{"$f":"+'A2.Demanda'!G309*365*$K$4*$N$4*F$20","v":0},{"$f":"+'A2.Demanda'!H309*365*$K$4*$N$4*G$20","v":0},{"$f":"+'A2.Demanda'!I309*365*$K$4*$N$4*H$20","v":0},{"$f":"+'A2.Demanda'!J309*365*$K$4*$N$4*I$20","v":0},{"$f":"+'A2.Demanda'!K309*365*$K$4*$N$4*J$20","v":0},{"$f":"+'A2.Demanda'!L309*365*$K$4*$N$4*K$20","v":0},{"$f":"+'A2.Demanda'!M309*365*$K$4*$N$4*L$20","v":0},{"$f":"+'A2.Demanda'!N309*365*$K$4*$N$4*M$20","v":0},{"$f":"+'A2.Demanda'!O309*365*$K$4*$N$4*N$20","v":0},{"$f":"+'A2.Demanda'!P309*365*$K$4*$N$4*O$20","v":0},0,"Año 18",{"$f":"+'A2.Demanda'!C309*365*$AA$4*$AD$4*R$20","v":0},{"$f":"+'A2.Demanda'!D309*365*$AA$4*$AD$4*S$20","v":0},{"$f":"+'A2.Demanda'!E309*365*$AA$4*$AD$4*T$20","v":0},{"$f":"+'A2.Demanda'!F309*365*$AA$4*$AD$4*U$20","v":0},{"$f":"+'A2.Demanda'!G309*365*$AA$4*$AD$4*V$20","v":0},{"$f":"+'A2.Demanda'!H309*365*$AA$4*$AD$4*W$20","v":0},{"$f":"+'A2.Demanda'!I309*365*$AA$4*$AD$4*X$20","v":0},{"$f":"+'A2.Demanda'!J309*365*$AA$4*$AD$4*Y$20","v":0},{"$f":"+'A2.Demanda'!K309*365*$AA$4*$AD$4*Z$20","v":0},{"$f":"+'A2.Demanda'!L309*365*$AA$4*$AD$4*AA$20","v":0},{"$f":"+'A2.Demanda'!M309*365*$AA$4*$AD$4*AB$20","v":0},{"$f":"+'A2.Demanda'!N309*365*$AA$4*$AD$4*AC$20","v":0},{"$f":"+'A2.Demanda'!O309*365*$AA$4*$AD$4*AD$20","v":0},{"$f":"+'A2.Demanda'!P309*365*$AA$4*$AD$4*AE$20","v":0},0]
[19,{"$f":"+'A2.Demanda'!C310*365*$K$4*$N$4*B$20","v":0},{"$f":"+'A2.Demanda'!D310*365*$K$4*$N$4*C$20","v":0},{"$f":"+'A2.Demanda'!E310*365*$K$4*$N$4*D$20","v":0},{"$f":"+'A2.Demanda'!F310*365*$K$4*$N$4*E$20","v":0},{"$f":"+'A2.Demanda'!G310*365*$K$4*$N$4*F$20","v":0},{"$f":"+'A2.Demanda'!H310*365*$K$4*$N$4*G$20","v":0},{"$f":"+'A2.Demanda'!I310*365*$K$4*$N$4*H$20","v":0},{"$f":"+'A2.Demanda'!J310*365*$K$4*$N$4*I$20","v":0},{"$f":"+'A2.Demanda'!K310*365*$K$4*$N$4*J$20","v":0},{"$f":"+'A2.Demanda'!L310*365*$K$4*$N$4*K$20","v":0},{"$f":"+'A2.Demanda'!M310*365*$K$4*$N$4*L$20","v":0},{"$f":"+'A2.Demanda'!N310*365*$K$4*$N$4*M$20","v":0},{"$f":"+'A2.Demanda'!O310*365*$K$4*$N$4*N$20","v":0},{"$f":"+'A2.Demanda'!P310*365*$K$4*$N$4*O$20","v":0},0,"Año 19",{"$f":"+'A2.Demanda'!C310*365*$AA$4*$AD$4*R$20","v":0},{"$f":"+'A2.Demanda'!D310*365*$AA$4*$AD$4*S$20","v":0},{"$f":"+'A2.Demanda'!E310*365*$AA$4*$AD$4*T$20","v":0},{"$f":"+'A2.Demanda'!F310*365*$AA$4*$AD$4*U$20","v":0},{"$f":"+'A2.Demanda'!G310*365*$AA$4*$AD$4*V$20","v":0},{"$f":"+'A2.Demanda'!H310*365*$AA$4*$AD$4*W$20","v":0},{"$f":"+'A2.Demanda'!I310*365*$AA$4*$AD$4*X$20","v":0},{"$f":"+'A2.Demanda'!J310*365*$AA$4*$AD$4*Y$20","v":0},{"$f":"+'A2.Demanda'!K310*365*$AA$4*$AD$4*Z$20","v":0},{"$f":"+'A2.Demanda'!L310*365*$AA$4*$AD$4*AA$20","v":0},{"$f":"+'A2.Demanda'!M310*365*$AA$4*$AD$4*AB$20","v":0},{"$f":"+'A2.Demanda'!N310*365*$AA$4*$AD$4*AC$20","v":0},{"$f":"+'A2.Demanda'!O310*365*$AA$4*$AD$4*AD$20","v":0},{"$f":"+'A2.Demanda'!P310*365*$AA$4*$AD$4*AE$20","v":0},0]
[20,{"$f":"+'A2.Demanda'!C311*365*$K$4*$N$4*B$20","v":0},{"$f":"+'A2.Demanda'!D311*365*$K$4*$N$4*C$20","v":0},{"$f":"+'A2.Demanda'!E311*365*$K$4*$N$4*D$20","v":0},{"$f":"+'A2.Demanda'!F311*365*$K$4*$N$4*E$20","v":0},{"$f":"+'A2.Demanda'!G311*365*$K$4*$N$4*F$20","v":0},{"$f":"+'A2.Demanda'!H311*365*$K$4*$N$4*G$20","v":0},{"$f":"+'A2.Demanda'!I311*365*$K$4*$N$4*H$20","v":0},{"$f":"+'A2.Demanda'!J311*365*$K$4*$N$4*I$20","v":0},{"$f":"+'A2.Demanda'!K311*365*$K$4*$N$4*J$20","v":0},{"$f":"+'A2.Demanda'!L311*365*$K$4*$N$4*K$20","v":0},{"$f":"+'A2.Demanda'!M311*365*$K$4*$N$4*L$20","v":0},{"$f":"+'A2.Demanda'!N311*365*$K$4*$N$4*M$20","v":0},{"$f":"+'A2.Demanda'!O311*365*$K$4*$N$4*N$20","v":0},{"$f":"+'A2.Demanda'!P311*365*$K$4*$N$4*O$20","v":0},0,"Año 20",{"$f":"+'A2.Demanda'!C311*365*$AA$4*$AD$4*R$20","v":0},{"$f":"+'A2.Demanda'!D311*365*$AA$4*$AD$4*S$20","v":0},{"$f":"+'A2.Demanda'!E311*365*$AA$4*$AD$4*T$20","v":0},{"$f":"+'A2.Demanda'!F311*365*$AA$4*$AD$4*U$20","v":0},{"$f":"+'A2.Demanda'!G311*365*$AA$4*$AD$4*V$20","v":0},{"$f":"+'A2.Demanda'!H311*365*$AA$4*$AD$4*W$20","v":0},{"$f":"+'A2.Demanda'!I311*365*$AA$4*$AD$4*X$20","v":0},{"$f":"+'A2.Demanda'!J311*365*$AA$4*$AD$4*Y$20","v":0},{"$f":"+'A2.Demanda'!K311*365*$AA$4*$AD$4*Z$20","v":0},{"$f":"+'A2.Demanda'!L311*365*$AA$4*$AD$4*AA$20","v":0},{"$f":"+'A2.Demanda'!M311*365*$AA$4*$AD$4*AB$20","v":0},{"$f":"+'A2.Demanda'!N311*365*$AA$4*$AD$4*AC$20","v":0},{"$f":"+'A2.Demanda'!O311*365*$AA$4*$AD$4*AD$20","v":0},{"$f":"+'A2.Demanda'!P311*365*$AA$4*$AD$4*AE$20","v":0},0]
["Beneficios",{"$f":"SUM(B24:B43)","v":0},{"$f":"SUM(C24:C43)","v":0},0,0,0,0,0,0,0,0,0,0,0,0,{"$f":"SUM(B44:O44)","v":0},"Beneficios",{"$f":"SUM(R24:R43)","v":0},{"$f":"SUM(S24:S43)","v":0},0,0,0,0,0,0,0,0,0,0,0,0,{"$f":"SUM(R44:AE44)","v":0}]
[]
[]
[null,"Auto","Station Wagon","Camioneta","Camioneta Rural","Microbús","Bus 2 Ejes","Bus 3 Ejes","Bus 4 Ejes","Camión 2 Ejes","Camión 3 Ejes","Camión 4 Ejes","Semitrailer 2 Ejes","Semitrailer 3 Ejes","Articulado",null,null,"Auto","Station Wagon","Camioneta","Camioneta Rural","Microbús","Bus 2 Ejes","Bus 3 Ejes","Bus 4 Ejes","Camión 2 Ejes","Camión 3 Ejes","Camión 4 Ejes","Semitrailer 2 Ejes","Semitrailer 3 Ejes","Articulado"]
[null,"AU","SW","CA","CR","MB","B2","B3","B4","C2","C3","C4","S2","S3","TR",null,null,"AU","SW","CA","CR","MB","B2","B3","B4","C2","C3","C4","S2","S3","TR"]
["Tráfico Generado","$/veh-km","$/veh-km","$/veh-km","$/veh-km","$/veh-km","$/veh-km","$/veh-km","$/veh-km","$/veh-km","$/veh-km","$/veh-km","$/veh-km","$/veh-km","$/veh-km",null,"Tráfico Generado","$/veh-km","$/veh-km","$/veh-km","$/veh-km","$/veh-km","$/veh-km","$/veh-km","$/veh-km","$/veh-km","$/veh-km","$/veh-km","$/veh-km","$/veh-km","$/veh-km"]
["Año 1",{"$f":"'A2.Demanda'!C336*365*$K$4*$N$4*B$20*0.5","v":0},{"$f":"'A2.Demanda'!D336*365*$K$4*$N$4*C$20*0.5","v":0},{"$f":"'A2.Demanda'!E336*365*$K$4*$N$4*D$20*0.5","v":0},{"$f":"'A2.Demanda'!F336*365*$K$4*$N$4*E$20*0.5","v":0},{"$f":"'A2.Demanda'!G336*365*$K$4*$N$4*F$20*0.5","v":0},{"$f":"'A2.Demanda'!H336*365*$K$4*$N$4*G$20*0.5","v":0},{"$f":"'A2.Demanda'!I336*365*$K$4*$N$4*H$20*0.5","v":0},{"$f":"'A2.Demanda'!J336*365*$K$4*$N$4*I$20*0.5","v":0},{"$f":"'A2.Demanda'!K336*365*$K$4*$N$4*J$20*0.5","v":0},{"$f":"'A2.Demanda'!L336*365*$K$4*$N$4*K$20*0.5","v":0},{"$f":"'A2.Demanda'!M336*365*$K$4*$N$4*L$20*0.5","v":0},{"$f":"'A2.Demanda'!N336*365*$K$4*$N$4*M$20*0.5","v":0},{"$f":"'A2.Demanda'!O336*365*$K$4*$N$4*N$20*0.5","v":0},{"$f":"'A2.Demanda'!P336*365*$K$4*$N$4*O$20*0.5","v":0},{"$f":"SUM(B50:O50)","v":0},"Año 1",{"$f":"+'A2.Demanda'!C336*365*$K$4*$N$4*R$20*0.5","v":0},{"$f":"+'A2.Demanda'!D336*365*$K$4*$N$4*S$20*0.5","v":0},{"$f":"+'A2.Demanda'!E336*365*$K$4*$N$4*T$20*0.5","v":0},{"$f":"+'A2.Demanda'!F336*365*$K$4*$N$4*U$20*0.5","v":0},{"$f":"+'A2.Demanda'!G336*365*$K$4*$N$4*V$20*0.5","v":0},{"$f":"+'A2.Demanda'!H336*365*$K$4*$N$4*W$20*0.5","v":0},{"$f":"+'A2.Demanda'!I336*365*$K$4*$N$4*X$20*0.5","v":0},{"$f":"+'A2.Demanda'!J336*365*$K$4*$N$4*Y$20*0.5","v":0},{"$f":"+'A2.Demanda'!K336*365*$K$4*$N$4*Z$20*0.5","v":0},{"$f":"+'A2.Demanda'!L336*365*$K$4*$N$4*AA$20*0.5","v":0},{"$f":"+'A2.Demanda'!M336*365*$K$4*$N$4*AB$20*0.5","v":0},{"$f":"+'A2.Demanda'!N336*365*$K$4*$N$4*AC$20*0.5","v":0},{"$f":"+'A2.Demanda'!O336*365*$K$4*$N$4*AD$20*0.5","v":0},{"$f":"+'A2.Demanda'!P336*365*$K$4*$N$4*AE$20*0.5","v":0},{"$f":"SUM(R50:AE50)","v":0}]
["Año 2",{"$f":"'A2.Demanda'!C337*365*$K$4*$N$4*B$20*0.5","v":0},{"$f":"'A2.Demanda'!D337*365*$K$4*$N$4*C$20*0.5","v":0},{"$f":"'A2.Demanda'!E337*365*$K$4*$N$4*D$20*0.5","v":0},{"$f":"'A2.Demanda'!F337*365*$K$4*$N$4*E$20*0.5","v":0},{"$f":"'A2.Demanda'!G337*365*$K$4*$N$4*F$20*0.5","v":0},{"$f":"'A2.Demanda'!H337*365*$K$4*$N$4*G$20*0.5","v":0},{"$f":"'A2.Demanda'!I337*365*$K$4*$N$4*H$20*0.5","v":0},{"$f":"'A2.Demanda'!J337*365*$K$4*$N$4*I$20*0.5","v":0},{"$f":"'A2.Demanda'!K337*365*$K$4*$N$4*J$20*0.5","v":0},{"$f":"'A2.Demanda'!L337*365*$K$4*$N$4*K$20*0.5","v":0},{"$f":"'A2.Demanda'!M337*365*$K$4*$N$4*L$20*0.5","v":0},{"$f":"'A2.Demanda'!N337*365*$K$4*$N$4*M$20*0.5","v":0},{"$f":"'A2.Demanda'!O337*365*$K$4*$N$4*N$20*0.5","v":0},{"$f":"'A2.Demanda'!P337*365*$K$4*$N$4*O$20*0.5","v":0},0,"Año 2",{"$f":"+'A2.Demanda'!C337*365*$K$4*$N$4*R$20*0.5","v":0},{"$f":"+'A2.Demanda'!D337*365*$K$4*$N$4*S$20*0.5","v":0},{"$f":"+'A2.Demanda'!E337*365*$K$4*$N$4*T$20*0.5","v":0},{"$f":"+'A2.Demanda'!F337*365*$K$4*$N$4*U$20*0.5","v":0},{"$f":"+'A2.Demanda'!G337*365*$K$4*$N$4*V$20*0.5","v":0},{"$f":"+'A2.Demanda'!H337*365*$K$4*$N$4*W$20*0.5","v":0},{"$f":"+'A2.Demanda'!I337*365*$K$4*$N$4*X$20*0.5","v":0},{"$f":"+'A2.Demanda'!J337*365*$K$4*$N$4*Y$20*0.5","v":0},{"$f":"+'A2.Demanda'!K337*365*$K$4*$N$4*Z$20*0.5","v":0},{"$f":"+'A2.Demanda'!L337*365*$K$4*$N$4*AA$20*0.5","v":0},{"$f":"+'A2.Demanda'!M337*365*$K$4*$N$4*AB$20*0.5","v":0},{"$f":"+'A2.Demanda'!N337*365*$K$4*$N$4*AC$20*0.5","v":0},{"$f":"+'A2.Demanda'!O337*365*$K$4*$N$4*AD$20*0.5","v":0},{"$f":"+'A2.Demanda'!P337*365*$K$4*$N$4*AE$20*0.5","v":0},0]
["Año 3",{"$f":"'A2.Demanda'!C338*365*$K$4*$N$4*B$20*0.5","v":0},{"$f":"'A2.Demanda'!D338*365*$K$4*$N$4*C$20*0.5","v":0},{"$f":"'A2.Demanda'!E338*365*$K$4*$N$4*D$20*0.5","v":0},{"$f":"'A2.Demanda'!F338*365*$K$4*$N$4*E$20*0.5","v":0},{"$f":"'A2.Demanda'!G338*365*$K$4*$N$4*F$20*0.5","v":0},{"$f":"'A2.Demanda'!H338*365*$K$4*$N$4*G$20*0.5","v":0},{"$f":"'A2.Demanda'!I338*365*$K$4*$N$4*H$20*0.5","v":0},{"$f":"'A2.Demanda'!J338*365*$K$4*$N$4*I$20*0.5","v":0},{"$f":"'A2.Demanda'!K338*365*$K$4*$N$4*J$20*0.5","v":0},{"$f":"'A2.Demanda'!L338*365*$K$4*$N$4*K$20*0.5","v":0},{"$f":"'A2.Demanda'!M338*365*$K$4*$N$4*L$20*0.5","v":0},{"$f":"'A2.Demanda'!N338*365*$K$4*$N$4*M$20*0.5","v":0},{"$f":"'A2.Demanda'!O338*365*$K$4*$N$4*N$20*0.5","v":0},{"$f":"'A2.Demanda'!P338*365*$K$4*$N$4*O$20*0.5","v":0},0,"Año 3",{"$f":"+'A2.Demanda'!C338*365*$K$4*$N$4*R$20*0.5","v":0},{"$f":"+'A2.Demanda'!D338*365*$K$4*$N$4*S$20*0.5","v":0},{"$f":"+'A2.Demanda'!E338*365*$K$4*$N$4*T$20*0.5","v":0},{"$f":"+'A2.Demanda'!F338*365*$K$4*$N$4*U$20*0.5","v":0},{"$f":"+'A2.Demanda'!G338*365*$K$4*$N$4*V$20*0.5","v":0},{"$f":"+'A2.Demanda'!H338*365*$K$4*$N$4*W$20*0.5","v":0},{"$f":"+'A2.Demanda'!I338*365*$K$4*$N$4*X$20*0.5","v":0},{"$f":"+'A2.Demanda'!J338*365*$K$4*$N$4*Y$20*0.5","v":0},{"$f":"+'A2.Demanda'!K338*365*$K$4*$N$4*Z$20*0.5","v":0},{"$f":"+'A2.Demanda'!L338*365*$K$4*$N$4*AA$20*0.5","v":0},{"$f":"+'A2.Demanda'!M338*365*$K$4*$N$4*AB$20*0.5","v":0},{"$f":"+'A2.Demanda'!N338*365*$K$4*$N$4*AC$20*0.5","v":0},{"$f":"+'A2.Demanda'!O338*365*$K$4*$N$4*AD$20*0.5","v":0},{"$f":"+'A2.Demanda'!P338*365*$K$4*$N$4*AE$20*0.5","v":0},0]
["Año 4",{"$f":"'A2.Demanda'!C339*365*$K$4*$N$4*B$20*0.5","v":0},{"$f":"'A2.Demanda'!D339*365*$K$4*$N$4*C$20*0.5","v":0},{"$f":"'A2.Demanda'!E339*365*$K$4*$N$4*D$20*0.5","v":0},{"$f":"'A2.Demanda'!F339*365*$K$4*$N$4*E$20*0.5","v":0},{"$f":"'A2.Demanda'!G339*365*$K$4*$N$4*F$20*0.5","v":0},{"$f":"'A2.Demanda'!H339*365*$K$4*$N$4*G$20*0.5","v":0},{"$f":"'A2.Demanda'!I339*365*$K$4*$N$4*H$20*0.5","v":0},{"$f":"'A2.Demanda'!J339*365*$K$4*$N$4*I$20*0.5","v":0},{"$f":"'A2.Demanda'!K339*365*$K$4*$N$4*J$20*0.5","v":0},{"$f":"'A2.Demanda'!L339*365*$K$4*$N$4*K$20*0.5","v":0},{"$f":"'A2.Demanda'!M339*365*$K$4*$N$4*L$20*0.5","v":0},{"$f":"'A2.Demanda'!N339*365*$K$4*$N$4*M$20*0.5","v":0},{"$f":"'A2.Demanda'!O339*365*$K$4*$N$4*N$20*0.5","v":0},{"$f":"'A2.Demanda'!P339*365*$K$4*$N$4*O$20*0.5","v":0},0,"Año 4",{"$f":"+'A2.Demanda'!C339*365*$K$4*$N$4*R$20*0.5","v":0},{"$f":"+'A2.Demanda'!D339*365*$K$4*$N$4*S$20*0.5","v":0},{"$f":"+'A2.Demanda'!E339*365*$K$4*$N$4*T$20*0.5","v":0},{"$f":"+'A2.Demanda'!F339*365*$K$4*$N$4*U$20*0.5","v":0},{"$f":"+'A2.Demanda'!G339*365*$K$4*$N$4*V$20*0.5","v":0},{"$f":"+'A2.Demanda'!H339*365*$K$4*$N$4*W$20*0.5","v":0},{"$f":"+'A2.Demanda'!I339*365*$K$4*$N$4*X$20*0.5","v":0},{"$f":"+'A2.Demanda'!J339*365*$K$4*$N$4*Y$20*0.5","v":0},{"$f":"+'A2.Demanda'!K339*365*$K$4*$N$4*Z$20*0.5","v":0},{"$f":"+'A2.Demanda'!L339*365*$K$4*$N$4*AA$20*0.5","v":0},{"$f":"+'A2.Demanda'!M339*365*$K$4*$N$4*AB$20*0.5","v":0},{"$f":"+'A2.Demanda'!N339*365*$K$4*$N$4*AC$20*0.5","v":0},{"$f":"+'A2.Demanda'!O339*365*$K$4*$N$4*AD$20*0.5","v":0},{"$f":"+'A2.Demanda'!P339*365*$K$4*$N$4*AE$20*0.5","v":0},0]
["Año 5",{"$f":"'A2.Demanda'!C340*365*$K$4*$N$4*B$20*0.5","v":0},{"$f":"'A2.Demanda'!D340*365*$K$4*$N$4*C$20*0.5","v":0},{"$f":"'A2.Demanda'!E340*365*$K$4*$N$4*D$20*0.5","v":0},{"$f":"'A2.Demanda'!F340*365*$K$4*$N$4*E$20*0.5","v":0},{"$f":"'A2.Demanda'!G340*365*$K$4*$N$4*F$20*0.5","v":0},{"$f":"'A2.Demanda'!H340*365*$K$4*$N$4*G$20*0.5","v":0},{"$f":"'A2.Demanda'!I340*365*$K$4*$N$4*H$20*0.5","v":0},{"$f":"'A2.Demanda'!J340*365*$K$4*$N$4*I$20*0.5","v":0},{"$f":"'A2.Demanda'!K340*365*$K$4*$N$4*J$20*0.5","v":0},{"$f":"'A2.Demanda'!L340*365*$K$4*$N$4*K$20*0.5","v":0},{"$f":"'A2.Demanda'!M340*365*$K$4*$N$4*L$20*0.5","v":0},{"$f":"'A2.Demanda'!N340*365*$K$4*$N$4*M$20*0.5","v":0},{"$f":"'A2.Demanda'!O340*365*$K$4*$N$4*N$20*0.5","v":0},{"$f":"'A2.Demanda'!P340*365*$K$4*$N$4*O$20*0.5","v":0},0,"Año 5",{"$f":"+'A2.Demanda'!C340*365*$K$4*$N$4*R$20*0.5","v":0},{"$f":"+'A2.Demanda'!D340*365*$K$4*$N$4*S$20*0.5","v":0},{"$f":"+'A2.Demanda'!E340*365*$K$4*$N$4*T$20*0.5","v":0},{"$f":"+'A2.Demanda'!F340*365*$K$4*$N$4*U$20*0.5","v":0},{"$f":"+'A2.Demanda'!G340*365*$K$4*$N$4*V$20*0.5","v":0},{"$f":"+'A2.Demanda'!H340*365*$K$4*$N$4*W$20*0.5","v":0},{"$f":"+'A2.Demanda'!I340*365*$K$4*$N$4*X$20*0.5","v":0},{"$f":"+'A2.Demanda'!J340*365*$K$4*$N$4*Y$20*0.5","v":0},{"$f":"+'A2.Demanda'!K340*365*$K$4*$N$4*Z$20*0.5","v":0},{"$f":"+'A2.Demanda'!L340*365*$K$4*$N$4*AA$20*0.5","v":0},{"$f":"+'A2.Demanda'!M340*365*$K$4*$N$4*AB$20*0.5","v":0},{"$f":"+'A2.Demanda'!N340*365*$K$4*$N$4*AC$20*0.5","v":0},{"$f":"+'A2.Demanda'!O340*365*$K$4*$N$4*AD$20*0.5","v":0},{"$f":"+'A2.Demanda'!P340*365*$K$4*$N$4*AE$20*0.5","v":0},0]
["Año 6",{"$f":"'A2.Demanda'!C341*365*$K$4*$N$4*B$20*0.5","v":0},{"$f":"'A2.Demanda'!D341*365*$K$4*$N$4*C$20*0.5","v":0},{"$f":"'A2.Demanda'!E341*365*$K$4*$N$4*D$20*0.5","v":0},{"$f":"'A2.Demanda'!F341*365*$K$4*$N$4*E$20*0.5","v":0},{"$f":"'A2.Demanda'!G341*365*$K$4*$N$4*F$20*0.5","v":0},{"$f":"'A2.Demanda'!H341*365*$K$4*$N$4*G$20*0.5","v":0},{"$f":"'A2.Demanda'!I341*365*$K$4*$N$4*H$20*0.5","v":0},{"$f":"'A2.Demanda'!J341*365*$K$4*$N$4*I$20*0.5","v":0},{"$f":"'A2.Demanda'!K341*365*$K$4*$N$4*J$20*0.5","v":0},{"$f":"'A2.Demanda'!L341*365*$K$4*$N$4*K$20*0.5","v":0},{"$f":"'A2.Demanda'!M341*365*$K$4*$N$4*L$20*0.5","v":0},{"$f":"'A2.Demanda'!N341*365*$K$4*$N$4*M$20*0.5","v":0},{"$f":"'A2.Demanda'!O341*365*$K$4*$N$4*N$20*0.5","v":0},{"$f":"'A2.Demanda'!P341*365*$K$4*$N$4*O$20*0.5","v":0},0,"Año 6",{"$f":"+'A2.Demanda'!C341*365*$K$4*$N$4*R$20*0.5","v":0},{"$f":"+'A2.Demanda'!D341*365*$K$4*$N$4*S$20*0.5","v":0},{"$f":"+'A2.Demanda'!E341*365*$K$4*$N$4*T$20*0.5","v":0},{"$f":"+'A2.Demanda'!F341*365*$K$4*$N$4*U$20*0.5","v":0},{"$f":"+'A2.Demanda'!G341*365*$K$4*$N$4*V$20*0.5","v":0},{"$f":"+'A2.Demanda'!H341*365*$K$4*$N$4*W$20*0.5","v":0},{"$f":"+'A2.Demanda'!I341*365*$K$4*$N$4*X$20*0.5","v":0},{"$f":"+'A2.Demanda'!J341*365*$K$4*$N$4*Y$20*0.5","v":0},{"$f":"+'A2.Demanda'!K341*365*$K$4*$N$4*Z$20*0.5","v":0},{"$f":"+'A2.Demanda'!L341*365*$K$4*$N$4*AA$20*0.5","v":0},{"$f":"+'A2.Demanda'!M341*365*$K$4*$N$4*AB$20*0.5","v":0},{"$f":"+'A2.Demanda'!N341*365*$K$4*$N$4*AC$20*0.5","v":0},{"$f":"+'A2.Demanda'!O341*365*$K$4*$N$4*AD$20*0.5","v":0},{"$f":"+'A2.Demanda'!P341*365*$K$4*$N$4*AE$20*0.5","v":0},0]
["Año 7",{"$f":"'A2.Demanda'!C342*365*$K$4*$N$4*B$20*0.5","v":0},{"$f":"'A2.Demanda'!D342*365*$K$4*$N$4*C$20*0.5","v":0},{"$f":"'A2.Demanda'!E342*365*$K$4*$N$4*D$20*0.5","v":0},{"$f":"'A2.Demanda'!F342*365*$K$4*$N$4*E$20*0.5","v":0},{"$f":"'A2.Demanda'!G342*365*$K$4*$N$4*F$20*0.5","v":0},{"$f":"'A2.Demanda'!H342*365*$K$4*$N$4*G$20*0.5","v":0},{"$f":"'A2.Demanda'!I342*365*$K$4*$N$4*H$20*0.5","v":0},{"$f":"'A2.Demanda'!J342*365*$K$4*$N$4*I$20*0.5","v":0},{"$f":"'A2.Demanda'!K342*365*$K$4*$N$4*J$20*0.5","v":0},{"$f":"'A2.Demanda'!L342*365*$K$4*$N$4*K$20*0.5","v":0},{"$f":"'A2.Demanda'!M342*365*$K$4*$N$4*L$20*0.5","v":0},{"$f":"'A2.Demanda'!N342*365*$K$4*$N$4*M$20*0.5","v":0},{"$f":"'A2.Demanda'!O342*365*$K$4*$N$4*N$20*0.5","v":0},{"$f":"'A2.Demanda'!P342*365*$K$4*$N$4*O$20*0.5","v":0},0,"Año 7",{"$f":"+'A2.Demanda'!C342*365*$K$4*$N$4*R$20*0.5","v":0},{"$f":"+'A2.Demanda'!D342*365*$K$4*$N$4*S$20*0.5","v":0},{"$f":"+'A2.Demanda'!E342*365*$K$4*$N$4*T$20*0.5","v":0},{"$f":"+'A2.Demanda'!F342*365*$K$4*$N$4*U$20*0.5","v":0},{"$f":"+'A2.Demanda'!G342*365*$K$4*$N$4*V$20*0.5","v":0},{"$f":"+'A2.Demanda'!H342*365*$K$4*$N$4*W$20*0.5","v":0},{"$f":"+'A2.Demanda'!I342*365*$K$4*$N$4*X$20*0.5","v":0},{"$f":"+'A2.Demanda'!J342*365*$K$4*$N$4*Y$20*0.5","v":0},{"$f":"+'A2.Demanda'!K342*365*$K$4*$N$4*Z$20*0.5","v":0},{"$f":"+'A2.Demanda'!L342*365*$K$4*$N$4*AA$20*0.5","v":0},{"$f":"+'A2.Demanda'!M342*365*$K$4*$N$4*AB$20*0.5","v":0},{"$f":"+'A2.Demanda'!N342*365*$K$4*$N$4*AC$20*0.5","v":0},{"$f":"+'A2.Demanda'!O342*365*$K$4*$N$4*AD$20*0.5","v":0},{"$f":"+'A2.Demanda'!P342*365*$K$4*$N$4*AE$20*0.5","v":0},0]
["Año 8",{"$f":"'A2.Demanda'!C343*365*$K$4*$N$4*B$20*0.5","v":0},{"$f":"'A2.Demanda'!D343*365*$K$4*$N$4*C$20*0.5","v":0},{"$f":"'A2.Demanda'!E343*365*$K$4*$N$4*D$20*0.5","v":0},{"$f":"'A2.Demanda'!F343*365*$K$4*$N$4*E$20*0.5","v":0},{"$f":"'A2.Demanda'!G343*365*$K$4*$N$4*F$20*0.5","v":0},{"$f":"'A2.Demanda'!H343*365*$K$4*$N$4*G$20*0.5","v":0},{"$f":"'A2.Demanda'!I343*365*$K$4*$N$4*H$20*0.5","v":0},{"$f":"'A2.Demanda'!J343*365*$K$4*$N$4*I$20*0.5","v":0},{"$f":"'A2.Demanda'!K343*365*$K$4*$N$4*J$20*0.5","v":0},{"$f":"'A2.Demanda'!L343*365*$K$4*$N$4*K$20*0.5","v":0},{"$f":"'A2.Demanda'!M343*365*$K$4*$N$4*L$20*0.5","v":0},{"$f":"'A2.Demanda'!N343*365*$K$4*$N$4*M$20*0.5","v":0},{"$f":"'A2.Demanda'!O343*365*$K$4*$N$4*N$20*0.5","v":0},{"$f":"'A2.Demanda'!P343*365*$K$4*$N$4*O$20*0.5","v":0},0,"Año 8",{"$f":"+'A2.Demanda'!C343*365*$K$4*$N$4*R$20*0.5","v":0},{"$f":"+'A2.Demanda'!D343*365*$K$4*$N$4*S$20*0.5","v":0},{"$f":"+'A2.Demanda'!E343*365*$K$4*$N$4*T$20*0.5","v":0},{"$f":"+'A2.Demanda'!F343*365*$K$4*$N$4*U$20*0.5","v":0},{"$f":"+'A2.Demanda'!G343*365*$K$4*$N$4*V$20*0.5","v":0},{"$f":"+'A2.Demanda'!H343*365*$K$4*$N$4*W$20*0.5","v":0},{"$f":"+'A2.Demanda'!I343*365*$K$4*$N$4*X$20*0.5","v":0},{"$f":"+'A2.Demanda'!J343*365*$K$4*$N$4*Y$20*0.5","v":0},{"$f":"+'A2.Demanda'!K343*365*$K$4*$N$4*Z$20*0.5","v":0},{"$f":"+'A2.Demanda'!L343*365*$K$4*$N$4*AA$20*0.5","v":0},{"$f":"+'A2.Demanda'!M343*365*$K$4*$N$4*AB$20*0.5","v":0},{"$f":"+'A2.Demanda'!N343*365*$K$4*$N$4*AC$20*0.5","v":0},{"$f":"+'A2.Demanda'!O343*365*$K$4*$N$4*AD$20*0.5","v":0},{"$f":"+'A2.Demanda'!P343*365*$K$4*$N$4*AE$20*0.5","v":0},0]
["Año 9",{"$f":"'A2.Demanda'!C344*365*$K$4*$N$4*B$20*0.5","v":0},{"$f":"'A2.Demanda'!D344*365*$K$4*$N$4*C$20*0.5","v":0},{"$f":"'A2.Demanda'!E344*365*$K$4*$N$4*D$20*0.5","v":0},{"$f":"'A2.Demanda'!F344*365*$K$4*$N$4*E$20*0.5","v":0},{"$f":"'A2.Demanda'!G344*365*$K$4*$N$4*F$20*0.5","v":0},{"$f":"'A2.Demanda'!H344*365*$K$4*$N$4*G$20*0.5","v":0},{"$f":"'A2.Demanda'!I344*365*$K$4*$N$4*H$20*0.5","v":0},{"$f":"'A2.Demanda'!J344*365*$K$4*$N$4*I$20*0.5","v":0},{"$f":"'A2.Demanda'!K344*365*$K$4*$N$4*J$20*0.5","v":0},{"$f":"'A2.Demanda'!L344*365*$K$4*$N$4*K$20*0.5","v":0},{"$f":"'A2.Demanda'!M344*365*$K$4*$N$4*L$20*0.5","v":0},{"$f":"'A2.Demanda'!N344*365*$K$4*$N$4*M$20*0.5","v":0},{"$f":"'A2.Demanda'!O344*365*$K$4*$N$4*N$20*0.5","v":0},{"$f":"'A2.Demanda'!P344*365*$K$4*$N$4*O$20*0.5","v":0},0,"Año 9",{"$f":"+'A2.Demanda'!C344*365*$K$4*$N$4*R$20*0.5","v":0},{"$f":"+'A2.Demanda'!D344*365*$K$4*$N$4*S$20*0.5","v":0},{"$f":"+'A2.Demanda'!E344*365*$K$4*$N$4*T$20*0.5","v":0},{"$f":"+'A2.Demanda'!F344*365*$K$4*$N$4*U$20*0.5","v":0},{"$f":"+'A2.Demanda'!G344*365*$K$4*$N$4*V$20*0.5","v":0},{"$f":"+'A2.Demanda'!H344*365*$K$4*$N$4*W$20*0.5","v":0},{"$f":"+'A2.Demanda'!I344*365*$K$4*$N$4*X$20*0.5","v":0},{"$f":"+'A2.Demanda'!J344*365*$K$4*$N$4*Y$20*0.5","v":0},{"$f":"+'A2.Demanda'!K344*365*$K$4*$N$4*Z$20*0.5","v":0},{"$f":"+'A2.Demanda'!L344*365*$K$4*$N$4*AA$20*0.5","v":0},{"$f":"+'A2.Demanda'!M344*365*$K$4*$N$4*AB$20*0.5","v":0},{"$f":"+'A2.Demanda'!N344*365*$K$4*$N$4*AC$20*0.5","v":0},{"$f":"+'A2.Demanda'!O344*365*$K$4*$N$4*AD$20*0.5","v":0},{"$f":"+'A2.Demanda'!P344*365*$K$4*$N$4*AE$20*0.5","v":0},0]
["Año 10",{"$f":"'A2.Demanda'!C345*365*$K$4*$N$4*B$20*0.5","v":0},{"$f":"'A2.Demanda'!D345*365*$K$4*$N$4*C$20*0.5","v":0},{"$f":"'A2.Demanda'!E345*365*$K$4*$N$4*D$20*0.5","v":0},{"$f":"'A2.Demanda'!F345*365*$K$4*$N$4*E$20*0.5","v":0},{"$f":"'A2.Demanda'!G345*365*$K$4*$N$4*F$20*0.5","v":0},{"$f":"'A2.Demanda'!H345*365*$K$4*$N$4*G$20*0.5","v":0},{"$f":"'A2.Demanda'!I345*365*$K$4*$N$4*H$20*0.5","v":0},{"$f":"'A2.Demanda'!J345*365*$K$4*$N$4*I$20*0.5","v":0},{"$f":"'A2.Demanda'!K345*365*$K$4*$N$4*J$20*0.5","v":0},{"$f":"'A2.Demanda'!L345*365*$K$4*$N$4*K$20*0.5","v":0},{"$f":"'A2.Demanda'!M345*365*$K$4*$N$4*L$20*0.5","v":0},{"$f":"'A2.Demanda'!N345*365*$K$4*$N$4*M$20*0.5","v":0},{"$f":"'A2.Demanda'!O345*365*$K$4*$N$4*N$20*0.5","v":0},{"$f":"'A2.Demanda'!P345*365*$K$4*$N$4*O$20*0.5","v":0},0,"Año 10",{"$f":"+'A2.Demanda'!C345*365*$K$4*$N$4*R$20*0.5","v":0},{"$f":"+'A2.Demanda'!D345*365*$K$4*$N$4*S$20*0.5","v":0},{"$f":"+'A2.Demanda'!E345*365*$K$4*$N$4*T$20*0.5","v":0},{"$f":"+'A2.Demanda'!F345*365*$K$4*$N$4*U$20*0.5","v":0},{"$f":"+'A2.Demanda'!G345*365*$K$4*$N$4*V$20*0.5","v":0},{"$f":"+'A2.Demanda'!H345*365*$K$4*$N$4*W$20*0.5","v":0},{"$f":"+'A2.Demanda'!I345*365*$K$4*$N$4*X$20*0.5","v":0},{"$f":"+'A2.Demanda'!J345*365*$K$4*$N$4*Y$20*0.5","v":0},{"$f":"+'A2.Demanda'!K345*365*$K$4*$N$4*Z$20*0.5","v":0},{"$f":"+'A2.Demanda'!L345*365*$K$4*$N$4*AA$20*0.5","v":0},{"$f":"+'A2.Demanda'!M345*365*$K$4*$N$4*AB$20*0.5","v":0},{"$f":"+'A2.Demanda'!N345*365*$K$4*$N$4*AC$20*0.5","v":0},{"$f":"+'A2.Demanda'!O345*365*$K$4*$N$4*AD$20*0.5","v":0},{"$f":"+'A2.Demanda'!P345*365*$K$4*$N$4*AE$20*0.5","v":0},0]
["Año 11",{"$f":"'A2.Demanda'!C346*365*$K$4*$N$4*B$20*0.5","v":0},{"$f":"'A2.Demanda'!D346*365*$K$4*$N$4*C$20*0.5","v":0},{"$f":"'A2.Demanda'!E346*365*$K$4*$N$4*D$20*0.5","v":0},{"$f":"'A2.Demanda'!F346*365*$K$4*$N$4*E$20*0.5","v":0},{"$f":"'A2.Demanda'!G346*365*$K$4*$N$4*F$20*0.5","v":0},{"$f":"'A2.Demanda'!H346*365*$K$4*$N$4*G$20*0.5","v":0},{"$f":"'A2.Demanda'!I346*365*$K$4*$N$4*H$20*0.5","v":0},{"$f":"'A2.Demanda'!J346*365*$K$4*$N$4*I$20*0.5","v":0},{"$f":"'A2.Demanda'!K346*365*$K$4*$N$4*J$20*0.5","v":0},{"$f":"'A2.Demanda'!L346*365*$K$4*$N$4*K$20*0.5","v":0},{"$f":"'A2.Demanda'!M346*365*$K$4*$N$4*L$20*0.5","v":0},{"$f":"'A2.Demanda'!N346*365*$K$4*$N$4*M$20*0.5","v":0},{"$f":"'A2.Demanda'!O346*365*$K$4*$N$4*N$20*0.5","v":0},{"$f":"'A2.Demanda'!P346*365*$K$4*$N$4*O$20*0.5","v":0},0,"Año 11",{"$f":"+'A2.Demanda'!C346*365*$K$4*$N$4*R$20*0.5","v":0},{"$f":"+'A2.Demanda'!D346*365*$K$4*$N$4*S$20*0.5","v":0},{"$f":"+'A2.Demanda'!E346*365*$K$4*$N$4*T$20*0.5","v":0},{"$f":"+'A2.Demanda'!F346*365*$K$4*$N$4*U$20*0.5","v":0},{"$f":"+'A2.Demanda'!G346*365*$K$4*$N$4*V$20*0.5","v":0},{"$f":"+'A2.Demanda'!H346*365*$K$4*$N$4*W$20*0.5","v":0},{"$f":"+'A2.Demanda'!I346*365*$K$4*$N$4*X$20*0.5","v":0},{"$f":"+'A2.Demanda'!J346*365*$K$4*$N$4*Y$20*0.5","v":0},{"$f":"+'A2.Demanda'!K346*365*$K$4*$N$4*Z$20*0.5","v":0},{"$f":"+'A2.Demanda'!L346*365*$K$4*$N$4*AA$20*0.5","v":0},{"$f":"+'A2.Demanda'!M346*365*$K$4*$N$4*AB$20*0.5","v":0},{"$f":"+'A2.Demanda'!N346*365*$K$4*$N$4*AC$20*0.5","v":0},{"$f":"+'A2.Demanda'!O346*365*$K$4*$N$4*AD$20*0.5","v":0},{"$f":"+'A2.Demanda'!P346*365*$K$4*$N$4*AE$20*0.5","v":0},0]
["Año 12",{"$f":"'A2.Demanda'!C347*365*$K$4*$N$4*B$20*0.5","v":0},{"$f":"'A2.Demanda'!D347*365*$K$4*$N$4*C$20*0.5","v":0},{"$f":"'A2.Demanda'!E347*365*$K$4*$N$4*D$20*0.5","v":0},{"$f":"'A2.Demanda'!F347*365*$K$4*$N$4*E$20*0.5","v":0},{"$f":"'A2.Demanda'!G347*365*$K$4*$N$4*F$20*0.5","v":0},{"$f":"'A2.Demanda'!H347*365*$K$4*$N$4*G$20*0.5","v":0},{"$f":"'A2.Demanda'!I347*365*$K$4*$N$4*H$20*0.5","v":0},{"$f":"'A2.Demanda'!J347*365*$K$4*$N$4*I$20*0.5","v":0},{"$f":"'A2.Demanda'!K347*365*$K$4*$N$4*J$20*0.5","v":0},{"$f":"'A2.Demanda'!L347*365*$K$4*$N$4*K$20*0.5","v":0},{"$f":"'A2.Demanda'!M347*365*$K$4*$N$4*L$20*0.5","v":0},{"$f":"'A2.Demanda'!N347*365*$K$4*$N$4*M$20*0.5","v":0},{"$f":"'A2.Demanda'!O347*365*$K$4*$N$4*N$20*0.5","v":0},{"$f":"'A2.Demanda'!P347*365*$K$4*$N$4*O$20*0.5","v":0},0,"Año 12",{"$f":"+'A2.Demanda'!C347*365*$K$4*$N$4*R$20*0.5","v":0},{"$f":"+'A2.Demanda'!D347*365*$K$4*$N$4*S$20*0.5","v":0},{"$f":"+'A2.Demanda'!E347*365*$K$4*$N$4*T$20*0.5","v":0},{"$f":"+'A2.Demanda'!F347*365*$K$4*$N$4*U$20*0.5","v":0},{"$f":"+'A2.Demanda'!G347*365*$K$4*$N$4*V$20*0.5","v":0},{"$f":"+'A2.Demanda'!H347*365*$K$4*$N$4*W$20*0.5","v":0},{"$f":"+'A2.Demanda'!I347*365*$K$4*$N$4*X$20*0.5","v":0},{"$f":"+'A2.Demanda'!J347*365*$K$4*$N$4*Y$20*0.5","v":0},{"$f":"+'A2.Demanda'!K347*365*$K$4*$N$4*Z$20*0.5","v":0},{"$f":"+'A2.Demanda'!L347*365*$K$4*$N$4*AA$20*0.5","v":0},{"$f":"+'A2.Demanda'!M347*365*$K$4*$N$4*AB$20*0.5","v":0},{"$f":"+'A2.Demanda'!N347*365*$K$4*$N$4*AC$20*0.5","v":0},{"$f":"+'A2.Demanda'!O347*365*$K$4*$N$4*AD$20*0.5","v":0},{"$f":"+'A2.Demanda'!P347*365*$K$4*$N$4*AE$20*0.5","v":0},0]
["Año 13",{"$f":"'A2.Demanda'!C348*365*$K$4*$N$4*B$20*0.5","v":0},{"$f":"'A2.Demanda'!D348*365*$K$4*$N$4*C$20*0.5","v":0},{"$f":"'A2.Demanda'!E348*365*$K$4*$N$4*D$20*0.5","v":0},{"$f":"'A2.Demanda'!F348*365*$K$4*$N$4*E$20*0.5","v":0},{"$f":"'A2.Demanda'!G348*365*$K$4*$N$4*F$20*0.5","v":0},{"$f":"'A2.Demanda'!H348*365*$K$4*$N$4*G$20*0.5","v":0},{"$f":"'A2.Demanda'!I348*365*$K$4*$N$4*H$20*0.5","v":0},{"$f":"'A2.Demanda'!J348*365*$K$4*$N$4*I$20*0.5","v":0},{"$f":"'A2.Demanda'!K348*365*$K$4*$N$4*J$20*0.5","v":0},{"$f":"'A2.Demanda'!L348*365*$K$4*$N$4*K$20*0.5","v":0},{"$f":"'A2.Demanda'!M348*365*$K$4*$N$4*L$20*0.5","v":0},{"$f":"'A2.Demanda'!N348*365*$K$4*$N$4*M$20*0.5","v":0},{"$f":"'A2.Demanda'!O348*365*$K$4*$N$4*N$20*0.5","v":0},{"$f":"'A2.Demanda'!P348*365*$K$4*$N$4*O$20*0.5","v":0},0,"Año 13",{"$f":"+'A2.Demanda'!C348*365*$K$4*$N$4*R$20*0.5","v":0},{"$f":"+'A2.Demanda'!D348*365*$K$4*$N$4*S$20*0.5","v":0},{"$f":"+'A2.Demanda'!E348*365*$K$4*$N$4*T$20*0.5","v":0},{"$f":"+'A2.Demanda'!F348*365*$K$4*$N$4*U$20*0.5","v":0},{"$f":"+'A2.Demanda'!G348*365*$K$4*$N$4*V$20*0.5","v":0},{"$f":"+'A2.Demanda'!H348*365*$K$4*$N$4*W$20*0.5","v":0},{"$f":"+'A2.Demanda'!I348*365*$K$4*$N$4*X$20*0.5","v":0},{"$f":"+'A2.Demanda'!J348*365*$K$4*$N$4*Y$20*0.5","v":0},{"$f":"+'A2.Demanda'!K348*365*$K$4*$N$4*Z$20*0.5","v":0},{"$f":"+'A2.Demanda'!L348*365*$K$4*$N$4*AA$20*0.5","v":0},{"$f":"+'A2.Demanda'!M348*365*$K$4*$N$4*AB$20*0.5","v":0},{"$f":"+'A2.Demanda'!N348*365*$K$4*$N$4*AC$20*0.5","v":0},{"$f":"+'A2.Demanda'!O348*365*$K$4*$N$4*AD$20*0.5","v":0},{"$f":"+'A2.Demanda'!P348*365*$K$4*$N$4*AE$20*0.5","v":0},0]
["Año 14",{"$f":"'A2.Demanda'!C349*365*$K$4*$N$4*B$20*0.5","v":0},{"$f":"'A2.Demanda'!D349*365*$K$4*$N$4*C$20*0.5","v":0},{"$f":"'A2.Demanda'!E349*365*$K$4*$N$4*D$20*0.5","v":0},{"$f":"'A2.Demanda'!F349*365*$K$4*$N$4*E$20*0.5","v":0},{"$f":"'A2.Demanda'!G349*365*$K$4*$N$4*F$20*0.5","v":0},{"$f":"'A2.Demanda'!H349*365*$K$4*$N$4*G$20*0.5","v":0},{"$f":"'A2.Demanda'!I349*365*$K$4*$N$4*H$20*0.5","v":0},{"$f":"'A2.Demanda'!J349*365*$K$4*$N$4*I$20*0.5","v":0},{"$f":"'A2.Demanda'!K349*365*$K$4*$N$4*J$20*0.5","v":0},{"$f":"'A2.Demanda'!L349*365*$K$4*$N$4*K$20*0.5","v":0},{"$f":"'A2.Demanda'!M349*365*$K$4*$N$4*L$20*0.5","v":0},{"$f":"'A2.Demanda'!N349*365*$K$4*$N$4*M$20*0.5","v":0},{"$f":"'A2.Demanda'!O349*365*$K$4*$N$4*N$20*0.5","v":0},{"$f":"'A2.Demanda'!P349*365*$K$4*$N$4*O$20*0.5","v":0},0,"Año 14",{"$f":"+'A2.Demanda'!C349*365*$K$4*$N$4*R$20*0.5","v":0},{"$f":"+'A2.Demanda'!D349*365*$K$4*$N$4*S$20*0.5","v":0},{"$f":"+'A2.Demanda'!E349*365*$K$4*$N$4*T$20*0.5","v":0},{"$f":"+'A2.Demanda'!F349*365*$K$4*$N$4*U$20*0.5","v":0},{"$f":"+'A2.Demanda'!G349*365*$K$4*$N$4*V$20*0.5","v":0},{"$f":"+'A2.Demanda'!H349*365*$K$4*$N$4*W$20*0.5","v":0},{"$f":"+'A2.Demanda'!I349*365*$K$4*$N$4*X$20*0.5","v":0},{"$f":"+'A2.Demanda'!J349*365*$K$4*$N$4*Y$20*0.5","v":0},{"$f":"+'A2.Demanda'!K349*365*$K$4*$N$4*Z$20*0.5","v":0},{"$f":"+'A2.Demanda'!L349*365*$K$4*$N$4*AA$20*0.5","v":0},{"$f":"+'A2.Demanda'!M349*365*$K$4*$N$4*AB$20*0.5","v":0},{"$f":"+'A2.Demanda'!N349*365*$K$4*$N$4*AC$20*0.5","v":0},{"$f":"+'A2.Demanda'!O349*365*$K$4*$N$4*AD$20*0.5","v":0},{"$f":"+'A2.Demanda'!P349*365*$K$4*$N$4*AE$20*0.5","v":0},0]
["Año 15",{"$f":"'A2.Demanda'!C350*365*$K$4*$N$4*B$20*0.5","v":0},{"$f":"'A2.Demanda'!D350*365*$K$4*$N$4*C$20*0.5","v":0},{"$f":"'A2.Demanda'!E350*365*$K$4*$N$4*D$20*0.5","v":0},{"$f":"'A2.Demanda'!F350*365*$K$4*$N$4*E$20*0.5","v":0},{"$f":"'A2.Demanda'!G350*365*$K$4*$N$4*F$20*0.5","v":0},{"$f":"'A2.Demanda'!H350*365*$K$4*$N$4*G$20*0.5","v":0},{"$f":"'A2.Demanda'!I350*365*$K$4*$N$4*H$20*0.5","v":0},{"$f":"'A2.Demanda'!J350*365*$K$4*$N$4*I$20*0.5","v":0},{"$f":"'A2.Demanda'!K350*365*$K$4*$N$4*J$20*0.5","v":0},{"$f":"'A2.Demanda'!L350*365*$K$4*$N$4*K$20*0.5","v":0},{"$f":"'A2.Demanda'!M350*365*$K$4*$N$4*L$20*0.5","v":0},{"$f":"'A2.Demanda'!N350*365*$K$4*$N$4*M$20*0.5","v":0},{"$f":"'A2.Demanda'!O350*365*$K$4*$N$4*N$20*0.5","v":0},{"$f":"'A2.Demanda'!P350*365*$K$4*$N$4*O$20*0.5","v":0},0,"Año 15",{"$f":"+'A2.Demanda'!C350*365*$K$4*$N$4*R$20*0.5","v":0},{"$f":"+'A2.Demanda'!D350*365*$K$4*$N$4*S$20*0.5","v":0},{"$f":"+'A2.Demanda'!E350*365*$K$4*$N$4*T$20*0.5","v":0},{"$f":"+'A2.Demanda'!F350*365*$K$4*$N$4*U$20*0.5","v":0},{"$f":"+'A2.Demanda'!G350*365*$K$4*$N$4*V$20*0.5","v":0},{"$f":"+'A2.Demanda'!H350*365*$K$4*$N$4*W$20*0.5","v":0},{"$f":"+'A2.Demanda'!I350*365*$K$4*$N$4*X$20*0.5","v":0},{"$f":"+'A2.Demanda'!J350*365*$K$4*$N$4*Y$20*0.5","v":0},{"$f":"+'A2.Demanda'!K350*365*$K$4*$N$4*Z$20*0.5","v":0},{"$f":"+'A2.Demanda'!L350*365*$K$4*$N$4*AA$20*0.5","v":0},{"$f":"+'A2.Demanda'!M350*365*$K$4*$N$4*AB$20*0.5","v":0},{"$f":"+'A2.Demanda'!N350*365*$K$4*$N$4*AC$20*0.5","v":0},{"$f":"+'A2.Demanda'!O350*365*$K$4*$N$4*AD$20*0.5","v":0},{"$f":"+'A2.Demanda'!P350*365*$K$4*$N$4*AE$20*0.5","v":0},0]
["Año 16",{"$f":"'A2.Demanda'!C351*365*$K$4*$N$4*B$20*0.5","v":0},{"$f":"'A2.Demanda'!D351*365*$K$4*$N$4*C$20*0.5","v":0},{"$f":"'A2.Demanda'!E351*365*$K$4*$N$4*D$20*0.5","v":0},{"$f":"'A2.Demanda'!F351*365*$K$4*$N$4*E$20*0.5","v":0},{"$f":"'A2.Demanda'!G351*365*$K$4*$N$4*F$20*0.5","v":0},{"$f":"'A2.Demanda'!H351*365*$K$4*$N$4*G$20*0.5","v":0},{"$f":"'A2.Demanda'!I351*365*$K$4*$N$4*H$20*0.5","v":0},{"$f":"'A2.Demanda'!J351*365*$K$4*$N$4*I$20*0.5","v":0},{"$f":"'A2.Demanda'!K351*365*$K$4*$N$4*J$20*0.5","v":0},{"$f":"'A2.Demanda'!L351*365*$K$4*$N$4*K$20*0.5","v":0},{"$f":"'A2.Demanda'!M351*365*$K$4*$N$4*L$20*0.5","v":0},{"$f":"'A2.Demanda'!N351*365*$K$4*$N$4*M$20*0.5","v":0},{"$f":"'A2.Demanda'!O351*365*$K$4*$N$4*N$20*0.5","v":0},{"$f":"'A2.Demanda'!P351*365*$K$4*$N$4*O$20*0.5","v":0},0,"Año 16",{"$f":"+'A2.Demanda'!C351*365*$K$4*$N$4*R$20*0.5","v":0},{"$f":"+'A2.Demanda'!D351*365*$K$4*$N$4*S$20*0.5","v":0},{"$f":"+'A2.Demanda'!E351*365*$K$4*$N$4*T$20*0.5","v":0},{"$f":"+'A2.Demanda'!F351*365*$K$4*$N$4*U$20*0.5","v":0},{"$f":"+'A2.Demanda'!G351*365*$K$4*$N$4*V$20*0.5","v":0},{"$f":"+'A2.Demanda'!H351*365*$K$4*$N$4*W$20*0.5","v":0},{"$f":"+'A2.Demanda'!I351*365*$K$4*$N$4*X$20*0.5","v":0},{"$f":"+'A2.Demanda'!J351*365*$K$4*$N$4*Y$20*0.5","v":0},{"$f":"+'A2.Demanda'!K351*365*$K$4*$N$4*Z$20*0.5","v":0},{"$f":"+'A2.Demanda'!L351*365*$K$4*$N$4*AA$20*0.5","v":0},{"$f":"+'A2.Demanda'!M351*365*$K$4*$N$4*AB$20*0.5","v":0},{"$f":"+'A2.Demanda'!N351*365*$K$4*$N$4*AC$20*0.5","v":0},{"$f":"+'A2.Demanda'!O351*365*$K$4*$N$4*AD$20*0.5","v":0},{"$f":"+'A2.Demanda'!P351*365*$K$4*$N$4*AE$20*0.5","v":0},0]
["Año 17",{"$f":"'A2.Demanda'!C352*365*$K$4*$N$4*B$20*0.5","v":0},{"$f":"'A2.Demanda'!D352*365*$K$4*$N$4*C$20*0.5","v":0},{"$f":"'A2.Demanda'!E352*365*$K$4*$N$4*D$20*0.5","v":0},{"$f":"'A2.Demanda'!F352*365*$K$4*$N$4*E$20*0.5","v":0},{"$f":"'A2.Demanda'!G352*365*$K$4*$N$4*F$20*0.5","v":0},{"$f":"'A2.Demanda'!H352*365*$K$4*$N$4*G$20*0.5","v":0},{"$f":"'A2.Demanda'!I352*365*$K$4*$N$4*H$20*0.5","v":0},{"$f":"'A2.Demanda'!J352*365*$K$4*$N$4*I$20*0.5","v":0},{"$f":"'A2.Demanda'!K352*365*$K$4*$N$4*J$20*0.5","v":0},{"$f":"'A2.Demanda'!L352*365*$K$4*$N$4*K$20*0.5","v":0},{"$f":"'A2.Demanda'!M352*365*$K$4*$N$4*L$20*0.5","v":0},{"$f":"'A2.Demanda'!N352*365*$K$4*$N$4*M$20*0.5","v":0},{"$f":"'A2.Demanda'!O352*365*$K$4*$N$4*N$20*0.5","v":0},{"$f":"'A2.Demanda'!P352*365*$K$4*$N$4*O$20*0.5","v":0},0,"Año 17",{"$f":"+'A2.Demanda'!C352*365*$K$4*$N$4*R$20*0.5","v":0},{"$f":"+'A2.Demanda'!D352*365*$K$4*$N$4*S$20*0.5","v":0},{"$f":"+'A2.Demanda'!E352*365*$K$4*$N$4*T$20*0.5","v":0},{"$f":"+'A2.Demanda'!F352*365*$K$4*$N$4*U$20*0.5","v":0},{"$f":"+'A2.Demanda'!G352*365*$K$4*$N$4*V$20*0.5","v":0},{"$f":"+'A2.Demanda'!H352*365*$K$4*$N$4*W$20*0.5","v":0},{"$f":"+'A2.Demanda'!I352*365*$K$4*$N$4*X$20*0.5","v":0},{"$f":"+'A2.Demanda'!J352*365*$K$4*$N$4*Y$20*0.5","v":0},{"$f":"+'A2.Demanda'!K352*365*$K$4*$N$4*Z$20*0.5","v":0},{"$f":"+'A2.Demanda'!L352*365*$K$4*$N$4*AA$20*0.5","v":0},{"$f":"+'A2.Demanda'!M352*365*$K$4*$N$4*AB$20*0.5","v":0},{"$f":"+'A2.Demanda'!N352*365*$K$4*$N$4*AC$20*0.5","v":0},{"$f":"+'A2.Demanda'!O352*365*$K$4*$N$4*AD$20*0.5","v":0},{"$f":"+'A2.Demanda'!P352*365*$K$4*$N$4*AE$20*0.5","v":0},0]
["Año 18",{"$f":"'A2.Demanda'!C353*365*$K$4*$N$4*B$20*0.5","v":0},{"$f":"'A2.Demanda'!D353*365*$K$4*$N$4*C$20*0.5","v":0},{"$f":"'A2.Demanda'!E353*365*$K$4*$N$4*D$20*0.5","v":0},{"$f":"'A2.Demanda'!F353*365*$K$4*$N$4*E$20*0.5","v":0},{"$f":"'A2.Demanda'!G353*365*$K$4*$N$4*F$20*0.5","v":0},{"$f":"'A2.Demanda'!H353*365*$K$4*$N$4*G$20*0.5","v":0},{"$f":"'A2.Demanda'!I353*365*$K$4*$N$4*H$20*0.5","v":0},{"$f":"'A2.Demanda'!J353*365*$K$4*$N$4*I$20*0.5","v":0},{"$f":"'A2.Demanda'!K353*365*$K$4*$N$4*J$20*0.5","v":0},{"$f":"'A2.Demanda'!L353*365*$K$4*$N$4*K$20*0.5","v":0},{"$f":"'A2.Demanda'!M353*365*$K$4*$N$4*L$20*0.5","v":0},{"$f":"'A2.Demanda'!N353*365*$K$4*$N$4*M$20*0.5","v":0},{"$f":"'A2.Demanda'!O353*365*$K$4*$N$4*N$20*0.5","v":0},{"$f":"'A2.Demanda'!P353*365*$K$4*$N$4*O$20*0.5","v":0},0,"Año 18",{"$f":"+'A2.Demanda'!C353*365*$K$4*$N$4*R$20*0.5","v":0},{"$f":"+'A2.Demanda'!D353*365*$K$4*$N$4*S$20*0.5","v":0},{"$f":"+'A2.Demanda'!E353*365*$K$4*$N$4*T$20*0.5","v":0},{"$f":"+'A2.Demanda'!F353*365*$K$4*$N$4*U$20*0.5","v":0},{"$f":"+'A2.Demanda'!G353*365*$K$4*$N$4*V$20*0.5","v":0},{"$f":"+'A2.Demanda'!H353*365*$K$4*$N$4*W$20*0.5","v":0},{"$f":"+'A2.Demanda'!I353*365*$K$4*$N$4*X$20*0.5","v":0},{"$f":"+'A2.Demanda'!J353*365*$K$4*$N$4*Y$20*0.5","v":0},{"$f":"+'A2.Demanda'!K353*365*$K$4*$N$4*Z$20*0.5","v":0},{"$f":"+'A2.Demanda'!L353*365*$K$4*$N$4*AA$20*0.5","v":0},{"$f":"+'A2.Demanda'!M353*365*$K$4*$N$4*AB$20*0.5","v":0},{"$f":"+'A2.Demanda'!N353*365*$K$4*$N$4*AC$20*0.5","v":0},{"$f":"+'A2.Demanda'!O353*365*$K$4*$N$4*AD$20*0.5","v":0},{"$f":"+'A2.Demanda'!P353*365*$K$4*$N$4*AE$20*0.5","v":0},0]
["Año 19",{"$f":"'A2.Demanda'!C354*365*$K$4*$N$4*B$20*0.5","v":0},{"$f":"'A2.Demanda'!D354*365*$K$4*$N$4*C$20*0.5","v":0},{"$f":"'A2.Demanda'!E354*365*$K$4*$N$4*D$20*0.5","v":0},{"$f":"'A2.Demanda'!F354*365*$K$4*$N$4*E$20*0.5","v":0},{"$f":"'A2.Demanda'!G354*365*$K$4*$N$4*F$20*0.5","v":0},{"$f":"'A2.Demanda'!H354*365*$K$4*$N$4*G$20*0.5","v":0},{"$f":"'A2.Demanda'!I354*365*$K$4*$N$4*H$20*0.5","v":0},{"$f":"'A2.Demanda'!J354*365*$K$4*$N$4*I$20*0.5","v":0},{"$f":"'A2.Demanda'!K354*365*$K$4*$N$4*J$20*0.5","v":0},{"$f":"'A2.Demanda'!L354*365*$K$4*$N$4*K$20*0.5","v":0},{"$f":"'A2.Demanda'!M354*365*$K$4*$N$4*L$20*0.5","v":0},{"$f":"'A2.Demanda'!N354*365*$K$4*$N$4*M$20*0.5","v":0},{"$f":"'A2.Demanda'!O354*365*$K$4*$N$4*N$20*0.5","v":0},{"$f":"'A2.Demanda'!P354*365*$K$4*$N$4*O$20*0.5","v":0},0,"Año 19",{"$f":"+'A2.Demanda'!C354*365*$K$4*$N$4*R$20*0.5","v":0},{"$f":"+'A2.Demanda'!D354*365*$K$4*$N$4*S$20*0.5","v":0},{"$f":"+'A2.Demanda'!E354*365*$K$4*$N$4*T$20*0.5","v":0},{"$f":"+'A2.Demanda'!F354*365*$K$4*$N$4*U$20*0.5","v":0},{"$f":"+'A2.Demanda'!G354*365*$K$4*$N$4*V$20*0.5","v":0},{"$f":"+'A2.Demanda'!H354*365*$K$4*$N$4*W$20*0.5","v":0},{"$f":"+'A2.Demanda'!I354*365*$K$4*$N$4*X$20*0.5","v":0},{"$f":"+'A2.Demanda'!J354*365*$K$4*$N$4*Y$20*0.5","v":0},{"$f":"+'A2.Demanda'!K354*365*$K$4*$N$4*Z$20*0.5","v":0},{"$f":"+'A2.Demanda'!L354*365*$K$4*$N$4*AA$20*0.5","v":0},{"$f":"+'A2.Demanda'!M354*365*$K$4*$N$4*AB$20*0.5","v":0},{"$f":"+'A2.Demanda'!N354*365*$K$4*$N$4*AC$20*0.5","v":0},{"$f":"+'A2.Demanda'!O354*365*$K$4*$N$4*AD$20*0.5","v":0},{"$f":"+'A2.Demanda'!P354*365*$K$4*$N$4*AE$20*0.5","v":0},0]
["Año 20",{"$f":"'A2.Demanda'!C355*365*$K$4*$N$4*B$20*0.5","v":0},{"$f":"'A2.Demanda'!D355*365*$K$4*$N$4*C$20*0.5","v":0},{"$f":"'A2.Demanda'!E355*365*$K$4*$N$4*D$20*0.5","v":0},{"$f":"'A2.Demanda'!F355*365*$K$4*$N$4*E$20*0.5","v":0},{"$f":"'A2.Demanda'!G355*365*$K$4*$N$4*F$20*0.5","v":0},{"$f":"'A2.Demanda'!H355*365*$K$4*$N$4*G$20*0.5","v":0},{"$f":"'A2.Demanda'!I355*365*$K$4*$N$4*H$20*0.5","v":0},{"$f":"'A2.Demanda'!J355*365*$K$4*$N$4*I$20*0.5","v":0},{"$f":"'A2.Demanda'!K355*365*$K$4*$N$4*J$20*0.5","v":0},{"$f":"'A2.Demanda'!L355*365*$K$4*$N$4*K$20*0.5","v":0},{"$f":"'A2.Demanda'!M355*365*$K$4*$N$4*L$20*0.5","v":0},{"$f":"'A2.Demanda'!N355*365*$K$4*$N$4*M$20*0.5","v":0},{"$f":"'A2.Demanda'!O355*365*$K$4*$N$4*N$20*0.5","v":0},{"$f":"'A2.Demanda'!P355*365*$K$4*$N$4*O$20*0.5","v":0},0,"Año 20",{"$f":"+'A2.Demanda'!C355*365*$K$4*$N$4*R$20*0.5","v":0},{"$f":"+'A2.Demanda'!D355*365*$K$4*$N$4*S$20*0.5","v":0},{"$f":"+'A2.Demanda'!E355*365*$K$4*$N$4*T$20*0.5","v":0},{"$f":"+'A2.Demanda'!F355*365*$K$4*$N$4*U$20*0.5","v":0},{"$f":"+'A2.Demanda'!G355*365*$K$4*$N$4*V$20*0.5","v":0},{"$f":"+'A2.Demanda'!H355*365*$K$4*$N$4*W$20*0.5","v":0},{"$f":"+'A2.Demanda'!I355*365*$K$4*$N$4*X$20*0.5","v":0},{"$f":"+'A2.Demanda'!J355*365*$K$4*$N$4*Y$20*0.5","v":0},{"$f":"+'A2.Demanda'!K355*365*$K$4*$N$4*Z$20*0.5","v":0},{"$f":"+'A2.Demanda'!L355*365*$K$4*$N$4*AA$20*0.5","v":0},{"$f":"+'A2.Demanda'!M355*365*$K$4*$N$4*AB$20*0.5","v":0},{"$f":"+'A2.Demanda'!N355*365*$K$4*$N$4*AC$20*0.5","v":0},{"$f":"+'A2.Demanda'!O355*365*$K$4*$N$4*AD$20*0.5","v":0},{"$f":"+'A2.Demanda'!P355*365*$K$4*$N$4*AE$20*0.5","v":0},0]
["Beneficios",{"$f":"SUM(B50:B69)","v":0},{"$f":"SUM(C50:C69)","v":0},0,0,0,0,0,0,0,0,0,0,0,0,{"$f":"SUM(B70:O70)","v":0},"Beneficios",{"$f":"SUM(R50:R69)","v":0},{"$f":"SUM(S50:S69)","v":0},0,0,0,0,0,0,0,0,0,0,0,0,{"$f":"SUM(R70:AE70)","v":0}]
[]
["Tráfico Desviado",null,null,null,null,null,null,null,null,null,null,null,null,null,null,null,"Tráfico Desviado"]
["Año 1",{"$f":"'A2.Demanda'!C378*365*$K$13*$N$4*B$20","v":0},{"$f":"'A2.Demanda'!D378*365*$K$13*$N$4*C$20","v":0},{"$f":"'A2.Demanda'!E378*365*$K$13*$N$4*D$20","v":0},{"$f":"'A2.Demanda'!F378*365*$K$13*$N$4*E$20","v":0},{"$f":"'A2.Demanda'!G378*365*$K$13*$N$4*F$20","v":0},{"$f":"'A2.Demanda'!H378*365*$K$13*$N$4*G$20","v":0},{"$f":"'A2.Demanda'!I378*365*$K$13*$N$4*H$20","v":0},{"$f":"'A2.Demanda'!J378*365*$K$13*$N$4*I$20","v":0},{"$f":"'A2.Demanda'!K378*365*$K$13*$N$4*J$20","v":0},{"$f":"'A2.Demanda'!L378*365*$K$13*$N$4*K$20","v":0},{"$f":"'A2.Demanda'!M378*365*$K$13*$N$4*L$20","v":0},{"$f":"'A2.Demanda'!N378*365*$K$13*$N$4*M$20","v":0},{"$f":"'A2.Demanda'!O378*365*$K$13*$N$4*N$20","v":0},{"$f":"'A2.Demanda'!P378*365*$K$13*$N$4*O$20","v":0},{"$f":"SUM(B73:O73)","v":0},"Año 1",{"$f":"+'A2.Demanda'!C378*365*$K$4*$N$4*R$20","v":0},{"$f":"+'A2.Demanda'!D378*365*$K$4*$N$4*S$20","v":0},{"$f":"+'A2.Demanda'!E378*365*$K$4*$N$4*T$20","v":0},{"$f":"+'A2.Demanda'!F378*365*$K$4*$N$4*U$20","v":0},{"$f":"+'A2.Demanda'!G378*365*$K$4*$N$4*V$20","v":0},{"$f":"+'A2.Demanda'!H378*365*$K$4*$N$4*W$20","v":0},{"$f":"+'A2.Demanda'!I378*365*$K$4*$N$4*X$20","v":0},{"$f":"+'A2.Demanda'!J378*365*$K$4*$N$4*Y$20","v":0},{"$f":"+'A2.Demanda'!K378*365*$K$4*$N$4*Z$20","v":0},{"$f":"+'A2.Demanda'!L378*365*$K$4*$N$4*AA$20","v":0},{"$f":"+'A2.Demanda'!M378*365*$K$4*$N$4*AB$20","v":0},{"$f":"+'A2.Demanda'!N378*365*$K$4*$N$4*AC$20","v":0},{"$f":"+'A2.Demanda'!O378*365*$K$4*$N$4*AD$20","v":0},{"$f":"+'A2.Demanda'!P378*365*$K$4*$N$4*AE$20","v":0},{"$f":"SUM(R73:AE73)","v":0}]
["Año 2",{"$f":"'A2.Demanda'!C379*365*$K$13*$N$4*B$20","v":0},{"$f":"'A2.Demanda'!D379*365*$K$13*$N$4*C$20","v":0},{"$f":"'A2.Demanda'!E379*365*$K$13*$N$4*D$20","v":0},{"$f":"'A2.Demanda'!F379*365*$K$13*$N$4*E$20","v":0},{"$f":"'A2.Demanda'!G379*365*$K$13*$N$4*F$20","v":0},{"$f":"'A2.Demanda'!H379*365*$K$13*$N$4*G$20","v":0},{"$f":"'A2.Demanda'!I379*365*$K$13*$N$4*H$20","v":0},{"$f":"'A2.Demanda'!J379*365*$K$13*$N$4*I$20","v":0},{"$f":"'A2.Demanda'!K379*365*$K$13*$N$4*J$20","v":0},{"$f":"'A2.Demanda'!L379*365*$K$13*$N$4*K$20","v":0},{"$f":"'A2.Demanda'!M379*365*$K$13*$N$4*L$20","v":0},{"$f":"'A2.Demanda'!N379*365*$K$13*$N$4*M$20","v":0},{"$f":"'A2.Demanda'!O379*365*$K$13*$N$4*N$20","v":0},{"$f":"'A2.Demanda'!P379*365*$K$13*$N$4*O$20","v":0},0,"Año 2",{"$f":"+'A2.Demanda'!C379*365*$K$4*$N$4*R$20","v":0},{"$f":"+'A2.Demanda'!D379*365*$K$4*$N$4*S$20","v":0},{"$f":"+'A2.Demanda'!E379*365*$K$4*$N$4*T$20","v":0},{"$f":"+'A2.Demanda'!F379*365*$K$4*$N$4*U$20","v":0},{"$f":"+'A2.Demanda'!G379*365*$K$4*$N$4*V$20","v":0},{"$f":"+'A2.Demanda'!H379*365*$K$4*$N$4*W$20","v":0},{"$f":"+'A2.Demanda'!I379*365*$K$4*$N$4*X$20","v":0},{"$f":"+'A2.Demanda'!J379*365*$K$4*$N$4*Y$20","v":0},{"$f":"+'A2.Demanda'!K379*365*$K$4*$N$4*Z$20","v":0},{"$f":"+'A2.Demanda'!L379*365*$K$4*$N$4*AA$20","v":0},{"$f":"+'A2.Demanda'!M379*365*$K$4*$N$4*AB$20","v":0},{"$f":"+'A2.Demanda'!N379*365*$K$4*$N$4*AC$20","v":0},{"$f":"+'A2.Demanda'!O379*365*$K$4*$N$4*AD$20","v":0},{"$f":"+'A2.Demanda'!P379*365*$K$4*$N$4*AE$20","v":0},0]
["Año 3",{"$f":"'A2.Demanda'!C380*365*$K$13*$N$4*B$20","v":0},{"$f":"'A2.Demanda'!D380*365*$K$13*$N$4*C$20","v":0},{"$f":"'A2.Demanda'!E380*365*$K$13*$N$4*D$20","v":0},{"$f":"'A2.Demanda'!F380*365*$K$13*$N$4*E$20","v":0},{"$f":"'A2.Demanda'!G380*365*$K$13*$N$4*F$20","v":0},{"$f":"'A2.Demanda'!H380*365*$K$13*$N$4*G$20","v":0},{"$f":"'A2.Demanda'!I380*365*$K$13*$N$4*H$20","v":0},{"$f":"'A2.Demanda'!J380*365*$K$13*$N$4*I$20","v":0},{"$f":"'A2.Demanda'!K380*365*$K$13*$N$4*J$20","v":0},{"$f":"'A2.Demanda'!L380*365*$K$13*$N$4*K$20","v":0},{"$f":"'A2.Demanda'!M380*365*$K$13*$N$4*L$20","v":0},{"$f":"'A2.Demanda'!N380*365*$K$13*$N$4*M$20","v":0},{"$f":"'A2.Demanda'!O380*365*$K$13*$N$4*N$20","v":0},{"$f":"'A2.Demanda'!P380*365*$K$13*$N$4*O$20","v":0},0,"Año 3",{"$f":"+'A2.Demanda'!C380*365*$K$4*$N$4*R$20","v":0},{"$f":"+'A2.Demanda'!D380*365*$K$4*$N$4*S$20","v":0},{"$f":"+'A2.Demanda'!E380*365*$K$4*$N$4*T$20","v":0},{"$f":"+'A2.Demanda'!F380*365*$K$4*$N$4*U$20","v":0},{"$f":"+'A2.Demanda'!G380*365*$K$4*$N$4*V$20","v":0},{"$f":"+'A2.Demanda'!H380*365*$K$4*$N$4*W$20","v":0},{"$f":"+'A2.Demanda'!I380*365*$K$4*$N$4*X$20","v":0},{"$f":"+'A2.Demanda'!J380*365*$K$4*$N$4*Y$20","v":0},{"$f":"+'A2.Demanda'!K380*365*$K$4*$N$4*Z$20","v":0},{"$f":"+'A2.Demanda'!L380*365*$K$4*$N$4*AA$20","v":0},{"$f":"+'A2.Demanda'!M380*365*$K$4*$N$4*AB$20","v":0},{"$f":"+'A2.Demanda'!N380*365*$K$4*$N$4*AC$20","v":0},{"$f":"+'A2.Demanda'!O380*365*$K$4*$N$4*AD$20","v":0},{"$f":"+'A2.Demanda'!P380*365*$K$4*$N$4*AE$20","v":0},0]
["Año 4",{"$f":"'A2.Demanda'!C381*365*$K$13*$N$4*B$20","v":0},{"$f":"'A2.Demanda'!D381*365*$K$13*$N$4*C$20","v":0},{"$f":"'A2.Demanda'!E381*365*$K$13*$N$4*D$20","v":0},{"$f":"'A2.Demanda'!F381*365*$K$13*$N$4*E$20","v":0},{"$f":"'A2.Demanda'!G381*365*$K$13*$N$4*F$20","v":0},{"$f":"'A2.Demanda'!H381*365*$K$13*$N$4*G$20","v":0},{"$f":"'A2.Demanda'!I381*365*$K$13*$N$4*H$20","v":0},{"$f":"'A2.Demanda'!J381*365*$K$13*$N$4*I$20","v":0},{"$f":"'A2.Demanda'!K381*365*$K$13*$N$4*J$20","v":0},{"$f":"'A2.Demanda'!L381*365*$K$13*$N$4*K$20","v":0},{"$f":"'A2.Demanda'!M381*365*$K$13*$N$4*L$20","v":0},{"$f":"'A2.Demanda'!N381*365*$K$13*$N$4*M$20","v":0},{"$f":"'A2.Demanda'!O381*365*$K$13*$N$4*N$20","v":0},{"$f":"'A2.Demanda'!P381*365*$K$13*$N$4*O$20","v":0},0,"Año 4",{"$f":"+'A2.Demanda'!C381*365*$K$4*$N$4*R$20","v":0},{"$f":"+'A2.Demanda'!D381*365*$K$4*$N$4*S$20","v":0},{"$f":"+'A2.Demanda'!E381*365*$K$4*$N$4*T$20","v":0},{"$f":"+'A2.Demanda'!F381*365*$K$4*$N$4*U$20","v":0},{"$f":"+'A2.Demanda'!G381*365*$K$4*$N$4*V$20","v":0},{"$f":"+'A2.Demanda'!H381*365*$K$4*$N$4*W$20","v":0},{"$f":"+'A2.Demanda'!I381*365*$K$4*$N$4*X$20","v":0},{"$f":"+'A2.Demanda'!J381*365*$K$4*$N$4*Y$20","v":0},{"$f":"+'A2.Demanda'!K381*365*$K$4*$N$4*Z$20","v":0},{"$f":"+'A2.Demanda'!L381*365*$K$4*$N$4*AA$20","v":0},{"$f":"+'A2.Demanda'!M381*365*$K$4*$N$4*AB$20","v":0},{"$f":"+'A2.Demanda'!N381*365*$K$4*$N$4*AC$20","v":0},{"$f":"+'A2.Demanda'!O381*365*$K$4*$N$4*AD$20","v":0},{"$f":"+'A2.Demanda'!P381*365*$K$4*$N$4*AE$20","v":0},0]
["Año 5",{"$f":"'A2.Demanda'!C382*365*$K$13*$N$4*B$20","v":0},{"$f":"'A2.Demanda'!D382*365*$K$13*$N$4*C$20","v":0},{"$f":"'A2.Demanda'!E382*365*$K$13*$N$4*D$20","v":0},{"$f":"'A2.Demanda'!F382*365*$K$13*$N$4*E$20","v":0},{"$f":"'A2.Demanda'!G382*365*$K$13*$N$4*F$20","v":0},{"$f":"'A2.Demanda'!H382*365*$K$13*$N$4*G$20","v":0},{"$f":"'A2.Demanda'!I382*365*$K$13*$N$4*H$20","v":0},{"$f":"'A2.Demanda'!J382*365*$K$13*$N$4*I$20","v":0},{"$f":"'A2.Demanda'!K382*365*$K$13*$N$4*J$20","v":0},{"$f":"'A2.Demanda'!L382*365*$K$13*$N$4*K$20","v":0},{"$f":"'A2.Demanda'!M382*365*$K$13*$N$4*L$20","v":0},{"$f":"'A2.Demanda'!N382*365*$K$13*$N$4*M$20","v":0},{"$f":"'A2.Demanda'!O382*365*$K$13*$N$4*N$20","v":0},{"$f":"'A2.Demanda'!P382*365*$K$13*$N$4*O$20","v":0},0,"Año 5",{"$f":"+'A2.Demanda'!C382*365*$K$4*$N$4*R$20","v":0},{"$f":"+'A2.Demanda'!D382*365*$K$4*$N$4*S$20","v":0},{"$f":"+'A2.Demanda'!E382*365*$K$4*$N$4*T$20","v":0},{"$f":"+'A2.Demanda'!F382*365*$K$4*$N$4*U$20","v":0},{"$f":"+'A2.Demanda'!G382*365*$K$4*$N$4*V$20","v":0},{"$f":"+'A2.Demanda'!H382*365*$K$4*$N$4*W$20","v":0},{"$f":"+'A2.Demanda'!I382*365*$K$4*$N$4*X$20","v":0},{"$f":"+'A2.Demanda'!J382*365*$K$4*$N$4*Y$20","v":0},{"$f":"+'A2.Demanda'!K382*365*$K$4*$N$4*Z$20","v":0},{"$f":"+'A2.Demanda'!L382*365*$K$4*$N$4*AA$20","v":0},{"$f":"+'A2.Demanda'!M382*365*$K$4*$N$4*AB$20","v":0},{"$f":"+'A2.Demanda'!N382*365*$K$4*$N$4*AC$20","v":0},{"$f":"+'A2.Demanda'!O382*365*$K$4*$N$4*AD$20","v":0},{"$f":"+'A2.Demanda'!P382*365*$K$4*$N$4*AE$20","v":0},0]
["Año 6",{"$f":"'A2.Demanda'!C383*365*$K$13*$N$4*B$20","v":0},{"$f":"'A2.Demanda'!D383*365*$K$13*$N$4*C$20","v":0},{"$f":"'A2.Demanda'!E383*365*$K$13*$N$4*D$20","v":0},{"$f":"'A2.Demanda'!F383*365*$K$13*$N$4*E$20","v":0},{"$f":"'A2.Demanda'!G383*365*$K$13*$N$4*F$20","v":0},{"$f":"'A2.Demanda'!H383*365*$K$13*$N$4*G$20","v":0},{"$f":"'A2.Demanda'!I383*365*$K$13*$N$4*H$20","v":0},{"$f":"'A2.Demanda'!J383*365*$K$13*$N$4*I$20","v":0},{"$f":"'A2.Demanda'!K383*365*$K$13*$N$4*J$20","v":0},{"$f":"'A2.Demanda'!L383*365*$K$13*$N$4*K$20","v":0},{"$f":"'A2.Demanda'!M383*365*$K$13*$N$4*L$20","v":0},{"$f":"'A2.Demanda'!N383*365*$K$13*$N$4*M$20","v":0},{"$f":"'A2.Demanda'!O383*365*$K$13*$N$4*N$20","v":0},{"$f":"'A2.Demanda'!P383*365*$K$13*$N$4*O$20","v":0},0,"Año 6",{"$f":"+'A2.Demanda'!C383*365*$K$4*$N$4*R$20","v":0},{"$f":"+'A2.Demanda'!D383*365*$K$4*$N$4*S$20","v":0},{"$f":"+'A2.Demanda'!E383*365*$K$4*$N$4*T$20","v":0},{"$f":"+'A2.Demanda'!F383*365*$K$4*$N$4*U$20","v":0},{"$f":"+'A2.Demanda'!G383*365*$K$4*$N$4*V$20","v":0},{"$f":"+'A2.Demanda'!H383*365*$K$4*$N$4*W$20","v":0},{"$f":"+'A2.Demanda'!I383*365*$K$4*$N$4*X$20","v":0},{"$f":"+'A2.Demanda'!J383*365*$K$4*$N$4*Y$20","v":0},{"$f":"+'A2.Demanda'!K383*365*$K$4*$N$4*Z$20","v":0},{"$f":"+'A2.Demanda'!L383*365*$K$4*$N$4*AA$20","v":0},{"$f":"+'A2.Demanda'!M383*365*$K$4*$N$4*AB$20","v":0},{"$f":"+'A2.Demanda'!N383*365*$K$4*$N$4*AC$20","v":0},{"$f":"+'A2.Demanda'!O383*365*$K$4*$N$4*AD$20","v":0},{"$f":"+'A2.Demanda'!P383*365*$K$4*$N$4*AE$20","v":0},0]
["Año 7",{"$f":"'A2.Demanda'!C384*365*$K$13*$N$4*B$20","v":0},{"$f":"'A2.Demanda'!D384*365*$K$13*$N$4*C$20","v":0},{"$f":"'A2.Demanda'!E384*365*$K$13*$N$4*D$20","v":0},{"$f":"'A2.Demanda'!F384*365*$K$13*$N$4*E$20","v":0},{"$f":"'A2.Demanda'!G384*365*$K$13*$N$4*F$20","v":0},{"$f":"'A2.Demanda'!H384*365*$K$13*$N$4*G$20","v":0},{"$f":"'A2.Demanda'!I384*365*$K$13*$N$4*H$20","v":0},{"$f":"'A2.Demanda'!J384*365*$K$13*$N$4*I$20","v":0},{"$f":"'A2.Demanda'!K384*365*$K$13*$N$4*J$20","v":0},{"$f":"'A2.Demanda'!L384*365*$K$13*$N$4*K$20","v":0},{"$f":"'A2.Demanda'!M384*365*$K$13*$N$4*L$20","v":0},{"$f":"'A2.Demanda'!N384*365*$K$13*$N$4*M$20","v":0},{"$f":"'A2.Demanda'!O384*365*$K$13*$N$4*N$20","v":0},{"$f":"'A2.Demanda'!P384*365*$K$13*$N$4*O$20","v":0},0,"Año 7",{"$f":"+'A2.Demanda'!C384*365*$K$4*$N$4*R$20","v":0},{"$f":"+'A2.Demanda'!D384*365*$K$4*$N$4*S$20","v":0},{"$f":"+'A2.Demanda'!E384*365*$K$4*$N$4*T$20","v":0},{"$f":"+'A2.Demanda'!F384*365*$K$4*$N$4*U$20","v":0},{"$f":"+'A2.Demanda'!G384*365*$K$4*$N$4*V$20","v":0},{"$f":"+'A2.Demanda'!H384*365*$K$4*$N$4*W$20","v":0},{"$f":"+'A2.Demanda'!I384*365*$K$4*$N$4*X$20","v":0},{"$f":"+'A2.Demanda'!J384*365*$K$4*$N$4*Y$20","v":0},{"$f":"+'A2.Demanda'!K384*365*$K$4*$N$4*Z$20","v":0},{"$f":"+'A2.Demanda'!L384*365*$K$4*$N$4*AA$20","v":0},{"$f":"+'A2.Demanda'!M384*365*$K$4*$N$4*AB$20","v":0},{"$f":"+'A2.Demanda'!N384*365*$K$4*$N$4*AC$20","v":0},{"$f":"+'A2.Demanda'!O384*365*$K$4*$N$4*AD$20","v":0},{"$f":"+'A2.Demanda'!P384*365*$K$4*$N$4*AE$20","v":0},0]
["Año 8",{"$f":"'A2.Demanda'!C385*365*$K$13*$N$4*B$20","v":0},{"$f":"'A2.Demanda'!D385*365*$K$13*$N$4*C$20","v":0},{"$f":"'A2.Demanda'!E385*365*$K$13*$N$4*D$20","v":0},{"$f":"'A2.Demanda'!F385*365*$K$13*$N$4*E$20","v":0},{"$f":"'A2.Demanda'!G385*365*$K$13*$N$4*F$20","v":0},{"$f":"'A2.Demanda'!H385*365*$K$13*$N$4*G$20","v":0},{"$f":"'A2.Demanda'!I385*365*$K$13*$N$4*H$20","v":0},{"$f":"'A2.Demanda'!J385*365*$K$13*$N$4*I$20","v":0},{"$f":"'A2.Demanda'!K385*365*$K$13*$N$4*J$20","v":0},{"$f":"'A2.Demanda'!L385*365*$K$13*$N$4*K$20","v":0},{"$f":"'A2.Demanda'!M385*365*$K$13*$N$4*L$20","v":0},{"$f":"'A2.Demanda'!N385*365*$K$13*$N$4*M$20","v":0},{"$f":"'A2.Demanda'!O385*365*$K$13*$N$4*N$20","v":0},{"$f":"'A2.Demanda'!P385*365*$K$13*$N$4*O$20","v":0},0,"Año 8",{"$f":"+'A2.Demanda'!C385*365*$K$4*$N$4*R$20","v":0},{"$f":"+'A2.Demanda'!D385*365*$K$4*$N$4*S$20","v":0},{"$f":"+'A2.Demanda'!E385*365*$K$4*$N$4*T$20","v":0},{"$f":"+'A2.Demanda'!F385*365*$K$4*$N$4*U$20","v":0},{"$f":"+'A2.Demanda'!G385*365*$K$4*$N$4*V$20","v":0},{"$f":"+'A2.Demanda'!H385*365*$K$4*$N$4*W$20","v":0},{"$f":"+'A2.Demanda'!I385*365*$K$4*$N$4*X$20","v":0},{"$f":"+'A2.Demanda'!J385*365*$K$4*$N$4*Y$20","v":0},{"$f":"+'A2.Demanda'!K385*365*$K$4*$N$4*Z$20","v":0},{"$f":"+'A2.Demanda'!L385*365*$K$4*$N$4*AA$20","v":0},{"$f":"+'A2.Demanda'!M385*365*$K$4*$N$4*AB$20","v":0},{"$f":"+'A2.Demanda'!N385*365*$K$4*$N$4*AC$20","v":0},{"$f":"+'A2.Demanda'!O385*365*$K$4*$N$4*AD$20","v":0},{"$f":"+'A2.Demanda'!P385*365*$K$4*$N$4*AE$20","v":0},0]
["Año 9",{"$f":"'A2.Demanda'!C386*365*$K$13*$N$4*B$20","v":0},{"$f":"'A2.Demanda'!D386*365*$K$13*$N$4*C$20","v":0},{"$f":"'A2.Demanda'!E386*365*$K$13*$N$4*D$20","v":0},{"$f":"'A2.Demanda'!F386*365*$K$13*$N$4*E$20","v":0},{"$f":"'A2.Demanda'!G386*365*$K$13*$N$4*F$20","v":0},{"$f":"'A2.Demanda'!H386*365*$K$13*$N$4*G$20","v":0},{"$f":"'A2.Demanda'!I386*365*$K$13*$N$4*H$20","v":0},{"$f":"'A2.Demanda'!J386*365*$K$13*$N$4*I$20","v":0},{"$f":"'A2.Demanda'!K386*365*$K$13*$N$4*J$20","v":0},{"$f":"'A2.Demanda'!L386*365*$K$13*$N$4*K$20","v":0},{"$f":"'A2.Demanda'!M386*365*$K$13*$N$4*L$20","v":0},{"$f":"'A2.Demanda'!N386*365*$K$13*$N$4*M$20","v":0},{"$f":"'A2.Demanda'!O386*365*$K$13*$N$4*N$20","v":0},{"$f":"'A2.Demanda'!P386*365*$K$13*$N$4*O$20","v":0},0,"Año 9",{"$f":"+'A2.Demanda'!C386*365*$K$4*$N$4*R$20","v":0},{"$f":"+'A2.Demanda'!D386*365*$K$4*$N$4*S$20","v":0},{"$f":"+'A2.Demanda'!E386*365*$K$4*$N$4*T$20","v":0},{"$f":"+'A2.Demanda'!F386*365*$K$4*$N$4*U$20","v":0},{"$f":"+'A2.Demanda'!G386*365*$K$4*$N$4*V$20","v":0},{"$f":"+'A2.Demanda'!H386*365*$K$4*$N$4*W$20","v":0},{"$f":"+'A2.Demanda'!I386*365*$K$4*$N$4*X$20","v":0},{"$f":"+'A2.Demanda'!J386*365*$K$4*$N$4*Y$20","v":0},{"$f":"+'A2.Demanda'!K386*365*$K$4*$N$4*Z$20","v":0},{"$f":"+'A2.Demanda'!L386*365*$K$4*$N$4*AA$20","v":0},{"$f":"+'A2.Demanda'!M386*365*$K$4*$N$4*AB$20","v":0},{"$f":"+'A2.Demanda'!N386*365*$K$4*$N$4*AC$20","v":0},{"$f":"+'A2.Demanda'!O386*365*$K$4*$N$4*AD$20","v":0},{"$f":"+'A2.Demanda'!P386*365*$K$4*$N$4*AE$20","v":0},0]
["Año 10",{"$f":"'A2.Demanda'!C387*365*$K$13*$N$4*B$20","v":0},{"$f":"'A2.Demanda'!D387*365*$K$13*$N$4*C$20","v":0},{"$f":"'A2.Demanda'!E387*365*$K$13*$N$4*D$20","v":0},{"$f":"'A2.Demanda'!F387*365*$K$13*$N$4*E$20","v":0},{"$f":"'A2.Demanda'!G387*365*$K$13*$N$4*F$20","v":0},{"$f":"'A2.Demanda'!H387*365*$K$13*$N$4*G$20","v":0},{"$f":"'A2.Demanda'!I387*365*$K$13*$N$4*H$20","v":0},{"$f":"'A2.Demanda'!J387*365*$K$13*$N$4*I$20","v":0},{"$f":"'A2.Demanda'!K387*365*$K$13*$N$4*J$20","v":0},{"$f":"'A2.Demanda'!L387*365*$K$13*$N$4*K$20","v":0},{"$f":"'A2.Demanda'!M387*365*$K$13*$N$4*L$20","v":0},{"$f":"'A2.Demanda'!N387*365*$K$13*$N$4*M$20","v":0},{"$f":"'A2.Demanda'!O387*365*$K$13*$N$4*N$20","v":0},{"$f":"'A2.Demanda'!P387*365*$K$13*$N$4*O$20","v":0},0,"Año 10",{"$f":"+'A2.Demanda'!C387*365*$K$4*$N$4*R$20","v":0},{"$f":"+'A2.Demanda'!D387*365*$K$4*$N$4*S$20","v":0},{"$f":"+'A2.Demanda'!E387*365*$K$4*$N$4*T$20","v":0},{"$f":"+'A2.Demanda'!F387*365*$K$4*$N$4*U$20","v":0},{"$f":"+'A2.Demanda'!G387*365*$K$4*$N$4*V$20","v":0},{"$f":"+'A2.Demanda'!H387*365*$K$4*$N$4*W$20","v":0},{"$f":"+'A2.Demanda'!I387*365*$K$4*$N$4*X$20","v":0},{"$f":"+'A2.Demanda'!J387*365*$K$4*$N$4*Y$20","v":0},{"$f":"+'A2.Demanda'!K387*365*$K$4*$N$4*Z$20","v":0},{"$f":"+'A2.Demanda'!L387*365*$K$4*$N$4*AA$20","v":0},{"$f":"+'A2.Demanda'!M387*365*$K$4*$N$4*AB$20","v":0},{"$f":"+'A2.Demanda'!N387*365*$K$4*$N$4*AC$20","v":0},{"$f":"+'A2.Demanda'!O387*365*$K$4*$N$4*AD$20","v":0},{"$f":"+'A2.Demanda'!P387*365*$K$4*$N$4*AE$20","v":0},0]
["Año 11",{"$f":"'A2.Demanda'!C388*365*$K$13*$N$4*B$20","v":0},{"$f":"'A2.Demanda'!D388*365*$K$13*$N$4*C$20","v":0},{"$f":"'A2.Demanda'!E388*365*$K$13*$N$4*D$20","v":0},{"$f":"'A2.Demanda'!F388*365*$K$13*$N$4*E$20","v":0},{"$f":"'A2.Demanda'!G388*365*$K$13*$N$4*F$20","v":0},{"$f":"'A2.Demanda'!H388*365*$K$13*$N$4*G$20","v":0},{"$f":"'A2.Demanda'!I388*365*$K$13*$N$4*H$20","v":0},{"$f":"'A2.Demanda'!J388*365*$K$13*$N$4*I$20","v":0},{"$f":"'A2.Demanda'!K388*365*$K$13*$N$4*J$20","v":0},{"$f":"'A2.Demanda'!L388*365*$K$13*$N$4*K$20","v":0},{"$f":"'A2.Demanda'!M388*365*$K$13*$N$4*L$20","v":0},{"$f":"'A2.Demanda'!N388*365*$K$13*$N$4*M$20","v":0},{"$f":"'A2.Demanda'!O388*365*$K$13*$N$4*N$20","v":0},{"$f":"'A2.Demanda'!P388*365*$K$13*$N$4*O$20","v":0},0,"Año 11",{"$f":"+'A2.Demanda'!C388*365*$K$4*$N$4*R$20","v":0},{"$f":"+'A2.Demanda'!D388*365*$K$4*$N$4*S$20","v":0},{"$f":"+'A2.Demanda'!E388*365*$K$4*$N$4*T$20","v":0},{"$f":"+'A2.Demanda'!F388*365*$K$4*$N$4*U$20","v":0},{"$f":"+'A2.Demanda'!G388*365*$K$4*$N$4*V$20","v":0},{"$f":"+'A2.Demanda'!H388*365*$K$4*$N$4*W$20","v":0},{"$f":"+'A2.Demanda'!I388*365*$K$4*$N$4*X$20","v":0},{"$f":"+'A2.Demanda'!J388*365*$K$4*$N$4*Y$20","v":0},{"$f":"+'A2.Demanda'!K388*365*$K$4*$N$4*Z$20","v":0},{"$f":"+'A2.Demanda'!L388*365*$K$4*$N$4*AA$20","v":0},{"$f":"+'A2.Demanda'!M388*365*$K$4*$N$4*AB$20","v":0},{"$f":"+'A2.Demanda'!N388*365*$K$4*$N$4*AC$20","v":0},{"$f":"+'A2.Demanda'!O388*365*$K$4*$N$4*AD$20","v":0},{"$f":"+'A2.Demanda'!P388*365*$K$4*$N$4*AE$20","v":0},0]
["Año 12",{"$f":"'A2.Demanda'!C389*365*$K$13*$N$4*B$20","v":0},{"$f":"'A2.Demanda'!D389*365*$K$13*$N$4*C$20","v":0},{"$f":"'A2.Demanda'!E389*365*$K$13*$N$4*D$20","v":0},{"$f":"'A2.Demanda'!F389*365*$K$13*$N$4*E$20","v":0},{"$f":"'A2.Demanda'!G389*365*$K$13*$N$4*F$20","v":0},{"$f":"'A2.Demanda'!H389*365*$K$13*$N$4*G$20","v":0},{"$f":"'A2.Demanda'!I389*365*$K$13*$N$4*H$20","v":0},{"$f":"'A2.Demanda'!J389*365*$K$13*$N$4*I$20","v":0},{"$f":"'A2.Demanda'!K389*365*$K$13*$N$4*J$20","v":0},{"$f":"'A2.Demanda'!L389*365*$K$13*$N$4*K$20","v":0},{"$f":"'A2.Demanda'!M389*365*$K$13*$N$4*L$20","v":0},{"$f":"'A2.Demanda'!N389*365*$K$13*$N$4*M$20","v":0},{"$f":"'A2.Demanda'!O389*365*$K$13*$N$4*N$20","v":0},{"$f":"'A2.Demanda'!P389*365*$K$13*$N$4*O$20","v":0},0,"Año 12",{"$f":"+'A2.Demanda'!C389*365*$K$4*$N$4*R$20","v":0},{"$f":"+'A2.Demanda'!D389*365*$K$4*$N$4*S$20","v":0},{"$f":"+'A2.Demanda'!E389*365*$K$4*$N$4*T$20","v":0},{"$f":"+'A2.Demanda'!F389*365*$K$4*$N$4*U$20","v":0},{"$f":"+'A2.Demanda'!G389*365*$K$4*$N$4*V$20","v":0},{"$f":"+'A2.Demanda'!H389*365*$K$4*$N$4*W$20","v":0},{"$f":"+'A2.Demanda'!I389*365*$K$4*$N$4*X$20","v":0},{"$f":"+'A2.Demanda'!J389*365*$K$4*$N$4*Y$20","v":0},{"$f":"+'A2.Demanda'!K389*365*$K$4*$N$4*Z$20","v":0},{"$f":"+'A2.Demanda'!L389*365*$K$4*$N$4*AA$20","v":0},{"$f":"+'A2.Demanda'!M389*365*$K$4*$N$4*AB$20","v":0},{"$f":"+'A2.Demanda'!N389*365*$K$4*$N$4*AC$20","v":0},{"$f":"+'A2.Demanda'!O389*365*$K$4*$N$4*AD$20","v":0},{"$f":"+'A2.Demanda'!P389*365*$K$4*$N$4*AE$20","v":0},0]
["Año 13",{"$f":"'A2.Demanda'!C390*365*$K$13*$N$4*B$20","v":0},{"$f":"'A2.Demanda'!D390*365*$K$13*$N$4*C$20","v":0},{"$f":"'A2.Demanda'!E390*365*$K$13*$N$4*D$20","v":0},{"$f":"'A2.Demanda'!F390*365*$K$13*$N$4*E$20","v":0},{"$f":"'A2.Demanda'!G390*365*$K$13*$N$4*F$20","v":0},{"$f":"'A2.Demanda'!H390*365*$K$13*$N$4*G$20","v":0},{"$f":"'A2.Demanda'!I390*365*$K$13*$N$4*H$20","v":0},{"$f":"'A2.Demanda'!J390*365*$K$13*$N$4*I$20","v":0},{"$f":"'A2.Demanda'!K390*365*$K$13*$N$4*J$20","v":0},{"$f":"'A2.Demanda'!L390*365*$K$13*$N$4*K$20","v":0},{"$f":"'A2.Demanda'!M390*365*$K$13*$N$4*L$20","v":0},{"$f":"'A2.Demanda'!N390*365*$K$13*$N$4*M$20","v":0},{"$f":"'A2.Demanda'!O390*365*$K$13*$N$4*N$20","v":0},{"$f":"'A2.Demanda'!P390*365*$K$13*$N$4*O$20","v":0},0,"Año 13",{"$f":"+'A2.Demanda'!C390*365*$K$4*$N$4*R$20","v":0},{"$f":"+'A2.Demanda'!D390*365*$K$4*$N$4*S$20","v":0},{"$f":"+'A2.Demanda'!E390*365*$K$4*$N$4*T$20","v":0},{"$f":"+'A2.Demanda'!F390*365*$K$4*$N$4*U$20","v":0},{"$f":"+'A2.Demanda'!G390*365*$K$4*$N$4*V$20","v":0},{"$f":"+'A2.Demanda'!H390*365*$K$4*$N$4*W$20","v":0},{"$f":"+'A2.Demanda'!I390*365*$K$4*$N$4*X$20","v":0},{"$f":"+'A2.Demanda'!J390*365*$K$4*$N$4*Y$20","v":0},{"$f":"+'A2.Demanda'!K390*365*$K$4*$N$4*Z$20","v":0},{"$f":"+'A2.Demanda'!L390*365*$K$4*$N$4*AA$20","v":0},{"$f":"+'A2.Demanda'!M390*365*$K$4*$N$4*AB$20","v":0},{"$f":"+'A2.Demanda'!N390*365*$K$4*$N$4*AC$20","v":0},{"$f":"+'A2.Demanda'!O390*365*$K$4*$N$4*AD$20","v":0},{"$f":"+'A2.Demanda'!P390*365*$K$4*$N$4*AE$20","v":0},0]
["Año 14",{"$f":"'A2.Demanda'!C391*365*$K$13*$N$4*B$20","v":0},{"$f":"'A2.Demanda'!D391*365*$K$13*$N$4*C$20","v":0},{"$f":"'A2.Demanda'!E391*365*$K$13*$N$4*D$20","v":0},{"$f":"'A2.Demanda'!F391*365*$K$13*$N$4*E$20","v":0},{"$f":"'A2.Demanda'!G391*365*$K$13*$N$4*F$20","v":0},{"$f":"'A2.Demanda'!H391*365*$K$13*$N$4*G$20","v":0},{"$f":"'A2.Demanda'!I391*365*$K$13*$N$4*H$20","v":0},{"$f":"'A2.Demanda'!J391*365*$K$13*$N$4*I$20","v":0},{"$f":"'A2.Demanda'!K391*365*$K$13*$N$4*J$20","v":0},{"$f":"'A2.Demanda'!L391*365*$K$13*$N$4*K$20","v":0},{"$f":"'A2.Demanda'!M391*365*$K$13*$N$4*L$20","v":0},{"$f":"'A2.Demanda'!N391*365*$K$13*$N$4*M$20","v":0},{"$f":"'A2.Demanda'!O391*365*$K$13*$N$4*N$20","v":0},{"$f":"'A2.Demanda'!P391*365*$K$13*$N$4*O$20","v":0},0,"Año 14",{"$f":"+'A2.Demanda'!C391*365*$K$4*$N$4*R$20","v":0},{"$f":"+'A2.Demanda'!D391*365*$K$4*$N$4*S$20","v":0},{"$f":"+'A2.Demanda'!E391*365*$K$4*$N$4*T$20","v":0},{"$f":"+'A2.Demanda'!F391*365*$K$4*$N$4*U$20","v":0},{"$f":"+'A2.Demanda'!G391*365*$K$4*$N$4*V$20","v":0},{"$f":"+'A2.Demanda'!H391*365*$K$4*$N$4*W$20","v":0},{"$f":"+'A2.Demanda'!I391*365*$K$4*$N$4*X$20","v":0},{"$f":"+'A2.Demanda'!J391*365*$K$4*$N$4*Y$20","v":0},{"$f":"+'A2.Demanda'!K391*365*$K$4*$N$4*Z$20","v":0},{"$f":"+'A2.Demanda'!L391*365*$K$4*$N$4*AA$20","v":0},{"$f":"+'A2.Demanda'!M391*365*$K$4*$N$4*AB$20","v":0},{"$f":"+'A2.Demanda'!N391*365*$K$4*$N$4*AC$20","v":0},{"$f":"+'A2.Demanda'!O391*365*$K$4*$N$4*AD$20","v":0},{"$f":"+'A2.Demanda'!P391*365*$K$4*$N$4*AE$20","v":0},0]
["Año 15",{"$f":"'A2.Demanda'!C392*365*$K$13*$N$4*B$20","v":0},{"$f":"'A2.Demanda'!D392*365*$K$13*$N$4*C$20","v":0},{"$f":"'A2.Demanda'!E392*365*$K$13*$N$4*D$20","v":0},{"$f":"'A2.Demanda'!F392*365*$K$13*$N$4*E$20","v":0},{"$f":"'A2.Demanda'!G392*365*$K$13*$N$4*F$20","v":0},{"$f":"'A2.Demanda'!H392*365*$K$13*$N$4*G$20","v":0},{"$f":"'A2.Demanda'!I392*365*$K$13*$N$4*H$20","v":0},{"$f":"'A2.Demanda'!J392*365*$K$13*$N$4*I$20","v":0},{"$f":"'A2.Demanda'!K392*365*$K$13*$N$4*J$20","v":0},{"$f":"'A2.Demanda'!L392*365*$K$13*$N$4*K$20","v":0},{"$f":"'A2.Demanda'!M392*365*$K$13*$N$4*L$20","v":0},{"$f":"'A2.Demanda'!N392*365*$K$13*$N$4*M$20","v":0},{"$f":"'A2.Demanda'!O392*365*$K$13*$N$4*N$20","v":0},{"$f":"'A2.Demanda'!P392*365*$K$13*$N$4*O$20","v":0},0,"Año 15",{"$f":"+'A2.Demanda'!C392*365*$K$4*$N$4*R$20","v":0},{"$f":"+'A2.Demanda'!D392*365*$K$4*$N$4*S$20","v":0},{"$f":"+'A2.Demanda'!E392*365*$K$4*$N$4*T$20","v":0},{"$f":"+'A2.Demanda'!F392*365*$K$4*$N$4*U$20","v":0},{"$f":"+'A2.Demanda'!G392*365*$K$4*$N$4*V$20","v":0},{"$f":"+'A2.Demanda'!H392*365*$K$4*$N$4*W$20","v":0},{"$f":"+'A2.Demanda'!I392*365*$K$4*$N$4*X$20","v":0},{"$f":"+'A2.Demanda'!J392*365*$K$4*$N$4*Y$20","v":0},{"$f":"+'A2.Demanda'!K392*365*$K$4*$N$4*Z$20","v":0},{"$f":"+'A2.Demanda'!L392*365*$K$4*$N$4*AA$20","v":0},{"$f":"+'A2.Demanda'!M392*365*$K$4*$N$4*AB$20","v":0},{"$f":"+'A2.Demanda'!N392*365*$K$4*$N$4*AC$20","v":0},{"$f":"+'A2.Demanda'!O392*365*$K$4*$N$4*AD$20","v":0},{"$f":"+'A2.Demanda'!P392*365*$K$4*$N$4*AE$20","v":0},0]
["Año 16",{"$f":"'A2.Demanda'!C393*365*$K$13*$N$4*B$20","v":0},{"$f":"'A2.Demanda'!D393*365*$K$13*$N$4*C$20","v":0},{"$f":"'A2.Demanda'!E393*365*$K$13*$N$4*D$20","v":0},{"$f":"'A2.Demanda'!F393*365*$K$13*$N$4*E$20","v":0},{"$f":"'A2.Demanda'!G393*365*$K$13*$N$4*F$20","v":0},{"$f":"'A2.Demanda'!H393*365*$K$13*$N$4*G$20","v":0},{"$f":"'A2.Demanda'!I393*365*$K$13*$N$4*H$20","v":0},{"$f":"'A2.Demanda'!J393*365*$K$13*$N$4*I$20","v":0},{"$f":"'A2.Demanda'!K393*365*$K$13*$N$4*J$20","v":0},{"$f":"'A2.Demanda'!L393*365*$K$13*$N$4*K$20","v":0},{"$f":"'A2.Demanda'!M393*365*$K$13*$N$4*L$20","v":0},{"$f":"'A2.Demanda'!N393*365*$K$13*$N$4*M$20","v":0},{"$f":"'A2.Demanda'!O393*365*$K$13*$N$4*N$20","v":0},{"$f":"'A2.Demanda'!P393*365*$K$13*$N$4*O$20","v":0},0,"Año 16",{"$f":"+'A2.Demanda'!C393*365*$K$4*$N$4*R$20","v":0},{"$f":"+'A2.Demanda'!D393*365*$K$4*$N$4*S$20","v":0},{"$f":"+'A2.Demanda'!E393*365*$K$4*$N$4*T$20","v":0},{"$f":"+'A2.Demanda'!F393*365*$K$4*$N$4*U$20","v":0},{"$f":"+'A2.Demanda'!G393*365*$K$4*$N$4*V$20","v":0},{"$f":"+'A2.Demanda'!H393*365*$K$4*$N$4*W$20","v":0},{"$f":"+'A2.Demanda'!I393*365*$K$4*$N$4*X$20","v":0},{"$f":"+'A2.Demanda'!J393*365*$K$4*$N$4*Y$20","v":0},{"$f":"+'A2.Demanda'!K393*365*$K$4*$N$4*Z$20","v":0},{"$f":"+'A2.Demanda'!L393*365*$K$4*$N$4*AA$20","v":0},{"$f":"+'A2.Demanda'!M393*365*$K$4*$N$4*AB$20","v":0},{"$f":"+'A2.Demanda'!N393*365*$K$4*$N$4*AC$20","v":0},{"$f":"+'A2.Demanda'!O393*365*$K$4*$N$4*AD$20","v":0},{"$f":"+'A2.Demanda'!P393*365*$K$4*$N$4*AE$20","v":0},0]
["Año 17",{"$f":"'A2.Demanda'!C394*365*$K$13*$N$4*B$20","v":0},{"$f":"'A2.Demanda'!D394*365*$K$13*$N$4*C$20","v":0},{"$f":"'A2.Demanda'!E394*365*$K$13*$N$4*D$20","v":0},{"$f":"'A2.Demanda'!F394*365*$K$13*$N$4*E$20","v":0},{"$f":"'A2.Demanda'!G394*365*$K$13*$N$4*F$20","v":0},{"$f":"'A2.Demanda'!H394*365*$K$13*$N$4*G$20","v":0},{"$f":"'A2.Demanda'!I394*365*$K$13*$N$4*H$20","v":0},{"$f":"'A2.Demanda'!J394*365*$K$13*$N$4*I$20","v":0},{"$f":"'A2.Demanda'!K394*365*$K$13*$N$4*J$20","v":0},{"$f":"'A2.Demanda'!L394*365*$K$13*$N$4*K$20","v":0},{"$f":"'A2.Demanda'!M394*365*$K$13*$N$4*L$20","v":0},{"$f":"'A2.Demanda'!N394*365*$K$13*$N$4*M$20","v":0},{"$f":"'A2.Demanda'!O394*365*$K$13*$N$4*N$20","v":0},{"$f":"'A2.Demanda'!P394*365*$K$13*$N$4*O$20","v":0},0,"Año 17",{"$f":"+'A2.Demanda'!C394*365*$K$4*$N$4*R$20","v":0},{"$f":"+'A2.Demanda'!D394*365*$K$4*$N$4*S$20","v":0},{"$f":"+'A2.Demanda'!E394*365*$K$4*$N$4*T$20","v":0},{"$f":"+'A2.Demanda'!F394*365*$K$4*$N$4*U$20","v":0},{"$f":"+'A2.Demanda'!G394*365*$K$4*$N$4*V$20","v":0},{"$f":"+'A2.Demanda'!H394*365*$K$4*$N$4*W$20","v":0},{"$f":"+'A2.Demanda'!I394*365*$K$4*$N$4*X$20","v":0},{"$f":"+'A2.Demanda'!J394*365*$K$4*$N$4*Y$20","v":0},{"$f":"+'A2.Demanda'!K394*365*$K$4*$N$4*Z$20","v":0},{"$f":"+'A2.Demanda'!L394*365*$K$4*$N$4*AA$20","v":0},{"$f":"+'A2.Demanda'!M394*365*$K$4*$N$4*AB$20","v":0},{"$f":"+'A2.Demanda'!N394*365*$K$4*$N$4*AC$20","v":0},{"$f":"+'A2.Demanda'!O394*365*$K$4*$N$4*AD$20","v":0},{"$f":"+'A2.Demanda'!P394*365*$K$4*$N$4*AE$20","v":0},0]
["Año 18",{"$f":"'A2.Demanda'!C395*365*$K$13*$N$4*B$20","v":0},{"$f":"'A2.Demanda'!D395*365*$K$13*$N$4*C$20","v":0},{"$f":"'A2.Demanda'!E395*365*$K$13*$N$4*D$20","v":0},{"$f":"'A2.Demanda'!F395*365*$K$13*$N$4*E$20","v":0},{"$f":"'A2.Demanda'!G395*365*$K$13*$N$4*F$20","v":0},{"$f":"'A2.Demanda'!H395*365*$K$13*$N$4*G$20","v":0},{"$f":"'A2.Demanda'!I395*365*$K$13*$N$4*H$20","v":0},{"$f":"'A2.Demanda'!J395*365*$K$13*$N$4*I$20","v":0},{"$f":"'A2.Demanda'!K395*365*$K$13*$N$4*J$20","v":0},{"$f":"'A2.Demanda'!L395*365*$K$13*$N$4*K$20","v":0},{"$f":"'A2.Demanda'!M395*365*$K$13*$N$4*L$20","v":0},{"$f":"'A2.Demanda'!N395*365*$K$13*$N$4*M$20","v":0},{"$f":"'A2.Demanda'!O395*365*$K$13*$N$4*N$20","v":0},{"$f":"'A2.Demanda'!P395*365*$K$13*$N$4*O$20","v":0},0,"Año 18",{"$f":"+'A2.Demanda'!C395*365*$K$4*$N$4*R$20","v":0},{"$f":"+'A2.Demanda'!D395*365*$K$4*$N$4*S$20","v":0},{"$f":"+'A2.Demanda'!E395*365*$K$4*$N$4*T$20","v":0},{"$f":"+'A2.Demanda'!F395*365*$K$4*$N$4*U$20","v":0},{"$f":"+'A2.Demanda'!G395*365*$K$4*$N$4*V$20","v":0},{"$f":"+'A2.Demanda'!H395*365*$K$4*$N$4*W$20","v":0},{"$f":"+'A2.Demanda'!I395*365*$K$4*$N$4*X$20","v":0},{"$f":"+'A2.Demanda'!J395*365*$K$4*$N$4*Y$20","v":0},{"$f":"+'A2.Demanda'!K395*365*$K$4*$N$4*Z$20","v":0},{"$f":"+'A2.Demanda'!L395*365*$K$4*$N$4*AA$20","v":0},{"$f":"+'A2.Demanda'!M395*365*$K$4*$N$4*AB$20","v":0},{"$f":"+'A2.Demanda'!N395*365*$K$4*$N$4*AC$20","v":0},{"$f":"+'A2.Demanda'!O395*365*$K$4*$N$4*AD$20","v":0},{"$f":"+'A2.Demanda'!P395*365*$K$4*$N$4*AE$20","v":0},0]
["Año 19",{"$f":"'A2.Demanda'!C396*365*$K$13*$N$4*B$20","v":0},{"$f":"'A2.Demanda'!D396*365*$K$13*$N$4*C$20","v":0},{"$f":"'A2.Demanda'!E396*365*$K$13*$N$4*D$20","v":0},{"$f":"'A2.Demanda'!F396*365*$K$13*$N$4*E$20","v":0},{"$f":"'A2.Demanda'!G396*365*$K$13*$N$4*F$20","v":0},{"$f":"'A2.Demanda'!H396*365*$K$13*$N$4*G$20","v":0},{"$f":"'A2.Demanda'!I396*365*$K$13*$N$4*H$20","v":0},{"$f":"'A2.Demanda'!J396*365*$K$13*$N$4*I$20","v":0},{"$f":"'A2.Demanda'!K396*365*$K$13*$N$4*J$20","v":0},{"$f":"'A2.Demanda'!L396*365*$K$13*$N$4*K$20","v":0},{"$f":"'A2.Demanda'!M396*365*$K$13*$N$4*L$20","v":0},{"$f":"'A2.Demanda'!N396*365*$K$13*$N$4*M$20","v":0},{"$f":"'A2.Demanda'!O396*365*$K$13*$N$4*N$20","v":0},{"$f":"'A2.Demanda'!P396*365*$K$13*$N$4*O$20","v":0},0,"Año 19",{"$f":"+'A2.Demanda'!C396*365*$K$4*$N$4*R$20","v":0},{"$f":"+'A2.Demanda'!D396*365*$K$4*$N$4*S$20","v":0},{"$f":"+'A2.Demanda'!E396*365*$K$4*$N$4*T$20","v":0},{"$f":"+'A2.Demanda'!F396*365*$K$4*$N$4*U$20","v":0},{"$f":"+'A2.Demanda'!G396*365*$K$4*$N$4*V$20","v":0},{"$f":"+'A2.Demanda'!H396*365*$K$4*$N$4*W$20","v":0},{"$f":"+'A2.Demanda'!I396*365*$K$4*$N$4*X$20","v":0},{"$f":"+'A2.Demanda'!J396*365*$K$4*$N$4*Y$20","v":0},{"$f":"+'A2.Demanda'!K396*365*$K$4*$N$4*Z$20","v":0},{"$f":"+'A2.Demanda'!L396*365*$K$4*$N$4*AA$20","v":0},{"$f":"+'A2.Demanda'!M396*365*$K$4*$N$4*AB$20","v":0},{"$f":"+'A2.Demanda'!N396*365*$K$4*$N$4*AC$20","v":0},{"$f":"+'A2.Demanda'!O396*365*$K$4*$N$4*AD$20","v":0},{"$f":"+'A2.Demanda'!P396*365*$K$4*$N$4*AE$20","v":0},0]
["Año 20",{"$f":"'A2.Demanda'!C397*365*$K$13*$N$4*B$20","v":0},{"$f":"'A2.Demanda'!D397*365*$K$13*$N$4*C$20","v":0},{"$f":"'A2.Demanda'!E397*365*$K$13*$N$4*D$20","v":0},{"$f":"'A2.Demanda'!F397*365*$K$13*$N$4*E$20","v":0},{"$f":"'A2.Demanda'!G397*365*$K$13*$N$4*F$20","v":0},{"$f":"'A2.Demanda'!H397*365*$K$13*$N$4*G$20","v":0},{"$f":"'A2.Demanda'!I397*365*$K$13*$N$4*H$20","v":0},{"$f":"'A2.Demanda'!J397*365*$K$13*$N$4*I$20","v":0},{"$f":"'A2.Demanda'!K397*365*$K$13*$N$4*J$20","v":0},{"$f":"'A2.Demanda'!L397*365*$K$13*$N$4*K$20","v":0},{"$f":"'A2.Demanda'!M397*365*$K$13*$N$4*L$20","v":0},{"$f":"'A2.Demanda'!N397*365*$K$13*$N$4*M$20","v":0},{"$f":"'A2.Demanda'!O397*365*$K$13*$N$4*N$20","v":0},{"$f":"'A2.Demanda'!P397*365*$K$13*$N$4*O$20","v":0},0,"Año 20",{"$f":"+'A2.Demanda'!C397*365*$K$4*$N$4*R$20","v":0},{"$f":"+'A2.Demanda'!D397*365*$K$4*$N$4*S$20","v":0},{"$f":"+'A2.Demanda'!E397*365*$K$4*$N$4*T$20","v":0},{"$f":"+'A2.Demanda'!F397*365*$K$4*$N$4*U$20","v":0},{"$f":"+'A2.Demanda'!G397*365*$K$4*$N$4*V$20","v":0},{"$f":"+'A2.Demanda'!H397*365*$K$4*$N$4*W$20","v":0},{"$f":"+'A2.Demanda'!I397*365*$K$4*$N$4*X$20","v":0},{"$f":"+'A2.Demanda'!J397*365*$K$4*$N$4*Y$20","v":0},{"$f":"+'A2.Demanda'!K397*365*$K$4*$N$4*Z$20","v":0},{"$f":"+'A2.Demanda'!L397*365*$K$4*$N$4*AA$20","v":0},{"$f":"+'A2.Demanda'!M397*365*$K$4*$N$4*AB$20","v":0},{"$f":"+'A2.Demanda'!N397*365*$K$4*$N$4*AC$20","v":0},{"$f":"+'A2.Demanda'!O397*365*$K$4*$N$4*AD$20","v":0},{"$f":"+'A2.Demanda'!P397*365*$K$4*$N$4*AE$20","v":0},0]
["Beneficios",{"$f":"SUM(B73:B92)","v":0},{"$f":"SUM(C73:C92)","v":0},0,0,0,0,0,0,0,0,0,0,0,0,{"$f":"SUM(B93:O93)","v":0},"Beneficios",{"$f":"SUM(R73:R92)","v":0},{"$f":"SUM(S73:S92)","v":0},0,0,0,0,0,0,0,0,0,0,0,0,{"$f":"SUM(R93:AE93)","v":0}]
[]
[]
[null,"ALTERNATIVA Nº1",null,null,null,null,null,null,null,null,null,null,null,null,null,null,null,"ALTERNATIVA Nº2"]
[]
["A) FACTORES DE CONVERSIÓN A PRECIOS SOCIALES",null,null,null,null,null,null,null,null,null,null,null,null,null,null,null,"A) FACTORES DE CONVERSIÓN A PRECIOS SOCIALES"]
[null,"Obras","Factor","Tasa Social de Descuento",0.08,null,null,null,null,null,null,null,null,null,null,null,null,"Obras","Factor","Tasa Social de Descuento",0.08]
[null,"Inversión",0.79,"Valor Residual ",0.1,null,null,null,null,null,null,null,null,null,null,null,null,"Inversión",0.79,"Valor Residual ",0.1]
[null,"Mantenimiento y Operación",0.75,null,null,null,null,null,null,null,null,null,null,null,null,null,null,"Mantenimiento y Operación",0.75]
[]
[null,"B) COSTOS DE INVERSIÓN Y MANTENIMIENTO A PRECIOS DEL MERCADO",null,null,null,null,null,null,null,null,null,null,null,null,null,null,null,"B) COSTOS DE INVERSIÓN Y MANTENIMIENTO A PRECIOS DEL MERCADO"]
[]
[null,"Año","Sin Proyecto ","Con Proyecto",null,null,null,null,null,null,null,null,null,null,null,null,null,"Año","Sin Proyecto ","Con Proyecto"]
[null,null,"Sin Proyecto ","Alternativa Solucion",null,null,null,null,null,null,null,null,null,null,null,null,null,null,"Sin Proyecto ","Alternativa Solucion"]
[null,null,null,"Inversión","Mantenimiento*",null,null,null,null,null,null,null,null,null,null,null,null,null,null,"Inversión","Mantenimiento*"]
[null,0,null,{"$f":"+'C. Costos'!J55","v":0},null,null,null,null,null,null,null,null,null,null,null,null,null,0,null,{"$f":"+'C. Costos'!U55","v":0}]
[null,1,{"$f":"+'C. Costos'!D68","v":0},null,{"$f":"+'C. Costos'!D69","v":0},null,null,null,null,null,null,null,null,null,null,null,null,1,{"$f":"+'C. Costos'!O68","v":0},null,{"$f":"+'C. Costos'!O69","v":0}]
[null,2,{"$f":"+C109","v":0},null,{"$f":"+'C. Costos'!D69","v":0},null,null,null,null,null,null,null,null,null,null,null,null,2,{"$f":"+S109","v":0},null,{"$f":"+'C. Costos'!O69","v":0}]
[null,3,{"$f":"+C110","v":0},null,{"$f":"+'C. Costos'!D70","v":0},null,null,null,null,null,null,null,null,null,null,null,null,3,{"$f":"+S110","v":0},null,{"$f":"+'C. Costos'!O70","v":0}]
[null,4,0,null,{"$f":"+E109","v":0},null,null,null,null,null,null,null,null,null,null,null,null,4,0,null,{"$f":"+U109","v":0}]
[null,5,0,null,0,null,null,null,null,null,null,null,null,null,null,null,null,5,0,null,0]
[null,6,0,null,0,null,null,null,null,null,null,null,null,null,null,null,null,6,0,null,0]
[null,7,0,null,0,null,null,null,null,null,null,null,null,null,null,null,null,7,0,null,0]
[null,8,0,null,0,null,null,null,null,null,null,null,null,null,null,null,null,8,0,null,0]
[null,9,0,null,0,null,null,null,null,null,null,null,null,null,null,null,null,9,0,null,0]
[null,10,0,null,0,null,null,null,null,null,null,null,null,null,null,null,null,10,0,null,0]
[null,11,0,null,0,null,null,null,null,null,null,null,null,null,null,null,null,11,0,null,0]
[null,12,0,null,0,null,null,null,null,null,null,null,null,null,null,null,null,12,0,null,0]
[null,13,0,null,0,null,null,null,null,null,null,null,null,null,null,null,null,13,0,null,0]
[null,14,0,null,0,null,null,null,null,null,null,null,null,null,null,null,null,14,0,null,0]
[null,15,0,null,0,null,null,null,null,null,null,null,null,null,null,null,null,15,0,null,0]
[null,16,0,null,0,null,null,null,null,null,null,null,null,null,null,null,null,16,0,null,0]
[null,17,0,null,0,null,null,null,null,null,null,null,null,null,null,null,null,17,0,null,0]
[null,18,0,null,0,null,null,null,null,null,null,null,null,null,null,null,null,18,0,null,0]
[null,19,0,null,0,null,null,null,null,null,null,null,null,null,null,null,null,19,0,null,0]
[null,20,0,{"$f":"-D108*E99","v":0},0,null,null,null,null,null,null,null,null,null,null,null,null,20,0,{"$f":"-T108*U99","v":0},0]
[null,"* Incluye costo de operación, el cual considera un 10% del costo de mantenimiento rutinario.",null,null,null,null,null,null,null,null,null,null,null,null,null,null,null,"* Incluye costo de operación, el cual considera un 10% del costo de mantenimiento rutinario."]
[]
[null,"C) COSTOS DE INVERSIÓN Y MANTENIMIENTO A PRECIOS SOCIALES",null,null,null,null,null,null,null,null,null,null,null,null,null,null,null,"C) COSTOS DE INVERSIÓN Y MANTENIMIENTO A PRECIOS SOCIALES"]
[]
[null,"Año","Sin Proyecto ","Con Proyecto",null,null,null,null,null,null,null,null,null,null,null,null,null,"Año","Sin Proyecto ","Con Proyecto"]
[null,null,"Sin Proyecto ","Alternativa Solucion",null,null,null,null,null,null,null,null,null,null,null,null,null,null,"Sin Proyecto ","Alternativa Solucion"]
[null,null,null,"Inversión","Mantenimiento*",null,null,null,null,null,null,null,null,null,null,null,null,null,null,"Inversión","Mantenimiento*"]
[null,0,null,{"$f":"+D108*C100","v":0},null,null,null,null,null,null,null,null,null,null,null,null,null,0,null,{"$f":"+T108*S100","v":0}]
[null,1,{"$f":"+C109*$C$101","v":0},null,{"$f":"+E109*$C$101","v":0},null,null,null,null,null,null,null,null,null,null,null,null,1,{"$f":"+S109*$S$101","v":0},null,{"$f":"+U109*$S$101","v":0}]
[null,2,{"$f":"+C110*$C$101","v":0},null,{"$f":"+E110*$C$101","v":0},null,null,null,null,null,null,null,null,null,null,null,null,2,{"$f":"+S110*$S$101","v":0},null,{"$f":"+U110*$S$101","v":0}]
[null,3,0,null,0,null,null,null,null,null,null,null,null,null,null,null,null,3,{"$f":"+S111*$S$101","v":0},null,{"$f":"+U111*$S$101","v":0}]
[null,4,0,null,0,null,null,null,null,null,null,null,null,null,null,null,null,4,{"$f":"+S112*$S$101","v":0},null,{"$f":"+U112*$S$101","v":0}]
[null,5,0,null,0,null,null,null,null,null,null,null,null,null,null,null,null,5,0,null,0]
[null,6,0,null,0,null,null,null,null,null,null,null,null,null,null,null,null,6,0,null,0]
[null,7,0,null,0,null,null,null,null,null,null,null,null,null,null,null,null,7,0,null,0]
[null,8,0,null,0,null,null,null,null,null,null,null,null,null,null,null,null,8,0,null,0]
[null,9,0,null,0,null,null,null,null,null,null,null,null,null,null,null,null,9,0,null,0]
[null,10,0,{"$f":"+D118","v":0},0,null,null,null,null,null,null,null,null,null,null,null,null,10,0,{"$f":"+T118","v":0},0]
[null,11,0,null,0,null,null,null,null,null,null,null,null,null,null,null,null,11,0,null,0]
[null,12,0,null,0,null,null,null,null,null,null,null,null,null,null,null,null,12,0,null,0]
[null,13,0,null,0,null,null,null,null,null,null,null,null,null,null,null,null,13,0,null,0]
[null,14,0,null,0,null,null,null,null,null,null,null,null,null,null,null,null,14,0,null,0]
[null,15,0,null,0,null,null,null,null,null,null,null,null,null,null,null,null,15,0,null,0]
[null,16,0,null,0,null,null,null,null,null,null,null,null,null,null,null,null,16,0,null,0]
[null,17,0,null,0,null,null,null,null,null,null,null,null,null,null,null,null,17,0,null,0]
[null,18,0,null,0,null,null,null,null,null,null,null,null,null,null,null,null,18,0,null,0]
[null,19,0,null,0,null,null,null,null,null,null,null,null,null,null,null,null,19,0,null,0]
[null,20,0,null,0,null,null,null,null,null,null,null,null,null,null,null,null,20,0,null,0]
[]
[null,"D) COSTOS INCREMENTALES ",null,null,null,null,null,null,null,null,null,null,null,null,null,null,null,"D) COSTOS INCREMENTALES "]
[null,"En Soles a Precios Sociales",null,null,null,null,null,null,null,null,null,null,null,null,null,null,null,"En Soles a Precios Sociales"]
[]
[null,"Año","Alternativa Soluciòn",null,"Beneficios","FLUJO",null,null,null,null,null,null,null,null,null,null,null,"Año","Alternativa Soluciòn",null,"Beneficios","FLUJO"]
[null,null,"Inversión","Mantenimiento*",null,null,null,null,null,null,null,null,null,null,null,null,null,null,"Inversión","Mantenimiento*"]
[null,0,{"$f":"+D136","v":0},null,null,{"$f":"+E163-D163-C163","v":0},null,null,null,null,null,null,null,null,null,null,null,0,{"$f":"+T136","v":0},null,null,{"$f":"+U163-T163-S163","v":0}]
[null,{"$f":"+B163+1","v":1},null,{"$f":"+E137-C137","v":0},{"$f":"+P24+P50+P73","v":0},{"$f":"+E164-D164-C164","v":0},null,null,null,null,null,null,null,null,null,null,null,{"$f":"+R163+1","v":1},null,{"$f":"+U137-S137","v":0},{"$f":"+AF24+AF50+AF73","v":0},{"$f":"+U164-T164-S164","v":0}]
[null,2,null,{"$f":"+E138-C138","v":0},{"$f":"+P25+P51+P74","v":0},{"$f":"+E165-D165-C165","v":0},null,null,null,null,null,null,null,null,null,null,null,2,null,{"$f":"+U138-S138","v":0},{"$f":"+AF25+AF51+AF74","v":0},{"$f":"+U165-T165-S165","v":0}]
[null,3,null,0,0,0,null,null,null,null,null,null,null,null,null,null,null,3,null,0,0,0]
[null,4,null,0,0,0,null,null,null,null,null,null,null,null,null,null,null,4,null,0,0,0]
[null,5,null,0,0,0,null,null,null,null,null,null,null,null,null,null,null,5,null,0,0,0]
[null,6,null,0,0,0,null,null,null,null,null,null,null,null,null,null,null,6,null,0,0,0]
[null,7,null,0,0,0,null,null,null,null,null,null,null,null,null,null,null,7,null,0,0,0]
[null,8,null,0,0,0,null,null,null,null,null,null,null,null,null,null,null,8,null,0,0,0]
[null,9,null,0,0,0,null,null,null,null,null,null,null,null,null,null,null,9,null,0,0,0]
[null,10,{"$f":"+D146","v":0},0,0,0,null,null,null,null,null,null,null,null,null,null,null,10,{"$f":"+T146","v":0},{"$f":"+U146-S146","v":0},0,0]
[null,11,null,{"$f":"+E147-C147","v":0},0,0,null,null,null,null,null,null,null,null,null,null,null,11,null,{"$f":"+U147-S147","v":0},0,0]
[null,12,null,{"$f":"+E148-C148","v":0},0,0,null,null,null,null,null,null,null,null,null,null,null,12,null,{"$f":"+U148-S148","v":0},0,0]
[null,13,null,0,0,0,null,null,null,null,null,null,null,null,null,null,null,13,null,0,0,0]
[null,14,null,0,0,0,null,null,null,null,null,null,null,null,null,null,null,14,null,0,0,0]
[null,15,null,0,0,0,null,null,null,null,null,null,null,null,null,null,null,15,null,0,0,0]
[null,16,null,0,0,0,null,null,null,null,null,null,null,null,null,null,null,16,null,0,0,0]
[null,17,null,0,0,0,null,null,null,null,null,null,null,null,null,null,null,17,null,0,0,0]
[null,18,null,0,0,0,null,null,null,null,null,null,null,null,null,null,null,18,null,0,0,0]
[null,19,null,0,0,0,null,null,null,null,null,null,null,null,null,null,null,19,null,0,0,0]
[null,20,null,0,0,0,null,null,null,null,null,null,null,null,null,null,null,20,null,0,0,0]
["Actualizado",{"$f":"+E99","v":0.08},{"$f":"+NPV($E$99,C164:C183)+C163","v":0},{"$f":"+NPV($E$99,D164:D183)+D163","v":0},{"$f":"+NPV($E$99,E164:E183)+E163","v":0},null,null,null,null,null,null,null,null,null,null,null,"Actualizado",{"$f":"+U99","v":0.08},{"$f":"+NPV($E$99,S164:S183)+S163","v":0},{"$f":"+NPV($E$99,T164:T183)+T163","v":0},{"$f":"+NPV($E$99,U164:U183)+U163","v":0}]
[null,null,null,null,"VAN",{"$f":"+NPV($E$99,F164:F183)+F163","v":0},null,null,null,null,null,null,null,null,null,null,null,null,null,null,"VAN",{"$f":"+NPV($E$99,V164:V183)+V163","v":0}]
[null,null,null,null,"B/C",{"$f":"IFERROR(E184/(C184+D184),)","v":0},null,null,null,null,null,null,null,null,null,null,null,null,null,null,"B/C",{"$f":"IFERROR(U184/(S184+T184),)","v":0}]
[null,null,null,null,"TIR",{"$f":"IFERROR(IRR(F163:F183),)","v":0},null,null,null,null,null,null,null,null,null,null,null,null,null,null,"TIR",{"$f":"IFERROR(IRR(V163:V183),)","v":0}]
[]
[]
[]
[]
[]
[]
[]
[null,null,null,null,1,2,3,4,5,6,7,8,9,10,11,12,13,14,15,16,17,18,19,20]
[null,{"$f":"C196&D196","v":"Beneficio/CostoSIN PROYECTO"},"Beneficio/Costo","SIN PROYECTO",{"$f":"+C109","v":0},{"$f":"+C110","v":0},{"$f":"+C111","v":0},{"$f":"+C112","v":0},{"$f":"+C113","v":0},{"$f":"+C114","v":0},{"$f":"+C115","v":0},{"$f":"+C116","v":0},{"$f":"+C117","v":0},{"$f":"+C118","v":0},{"$f":"+C119","v":0},{"$f":"+C120","v":0},{"$f":"+C121","v":0},{"$f":"+C122","v":0},{"$f":"+C123","v":0},{"$f":"+C124","v":0},{"$f":"+C125","v":0},{"$f":"+C126","v":0},{"$f":"+C127","v":0},{"$f":"+C128","v":0}]
[null,{"$f":"C197&D197","v":"Beneficio/CostoCON PROYECTO"},"Beneficio/Costo","CON PROYECTO",{"$f":"+E109","v":0},{"$f":"+E110","v":0},{"$f":"+E139","v":0},{"$f":"+E112","v":0},{"$f":"+E113","v":0},{"$f":"+E114","v":0},{"$f":"+E115","v":0},{"$f":"+E116","v":0},{"$f":"+E117","v":0},{"$f":"+E118","v":0},{"$f":"+E119","v":0},{"$f":"+E120","v":0},{"$f":"+E121","v":0},{"$f":"+E122","v":0},{"$f":"+E123","v":0},{"$f":"+E124","v":0},{"$f":"+E125","v":0},{"$f":"+E126","v":0},{"$f":"+E127","v":0},{"$f":"+E128","v":0}]
[null,"Beneficio/CostoINCREMENTAL","Beneficio/Costo","INCREMENTAL",{"$f":"+E196-E197","v":0},{"$f":"+F196-F197","v":0},0,0,0,0,0,0,0,0,0,0,0,0,0,0,0,0,0,0]
[null,"Costo/EficienciaSIN PROYECTO","Costo/Eficiencia","SIN PROYECTO",{"$f":"+'D1.Evaluación (C-E)'!N16","v":0},{"$f":"+'D1.Evaluación (C-E)'!O16","v":0},{"$f":"+'D1.Evaluación (C-E)'!P16","v":0},{"$f":"+'D1.Evaluación (C-E)'!Q16","v":0},{"$f":"+'D1.Evaluación (C-E)'!R16","v":0},{"$f":"+'D1.Evaluación (C-E)'!S16","v":0},{"$f":"+'D1.Evaluación (C-E)'!T16","v":0},{"$f":"+'D1.Evaluación (C-E)'!U16","v":0},{"$f":"+'D1.Evaluación (C-E)'!V16","v":0},{"$f":"+'D1.Evaluación (C-E)'!W16","v":0}]
[null,"Costo/EficienciaCON PROYECTO","Costo/Eficiencia","CON PROYECTO",{"$f":"+'D1.Evaluación (C-E)'!N17","v":0},{"$f":"+'D1.Evaluación (C-E)'!O17","v":0},{"$f":"+'D1.Evaluación (C-E)'!P17","v":0},{"$f":"+'D1.Evaluación (C-E)'!Q17","v":0},{"$f":"+'D1.Evaluación (C-E)'!R17","v":0},{"$f":"+'D1.Evaluación (C-E)'!S17","v":0},{"$f":"+'D1.Evaluación (C-E)'!T17","v":0},{"$f":"+'D1.Evaluación (C-E)'!U17","v":0},{"$f":"+'D1.Evaluación (C-E)'!V17","v":0},{"$f":"+'D1.Evaluación (C-E)'!W17","v":0}]
[null,"Costo/EficienciaINCREMENTAL","Costo/Eficiencia","INCREMENTAL",{"$f":"+E199-E200","v":0},{"$f":"+F199-F200","v":0},{"$f":"+G199-G200","v":0},0,0,0,0,0,0,0]

{"sheet":"E2. COV Interurbano","index":15,"n_rows":151,"n_cols":26,"rows_kept":151,"cut":false,"hidden":false,"merged":[[150,1,150,18],[0,17,0,18],[1,1,4,1],[1,2,4,2],[1,3,4,3],[1,4,4,4],[1,5,1,18],[149,1,149,18]]}
[null,null,null,null,null,null,null,null,null,null,null,null,null,null,null,null,null,"HOJA E2. COV Interurbano"]
[null,"Región","Topografía","Superficie","Estado","COV para Carreteras Interurbanas",null,null,null,null,null,null,null,null,null,null,null,null,null,null,null,"Costa","Plano","Concreto Hidráulico","Bueno","Nota: Para Concreto Hidráulico podrá considerar horizonte de evaluación hasta de 25 años, según sustento del Especialista"]
[null,null,"Topografía","Superficie","Estado","Auto","Station Wagon","Camioneta","Camioneta Rural","Microbús","Bus 2 Ejes","Bus 3 Ejes","Bus 4 Ejes","Camión 2 Ejes","Camión 3 Ejes","Camión 4 Ejes","Semitrailer 2 Ejes","Semitrailer 3 Ejes","Articulado",null,null,"Sierra","Ondulado","Asfaltado","Regular",""]
[null,null,null,null,null,"AU","SW","CA","CR","MB","B2","B3","B4","C2","C3","C4","S2","S3","TR",null,null,"Selva","Accidentado","Tratamiento Superficial","Malo","Nota: Para Tratamiento superficial podrá considerar horizonte de evaluación hasta de 15 años como máximo, según sustento del Especialista"]
[null,null,null,null,null,"$/veh-km","$/veh-km","$/veh-km","$/veh-km","$/veh-km","$/veh-km","$/veh-km","$/veh-km","$/veh-km","$/veh-km","$/veh-km","$/veh-km","$/veh-km","$/veh-km",null,null,null,null,"Afirmado",null,"Nota: Para Afirmado el horizonte de evaluación es hasta de 10 años como máximo "]
[{"$f":"B6&C6&D6&E6","v":"CostaPlanoConcreto HidráulicoBueno"},"Costa","Plano","Concreto Hidráulico","Bueno",0.29142327841155691,0.2973431931573407,0.55830499202522255,0.70060295567823594,1.2334082119670458,1.9942612297816791,2.120179854015968,2.3887609594161234,0.4833418277509875,0.65423985915829019,1.0116591014126501,1.1258922343671753,1.3382161735394902,1.4463364570641191,null,null,null,null,"Sin Afirmar"]
[{"$f":"B7&C7&D7&E7","v":"CostaPlanoConcreto HidráulicoRegular"},"Costa","Plano","Concreto Hidráulico","Regular",0.30460896013744526,0.31311352667199716,0.58548824878685601,0.72238300967227875,1.2593431265580657,2.0297038407762025,2.1577718993762072,2.4399334472454322,0.54655664645136959,0.75219983253990086,1.1425103503182461,1.2367017948749459,1.4759834668991945,1.6017166094257311,null,null,null,null,"Trocha"]
["CostaPlanoConcreto HidráulicoMalo","Costa","Plano","Concreto Hidráulico","Malo",0.32193113866866907,0.33396952777302147,0.62343137319349828,0.75477652899451508,1.2964218813286141,2.0851178269487769,2.2133969355213043,2.5105250171307807,0.60692589777825423,0.84770952027032642,1.2724311748677151,1.3502393993286859,1.6169358494756985,1.7606467950091513]
["CostaPlanoAsfaltadoBueno","Costa","Plano","Asfaltado","Bueno",0.2954563918221999,0.30214886504862798,0.56640383073538969,0.70694213236975034,1.2411714895242838,2.0045386809966499,2.1313145848275332,2.4042897430464683,0.50493674899900476,0.6873811463118179,1.0554788375617867,1.1627824954237809,1.384059537914728,1.4980246943106605]
["CostaPlanoAsfaltadoRegular","Costa","Plano","Asfaltado","Regular",0.31559422727944236,0.32633166254501239,0.60935500266895726,0.74254796875392748,1.2824549130644884,2.0637282348654935,2.1922235891328072,2.4841870433208371,0.58696143435684489,0.81597959476158632,1.2291412599229572,1.3118373813238169,1.5693238143248436,1.7069878667575269]
["CostaPlanoAsfaltadoMalo","Costa","Plano","Asfaltado","Malo",0.33662222716558804,0.35168953671265057,0.65653453115025173,0.78418543857062162,1.3302528865834935,2.1386098261154536,2.2654538107656701,2.5735012595792339,0.646681220468178,0.91117237334162637,1.359164317060142,1.4292958659125388,1.7146981798013892,1.87069164279195]
["CostaPlanoTratamiento SuperficialBueno","Costa","Plano","Tratamiento Superficial","Bueno",0.29983345972642489,0.30738441977607156,0.57541873549194122,0.71414985777600126,1.2497490602299393,2.0162228883719502,2.1437301905683341,2.4212280922300149,0.52595396863300381,0.71997827750554633,1.0990730052506394,1.1996688020125892,1.4299287992377754,1.5497620449313538]
["CostaPlanoTratamiento SuperficialRegular","Costa","Plano","Tratamiento Superficial","Regular",0.32193113866866907,0.33396952777302147,0.62343137319349828,0.75477652899451508,1.2964218813286141,2.0851178269487769,2.2133969355213043,2.5105250171307807,0.60692589777825423,0.84770952027032642,1.2724311748677151,1.3502393993286859,1.6169358494756985,1.7606467950091513]
["CostaPlanoTratamiento SuperficialMalo","Costa","Plano","Tratamiento Superficial","Malo",0.36466543081609254,0.3855303803266138,0.72034253874995147,0.84219027721719553,1.3983234903538859,2.2499330012648544,2.3721037015326276,2.6981594747029716,0.70654009653818717,1.007083129039436,1.4901531578848168,1.5542275861475017,1.8685397115541125,2.04343642390358]
["CostaPlanoAfirmadoBueno","Costa","Plano","Afirmado","Bueno",0.33662222716558804,0.35168953671265057,0.65653453115025173,0.78418543857062162,1.3302528865834935,2.1386098261154536,2.2654538107656701,2.5735012595792339,0.646681220468178,0.91117237334162637,1.359164317060142,1.4292958659125388,1.7146981798013892,1.87069164279195]
["CostaPlanoAfirmadoRegular","Costa","Plano","Afirmado","Regular",0.37585401034546267,0.39903958915579701,0.74580741232129688,0.86551491296587979,1.4260869172665647,2.2959547203002986,2.4159989770710375,2.7485214178544992,0.72668962518500846,1.0393903753772102,1.5341672765254373,1.5975242194351886,1.9217028705897894,2.103016984060643]
["CostaPlanoAfirmadoMalo","Costa","Plano","Afirmado","Malo",0.37219663922215473,0.38790049393511961,0.74195521336570447,0.89885013404769332,1.5629917563234756,2.5236559640201408,2.6337158548880417,2.9945023403137219,0.80888660262244572,1.1709460494015078,1.712553213678377,1.7774877602041181,2.1420403209834649,2.3494703183660643]
["CostaPlanoSin AfirmarRegular","Costa","Plano","Sin Afirmar","Regular",0.41188756251712466,0.42791504306156086,0.8200884934450916,1.0094617227193348,1.7223770067310884,2.8175597953010829,2.9106640906399988,3.2797786546437493,0.79431076395033318,1.1579294735511003,1.701276365715406,1.8008890712199619,2.1673320630540531,2.3759267187359216]
["CostaPlanoSin AfirmarMalo","Costa","Plano","Sin Afirmar","Malo",0.43902424674133317,0.45728866061503942,0.88300681644377921,1.0829445725320153,1.8663620260703198,3.0454986469889365,3.1352266765847259,3.5348076872183989,0.88135751207500435,1.2952412180281947,1.8849956692139915,1.9811485531482262,2.3882269833600049,2.6230214724825176]
["CostaPlanoTrochaRegular","Costa","Plano","Trocha","Regular",0.42483143546320878,0.44198562611237341,0.85027076404816027,1.0443886086738956,1.7898231322666283,2.9242194731341105,3.0157309334951141,3.3996038536565112,0.83739057957877971,1.2260088438442085,1.7925332468431994,1.8899470622791001,2.2765923961086774,2.4982194988125888]
["CostaPlanoTrochaMalo","Costa","Plano","Trocha","Malo",0.50640036773603014,0.52892258273667891,1.0344978307071839,1.2665590775687394,2.2138276463762123,3.6085629642364632,3.6916506329129644,4.1127031040386557,1.0652443393057089,1.5824194657581481,2.266386076342723,2.3598980276107642,2.8502811433629542,3.1386160366069698]
["CostaOnduladoConcreto HidráulicoBueno","Costa","Ondulado","Concreto Hidráulico","Bueno",0.31707777271084142,0.32322637641570712,0.62817722873999493,0.80104554345895052,1.405361488948065,2.3245837781181167,2.5292619130617067,2.8272646832877011,0.56606765552157146,0.80956843511388132,1.283246705309697,1.364523914996095,1.5946269541142719,1.7151695428691394]
["CostaOnduladoConcreto HidráulicoRegular","Costa","Ondulado","Concreto Hidráulico","Regular",0.3300325764669656,0.338744038230056,0.65432269580757396,0.82132689230411715,1.4297044071264697,2.3572766832622372,2.5639551047907903,2.8751686964104044,0.62947830535945459,0.90730911667796343,1.414661700183051,1.4739715003629414,1.731108289088986,1.868650245935807]
["CostaOnduladoConcreto HidráulicoMalo","Costa","Ondulado","Concreto Hidráulico","Malo",0.34670744144793703,0.35888984137926472,0.68982485074991051,0.85021690581758036,1.4629121432609102,2.405225461167579,2.6123696376134613,2.9379330095537761,0.68974693914695973,1.0021562812939444,1.5447926335544107,1.5836974993012836,1.8682593779510341,2.0227508767193982]
["CostaOnduladoAsfaltadoBueno","Costa","Ondulado","Asfaltado","Bueno",0.32106479412071148,0.32798184208013276,0.63604906778823067,0.80705529710825075,1.412762077676079,2.3342299172397469,2.5397473046871304,2.8420390416301058,0.58775053501481822,0.84267112625566842,1.3272804286963593,1.4011277909886686,1.6402114411127153,1.7664239240683721]
["CostaOnduladoAsfaltadoRegular","Costa","Ondulado","Asfaltado","Regular",0.34064770307632708,0.35155589147766142,0.67674879043638647,0.83942255214470285,1.4505714212420946,2.3870288000272724,2.5942362508377652,2.9148769509253656,0.66985903760408283,0.97071060129467757,1.5014846816405356,1.5469344758224342,1.8222972950780041,1.9711445051985166]
["CostaOnduladoAsfaltadoMalo","Costa","Ondulado","Asfaltado","Malo",0.36062450530320883,0.37576395626155329,0.72033090518325982,0.87590722881253824,1.4922966547432694,2.4498825247279736,2.6560775199578992,2.9919476011206076,0.72919297844970288,1.0648240318972397,1.6313720016676343,1.6582318973395676,1.9614063194032378,2.1271920873695227]
["CostaOnduladoTratamiento SuperficialBueno","Costa","Ondulado","Tratamiento Superficial","Bueno",0.32536793306427203,0.33313650722254989,0.6447263951108213,0.81377536323037447,1.4208259419343328,2.3450699752780326,2.5512288955139639,2.8579220587572176,0.60883508928632113,0.87519819228190832,1.3710652408108335,1.437581230631688,1.6856738334707118,1.8175534636936395]
["CostaOnduladoTratamiento SuperficialRegular","Costa","Ondulado","Tratamiento Superficial","Regular",0.34670744144793703,0.35888984137926472,0.68982485074991051,0.85021690581758036,1.4629121432609102,2.405225461167579,2.6123696376134613,2.9379330095537761,0.68974693914695973,1.0021562812939444,1.5447926335544107,1.5836974993012836,1.8682593779510341,2.0227508767193982]
["CostaOnduladoTratamiento SuperficialMalo","Costa","Ondulado","Tratamiento Superficial","Malo",0.38691984280779079,0.40771261165967931,0.77885799934046496,0.92636170617248836,1.5505439554697118,2.5417882527225024,2.7441588316617129,3.0967767008776654,0.78813613573073427,1.1588968255575056,1.7615725713559596,1.773513416391161,2.1052442333341923,2.2881348771559917]
["CostaOnduladoAfirmadoBueno","Costa","Ondulado","Afirmado","Bueno",0.36062450530320883,0.37576395626155329,0.72033090518325982,0.87590722881253824,1.4922966547432694,2.4498825247279736,2.6560775199578992,2.9919476011206076,0.72919297844970288,1.0648240318972397,1.6313720016676343,1.6582318973395676,1.9614063194032378,2.1271920873695227]
["CostaOnduladoAfirmadoRegular","Costa","Ondulado","Afirmado","Regular",0.39737997727283964,0.42044082665015958,0.80226794358971876,0.94675006294038111,1.5742588845731973,2.5799361334330926,2.7803561282750913,3.1389346577311019,0.80785006075206123,1.190407627952395,1.8051587538838794,1.8129999932639858,2.1544371852720059,2.343121667300863]
["CostaOnduladoAfirmadoMalo","Costa","Ondulado","Afirmado","Malo",0.39032737401499995,0.40571880047406012,0.78947387347079823,0.96730759755073048,1.6924472370221959,2.7724748942219604,2.9626328014159991,3.3466000581056834,0.88766289470437643,1.3178868235814494,1.9809685916314561,1.976414117371758,2.3573360541347204,2.5698781085869484]
["CostaOnduladoSin AfirmarRegular","Costa","Ondulado","Sin Afirmar","Regular",0.44049008809465579,0.4560641855197512,0.88262485822479342,1.0989139071168414,1.8931250665528876,3.1426288820432027,3.3014449448626255,3.6928884126990855,0.83986941154396455,1.2807227293988295,1.9523132989200087,1.9980974783316761,2.3805106290330471,2.5933267264262509]
["CostaOnduladoSin AfirmarMalo","Costa","Ondulado","Sin Afirmar","Malo",0.46424767312248516,0.48202488692581646,0.93781162573679178,1.1613877067403504,2.0177788942882602,3.3367652326745461,3.4914253097966932,3.9115650149327652,0.92615152156544034,1.4139491563845921,2.1326883003805048,2.165216724457887,2.5873599338927202,2.825239155249017]
["CostaOnduladoTrochaRegular","Costa","Ondulado","Trocha","Regular",0.45181883252378574,0.46850034364683124,0.90902399346536378,1.1284548699324459,1.951216776964537,3.2328405491321295,3.3898223030450634,3.7951757397296668,0.88257720091293312,1.3468080256710591,2.0420036826756527,2.0805185724707593,2.482620883923655,2.70787365467047]
["CostaOnduladoTrochaMalo","Costa","Ondulado","Trocha","Malo",0.52431254860705434,0.54635854782900251,1.0740769751756543,1.3232945413731871,2.3262566333232058,3.8341970408919921,3.9774275982785863,4.4152150194708879,1.1087906214097167,1.6931894276569917,2.5061860555703719,2.5235524974736463,3.0287233728704446,3.318640875256472]
["CostaAccidentadoConcreto HidráulicoBueno","Costa","Accidentado","Concreto Hidráulico","Bueno",0.36853166328719944,0.37448281928727117,0.75495932249643305,0.98134113366755726,1.8048039632988495,3.0659682481396842,3.4331571278054587,3.7990225558484294,0.65858475053848853,1.0558312704305779,1.720971661720206,1.8031948708835457,2.064255199510272,2.2152845749994143]
["CostaAccidentadoConcreto HidráulicoRegular","Costa","Accidentado","Concreto Hidráulico","Regular",0.38111938457917172,0.3896122447438527,0.7793127102474382,0.99873731717139469,1.8260609441667159,3.0948620273202989,3.464646979226909,3.8432648393735289,0.72318536342821194,1.1550199137587045,1.8568746294074787,1.9165198759542683,2.2050968684975238,2.3730856555372903]
["CostaAccidentadoConcreto HidráulicoMalo","Costa","Accidentado","Concreto Hidráulico","Malo",0.396968068015152,0.40888503801054898,0.81171456030742417,1.0231785417101462,1.8529464704079794,3.1327864931207228,3.504071074282344,3.8963033039749102,0.7845587982674761,1.2510080988386292,1.9913317272486688,2.0285352573564266,2.3448879251390378,2.5297813465591612]
["CostaAccidentadoAsfaltadoBueno","Costa","Accidentado","Asfaltado","Bueno",0.37242953302169374,0.37914391136468356,0.76234084890973342,0.98654223330086288,1.8114103149272816,3.0748617886931222,3.4429898035170745,3.8130112258351545,0.6806687031949431,1.0894383003919543,1.7665074586652039,1.8411828325645847,2.1113922952096233,2.2680771690916233]
["CostaAccidentadoAsfaltadoRegular","Costa","Accidentado","Asfaltado","Regular",0.39125309366632299,0.40191531075215364,0.79985273578349803,1.0140963278180763,1.8432009079071956,3.1188537238548393,3.4898114381883358,3.8774087441376164,0.76431715377929321,1.2192286471942926,1.9466117500515785,1.99127653495269,2.2983353077066613,2.4776043031970132]
["CostaAccidentadoAsfaltadoMalo","Costa","Accidentado","Asfaltado","Malo",0.40993535233138628,0.4247567503831905,0.83917376971384638,1.0445674612199705,1.8753233517749874,3.1654928035276746,3.5367500658767153,3.9385474739146957,0.82465422517774811,1.314167591123691,2.0806091806590885,2.1030089247504726,2.4380798992773531,2.63417445334193]
["CostaAccidentadoTratamiento SuperficialBueno","Costa","Accidentado","Tratamiento Superficial","Bueno",0.37661368391170258,0.38417273904861049,0.7704288670079632,0.99231207907103947,1.8184693774952798,3.0844447128315351,3.4534469436224065,3.8277189844591302,0.70215090654968693,1.122450474335515,1.8117905934847784,1.8789438530582532,2.158324573884963,2.3206631985552195]
["CostaAccidentadoTratamiento SuperficialRegular","Costa","Accidentado","Tratamiento Superficial","Regular",0.396968068015152,0.40888503801054898,0.81171456030742417,1.0231785417101462,1.8529464704079794,3.1327864931207228,3.504071074282344,3.8963033039749102,0.7845587982674761,1.2510080988386292,1.9913317272486688,2.0285352573564266,2.3448879251390378,2.5297813465591612]
["CostaAccidentadoTratamiento SuperficialMalo","Costa","Accidentado","Tratamiento Superficial","Malo",0.43404232043132163,0.45440320124391664,0.89150152294863894,1.0862580754780065,1.9178020455773772,3.229685550636014,3.5987490816775951,4.0156612466543473,0.88438852877167817,1.4084421541289613,2.2144413875525846,2.2152095605058468,2.5787683500166367,2.7914928593512935]
["CostaAccidentadoAfirmadoBueno","Costa","Accidentado","Afirmado","Bueno",0.40993535233138628,0.4247567503831905,0.83917376971384638,1.0445674612199705,1.8753233517749874,3.1654928035276746,3.5367500658767153,3.9385474739146957,0.82465422517774811,1.314167591123691,2.0806091806590885,2.1030089247504726,2.4380798992773531,2.63417445334193]
["CostaAccidentadoAfirmadoRegular","Costa","Accidentado","Afirmado","Regular",0.44355569893154856,0.466139038866277,0.91242771865113936,1.1031323277198029,1.9347933569177764,3.2559143475470664,3.623574790341618,4.0457424784069866,0.90430948868422067,1.4398560665505489,2.2591034482399799,2.2529030967829544,2.626090734160897,2.8443002695972663]
["CostaAccidentadoAfirmadoMalo","Costa","Accidentado","Afirmado","Malo",0.4317349221956962,0.44645434901668912,0.88807102975558549,1.1073133808966462,2.0196945715414296,3.3896123971397216,3.7480145000051786,4.1924427831375413,0.98464303837775857,1.5660457344794338,2.4384277968918795,2.4062044011558372,2.8187148064851444,3.0585416282072169]
["CostaAccidentadoSin AfirmarRegular","Costa","Accidentado","Sin Afirmar","Regular",0.48331000473642877,0.49789470553911691,0.97423888910378631,1.2286383039193083,2.1939299873322455,3.7156715078982772,4.0242970755467518,4.4680364422101722,0.93447065015590003,1.542137498453712,2.4256159933685044,2.4141485290280515,2.8276425363330682,3.0659964549189809]
["CostaAccidentadoSin AfirmarMalo","Costa","Accidentado","Sin Afirmar","Malo",0.50360529858938641,0.52038236180284403,1.0212465506897113,1.279540347384843,2.295019436065886,3.8708753525865105,4.1737915591970545,4.6433081594725083,1.01955036796278,1.6699980692088325,2.6062069897348072,2.5724359947332576,3.0265335342211275,3.2864726765135734]
["CostaAccidentadoTrochaRegular","Costa","Accidentado","Trocha","Regular",0.49302162901228025,0.50870678646346079,0.99670444200865083,1.2526168587146225,2.2409016406730755,3.7875095430946111,4.0936941338067472,4.5499741868243806,0.9766221657511126,1.6057621682364509,2.515636287925239,2.492509075088805,2.926121388778685,3.1752807727892991]
["CostaAccidentadoTrochaMalo","Costa","Accidentado","Trocha","Malo",0.55499032923998792,0.57607685803751552,1.1394538885827277,1.4158420212366187,2.5481414882341378,4.2781803848706161,4.5621037125477315,5.041963923531096,1.1997696003895979,1.9352650765967334,2.9761640715727271,2.9099191098735684,3.4494229891472608,3.7534572398570663]
["SierraPlanoConcreto HidráulicoBueno","Sierra","Plano","Concreto Hidráulico","Bueno",0.39051040865212755,0.37986455668627384,0.71982042456160933,0.71782749091056341,1.1710206539884842,1.919634198690952,1.958646285252152,2.2503373207500892,0.57447883876314265,0.77265937124587736,1.089663539117474,1.4063024663242472,1.4782098113313114,1.5944541776460925]
["SierraPlanoConcreto HidráulicoRegular","Sierra","Plano","Concreto Hidráulico","Regular",0.40446052075025196,0.39508217547419711,0.74519161554763469,0.73630561656892923,1.1911354499517761,1.9470402521605583,1.9875718955574309,2.2925295461106501,0.64526244542568889,0.86322774559832127,1.2193807628236339,1.5354596201276516,1.6132130307465664,1.7469253612692832]
["SierraPlanoConcreto HidráulicoMalo","Sierra","Plano","Concreto Hidráulico","Malo",0.42209304601307152,0.41441138560683005,0.77882182431945868,0.76090984904374814,1.2160232718645252,1.9808478614416607,2.0229810136824047,2.3423184651654081,0.71273818478569184,0.95083340386003024,1.3478405773095077,1.6640688882714449,1.7478087013001808,1.8990975231015814]
["SierraPlanoAsfaltadoBueno","Sierra","Plano","Asfaltado","Bueno",0.39482245849446373,0.38455760629784375,0.72752517259025351,0.72343918664931994,1.1773118828115046,1.9282277744779108,1.9677389439447004,2.2637398787072738,0.59863440374297572,0.80337800342329757,1.1331332275887736,1.4495357440923342,1.523379358727978,1.6454386099219966]
["SierraPlanoAsfaltadoRegular","Sierra","Plano","Asfaltado","Regular",0.41572908699599992,0.40742741127827187,0.76652019201147659,0.75188941234395656,1.2070713511038405,1.9686846906838606,2.0102730861614933,2.3246815035888986,0.69046976653229253,0.92181039910149687,1.3050820704970507,1.6211350534434141,1.70286012498636,1.8482731671892807]
["SierraPlanoAsfaltadoMalo","Sierra","Plano","Asfaltado","Malo",0.43654863226779328,0.43029478138324684,0.80726838149386226,0.78184778192936422,1.2363139943003565,2.0084650774452832,2.051726486549589,2.3813688042146119,0.75686974411158958,1.0086248709609198,1.4333558393280057,1.7505279795493216,1.838368292321102,2.0014770225056187]
["SierraPlanoTratamiento SuperficialBueno","Sierra","Plano","Tratamiento Superficial","Bueno",0.39945948944188109,0.38961601120336636,0.73595093685047486,0.72957313181625105,1.1839954411855906,1.9373320889555588,1.9773494758879508,2.2777704908265237,0.62217727685014601,0.83351446123455841,1.1763511117221159,1.4925650901517078,1.5683568656309756,1.696238041308767]
["SierraPlanoTratamiento SuperficialRegular","Sierra","Plano","Tratamiento Superficial","Regular",0.42209304601307152,0.41441138560683005,0.77882182431945868,0.76090984904374814,1.2160232718645252,1.9808478614416607,2.0229810136824047,2.3423184651654081,0.71273818478569184,0.95083340386003024,1.3478405773095077,1.6640688882714449,1.7478087013001808,1.8990975231015814]
["SierraPlanoTratamiento SuperficialMalo","Sierra","Plano","Tratamiento Superficial","Malo",0.46346264078421612,0.45990892150217516,0.86137545727526288,0.8218591608669551,1.2740292488137215,2.0600229258808982,2.1050908454308894,2.4514303512267355,0.82262599283068982,1.0952905241482882,1.5620750866913682,1.8828887911291079,1.9770949615208875,2.1581593008457385]
["SierraPlanoAfirmadoBueno","Sierra","Plano","Afirmado","Bueno",0.43654863226779328,0.43029478138324684,0.80726838149386226,0.78184778192936422,1.2363139943003565,2.0084650774452832,2.051726486549589,2.3813688042146119,0.75686974411158958,1.0086248709609198,1.4333558393280057,1.7505279795493216,1.838368292321102,2.0014770225056187]
["SierraPlanoAfirmadoRegular","Sierra","Plano","Afirmado","Regular",0.47409597690457966,0.47161937498892709,0.88297594705225602,0.83785865945657956,1.2888882048558317,2.0804125251969441,2.1261169175417938,2.4783853476320226,0.8445478389413692,1.124303193254222,1.6052033023313856,1.9280146249288068,2.0244072150856174,2.21153048972148]
["SierraPlanoAfirmadoMalo","Sierra","Plano","Afirmado","Malo",0.45870882844002675,0.45176225468520426,0.86167251521381993,0.83668897412496568,1.3618219435438361,2.1809678891029303,2.2294015885146257,2.6074011680148925,0.93285642553499426,1.2416166918191744,1.7793711103556633,2.1149484966655399,2.2204019114769995,2.4321896335930671]
["SierraPlanoSin AfirmarRegular","Sierra","Plano","Sin Afirmar","Regular",0.54579641395951772,0.53519641527101569,1.0260567756157513,1.0067761051178088,1.6065190106242297,2.5619638034294603,2.611997468492687,3.0090947251309261,1.0118043089186399,1.3214037489988779,1.862703998336648,2.2384898018593988,2.3446993933205786,2.5628335780930662]
["SierraPlanoSin AfirmarMalo","Sierra","Plano","Sin Afirmar","Malo",0.56565484914636244,0.55584841642083616,1.0701592748676576,1.0453626342706852,1.683941597020062,2.6666426088957835,2.7193121959157485,3.1441203354496952,1.0985657349613069,1.4373944808522268,2.0359515993243136,2.419342277174501,2.5343998447790876,2.7769682759516332]
["SierraPlanoTrochaRegular","Sierra","Plano","Trocha","Regular",0.55535792103269011,0.54517217112242111,1.0471847973529871,1.0251110378927701,1.6427015827484361,2.6108063360834137,2.6621396899470207,3.0726846320199099,1.0550356415516111,1.3791196539940658,1.9489833878429277,2.3279058728226967,2.4385186486165917,2.6688052829915141]
["SierraPlanoTrochaMalo","Sierra","Plano","Trocha","Malo",0.6149616217511974,0.60627608306592484,1.1806478085240928,1.1456746213384332,1.8652020546160972,2.9198311010916802,2.9781964247571411,3.4181886639987287,1.2771350195915088,1.6775359195974784,2.3921030518070863,2.80744214240856,2.9406027506449752,3.2336561147381175]
["SierraOnduladoConcreto HidráulicoBueno","Sierra","Ondulado","Concreto Hidráulico","Bueno",0.40270026731202879,0.39135958466841453,0.75819712478215384,0.7581968544041956,1.2084000343146006,2.1045077262464664,2.1537944884201021,2.4613502910239964,0.63281052478801003,0.96308902966132182,1.3273758109760543,1.6265033107201206,1.6724021392660444,1.793420202812986]
[{"$f":"B71&C71&D71&E71","v":"SierraOnduladoConcreto HidráulicoRegular"},"Sierra","Ondulado","Concreto Hidráulico","Regular",0.41655178352131755,0.40649081252429398,0.78299572231807002,0.77603096966835472,1.2283113647011994,2.1332784979600254,2.1834652212685937,2.5043004925352728,0.70394719991417831,1.0535410340416955,1.4586972420238971,1.7569296643527643,1.8085053537152775,1.9468089221755711]
["SierraOnduladoConcreto HidráulicoMalo","Sierra","Ondulado","Concreto Hidráulico","Malo",0.43405941799279524,0.42567697477899075,0.81574913313379049,0.79967942009725856,1.2528333006541239,2.167958509775052,2.2192079781974239,2.5543994883141741,0.77170860836015198,1.1408746578814395,1.5886186829578735,1.8863432246490972,1.9437763519732361,2.0994452057052504]
["SierraOnduladoAsfaltadoBueno","Sierra","Ondulado","Asfaltado","Bueno",0.40698422233137344,0.39602845916252194,0.76573537260877178,0.76361881642546769,1.214634466579259,2.1135871266502981,2.1631600553556227,2.4750322444766475,0.65708800579050342,0.99377794054224666,1.3713877540408186,1.6701819125820618,1.7179581973950011,1.8447316098694786]
["SierraOnduladoAsfaltadoRegular","Sierra","Ondulado","Asfaltado","Regular",0.42773790737943457,0.4187450883353529,0.80378266986838054,0.79102159113217363,1.2440288194088711,2.1555846465383501,2.2064571730121703,2.5367335054762976,0.74935576749677368,1.1119676984192974,1.5453970246394866,1.8432256191281102,1.8986806967880687,2.0485494256864665]
["SierraOnduladoAsfaltadoMalo","Sierra","Ondulado","Asfaltado","Malo",0.44838905217367719,0.44143561475624876,0.84337382596635535,0.81973650150724631,1.2727296533171832,2.1956755270925425,2.2477620691663134,2.5932065512317086,0.81596679032722574,1.1983356864799395,1.6749650548510855,1.9728076341085286,2.0342897573611709,2.2016052063094307]
["SierraOnduladoTratamiento SuperficialBueno","Sierra","Ondulado","Tratamiento Superficial","Bueno",0.41158888534743449,0.40105854907382787,0.77397219278272489,0.76954006483866455,1.2212515052279445,2.1231507221638397,2.1730228610926368,2.4893197564925527,0.6807492054178047,1.0238772704716186,1.4151420464826439,1.7136394615021244,1.7633070651148186,1.8958419257709374]
["SierraOnduladoTratamiento SuperficialRegular","Sierra","Ondulado","Tratamiento Superficial","Regular",0.43405941799279524,0.42567697477899075,0.81574913313379049,0.79967942009725856,1.2528333006541239,2.167958509775052,2.2192079781974239,2.5543994883141741,0.77170860836015198,1.1408746578814395,1.5886186829578735,1.8863432246490972,1.9437763519732361,2.0994452057052504]
["SierraOnduladoTratamiento SuperficialMalo","Sierra","Ondulado","Tratamiento Superficial","Malo",0.47498644493001779,0.47074021076450628,0.89595618302380842,0.85817694060424254,1.3095431964572553,2.2463481820335507,2.3005044923071671,2.6619287430312157,0.88178040749552788,1.2842038672658866,1.8046334044804819,2.1039840595506525,2.1718449745402255,2.3568127706121467]
["SierraOnduladoAfirmadoBueno","Sierra","Ondulado","Afirmado","Bueno",0.44838905217367719,0.44143561475624876,0.84337382596635535,0.81973650150724631,1.2727296533171832,2.1956755270925425,2.2477620691663134,2.5932065512317086,0.81596679032722574,1.1983356864799395,1.6749650548510855,1.9728076341085286,2.0342897573611709,2.2016052063094307]
["SierraOnduladoAfirmadoRegular","Sierra","Ondulado","Afirmado","Regular",0.48547496102188686,0.48230991831359232,0.91698699442851184,0.87358990468253228,1.324006528346487,2.2661145394538154,2.3210602727888729,2.6882175832062347,0.90367983222454551,1.3128587303734052,1.8479858193378156,2.1483225219276374,2.2184407009697997,2.4093467921810054]
["SierraOnduladoAfirmadoMalo","Sierra","Ondulado","Afirmado","Malo",0.46930020269899253,0.46169165775094567,0.89285493877765354,0.86949949054957021,1.3948618451518429,2.3623505208623974,2.421016051792567,2.813453754101356,0.99166428153483899,1.4282457102709274,2.0225419216058569,2.3300573149848427,2.409969216172049,2.6249688522666732]
["SierraOnduladoSin AfirmarRegular","Sierra","Ondulado","Sin Afirmar","Regular",0.55938165395205453,0.54803355846213431,1.0602611763449354,1.0425990858716765,1.6514429522911978,2.7343173671408936,2.8025621369701468,3.212307987217661,1.0440632923217656,1.4716799797943945,2.0675256105917641,2.4197879606634958,2.509091066799507,2.7288842507713031]
["SierraOnduladoSin AfirmarMalo","Sierra","Ondulado","Sin Afirmar","Malo",0.57864854503910657,0.56811872212517511,1.1024600740570119,1.0792125422416712,1.7268849167021632,2.8365453379106413,2.908206127743691,3.345443766989304,1.1315647911020321,1.5878400224010016,2.2431260731801492,2.6002293717392684,2.6993096504575136,2.9433540418912592]
["SierraOnduladoTrochaRegular","Sierra","Ondulado","Trocha","Regular",0.56867529879086243,0.55775239487067552,1.0805020929713745,1.0600151135145774,1.6867194578618516,2.7821545803155479,2.8520474506135685,3.2751462472603619,1.0876611267913721,1.5295042803649892,2.1550103663330011,2.5092007937496086,2.6032792963079654,2.8351376458996427]
["SierraOnduladoTrochaMalo","Sierra","Ondulado","Trocha","Malo",0.62615699264396907,0.61683038179144511,1.2079353183968939,1.1743128286992508,1.9024726348655594,3.0800943574257147,3.1600283787579952,3.6116906262960349,1.311719141923857,1.827907940058646,2.6034208505885066,2.9835887628767264,3.1048565779934667,3.3989658906721161]
["SierraAccidentadoConcreto HidráulicoBueno","Sierra","Accidentado","Concreto Hidráulico","Bueno",0.43511889908041446,0.42184980470352695,0.84574049565256482,0.85153614457918936,1.3195659841389487,2.5588655880986662,2.6266415668626855,2.9760704536833935,0.70593931825473943,1.3314872001224252,1.7365381686123402,2.073011898211921,2.0889652926881639,2.2372330796021558]
["SierraAccidentadoConcreto HidráulicoRegular","Sierra","Accidentado","Concreto Hidráulico","Regular",0.44887412664865123,0.43687175944638462,0.86983365369617061,0.86842638906081626,1.3386939663142623,2.5887001302152468,2.6583295081989715,3.0208226154210074,0.77820512470344549,1.4241646464451114,1.8725478538650731,2.2073561972897755,2.2300453916901044,2.395223941206531]
["SierraAccidentadoConcreto HidráulicoMalo","Sierra","Accidentado","Concreto Hidráulico","Malo",0.46610949037585037,0.45581025533678399,0.90139287631207898,0.89083330178700304,1.3619843173753448,2.6229915042170879,2.6952500407732076,3.0717945698533322,0.84709666354960333,1.5135568749353681,2.0071363830316904,2.3402991352088751,2.3699950269340149,2.5520653217379361]
["SierraAccidentadoAsfaltadoBueno","Sierra","Accidentado","Asfaltado","Bueno",0.4393802657636896,0.42649137787926683,0.85308232868340905,0.8566289731315343,1.3255704063861566,2.5686805458808526,2.6367314375556092,2.9904110969820685,0.73059096661578793,1.3629274736431849,1.7821072651104255,2.1180112525608008,2.1361859517321409,2.2900908638804682]
["SierraAccidentadoAsfaltadoRegular","Sierra","Accidentado","Asfaltado","Regular",0.45990913216022711,0.44898663631112018,0.88989403173878301,0.88266118196693089,1.3536600325751544,2.6109029395403747,2.6822440305715269,3.0539890187743732,0.82436913448297866,1.483991460600935,1.9623694138669565,2.2960809040454047,2.3234041286767511,2.4998481650595168]
["SierraAccidentadoAsfaltadoMalo","Sierra","Accidentado","Asfaltado","Malo",0.48011642770062335,0.4712557769465251,0.92783318241656842,0.90966139393129208,1.3806486612129207,2.6495191838707823,2.7237613657177877,3.110272337629735,0.89209179278650175,1.5722233360665638,2.096518342224313,2.4286191198829701,2.463197356437608,2.6564991094388013]
["SierraAccidentadoTratamiento SuperficialBueno","Sierra","Accidentado","Tratamiento Superficial","Bueno",0.44395384629705842,0.43148602376575407,0.86108713700623651,0.86222430798798433,1.3319297870437086,2.5784486313778583,2.6472742736887009,3.0053075926244843,0.75462895290515719,1.3937703613032337,1.8274258718458858,2.1627795666404408,2.1831984820230623,2.3427406337118661]
["SierraAccidentadoTratamiento SuperficialRegular","Sierra","Accidentado","Tratamiento Superficial","Regular",0.46610949037585037,0.45581025533678399,0.90139287631207898,0.89083330178700304,1.3619843173753448,2.6229915042170879,2.6952500407732076,3.0717945698533322,0.84709666354960333,1.5135568749353681,2.0071363830316904,2.3402991352088751,2.3699950269340149,2.5520653217379361]
["SierraAccidentadoTratamiento SuperficialMalo","Sierra","Accidentado","Tratamiento Superficial","Malo",0.50597559875384657,0.49984509974815744,0.97779658343496312,0.9453366175262734,1.4147618654620413,2.6964213316775258,2.7740915499391536,3.1765376992863579,0.95896199118072245,1.6595380897659944,2.2305350790498184,2.5613251849280836,2.6036566706059259,2.8137276476287427]
["SierraAccidentadoAfirmadoBueno","Sierra","Accidentado","Afirmado","Bueno",0.48011642770062335,0.4712557769465251,0.92783318241656842,0.90966139393129208,1.3806486612129207,2.6495191838707823,2.7237613657177877,3.110272337629735,0.89209179278650175,1.5722233360665638,2.096518342224313,2.4286191198829701,2.463197356437608,2.6564991094388013]
["SierraAccidentadoAfirmadoRegular","Sierra","Accidentado","Afirmado","Regular",0.51613812321869268,0.51109927478748562,0.99769600561732397,0.95955983048914684,1.4280603607486799,2.7142976490462085,2.7932526216140294,3.201292855251574,0.98119640807299968,1.6885578330722928,2.2752660271304275,2.6057606190410363,2.6508154727477988,2.8664495053525623]
["SierraAccidentadoAfirmadoMalo","Sierra","Accidentado","Afirmado","Malo",0.49821560484546668,0.48879225998665565,0.9680723473047137,0.94971083595930728,1.4928276736623249,2.7993723253991822,2.8843034889819559,3.3162787252277699,1.0704152771346789,1.8047000742140871,2.4548981369204625,2.7854353572127524,2.8422306986226364,3.079970624734746]
["SierraAccidentadoSin AfirmarRegular","Sierra","Accidentado","Sin Afirmar","Regular",0.5848049898200437,0.57178165574989093,1.1212748533127823,1.107991596033296,1.7356144993381317,3.0982576692027513,3.2022388584387715,3.6436294608218964,1.1085211600832354,1.8207636534569105,2.4737422348438911,2.8303514338782194,2.8988831256286849,3.134178142804088]
["SierraAccidentadoSin AfirmarMalo","Sierra","Accidentado","Sin Afirmar","Malo",0.60308145232338717,0.59093011489738834,1.1603316623666731,1.1412578558608011,1.807694582366983,3.1955773683961284,3.305400275827107,3.7735878122792763,1.1978467363604872,1.9377768756850251,2.655179765957719,3.0123284413429339,3.0928382051693002,3.3509153845968598]
["SierraAccidentadoTrochaRegular","Sierra","Accidentado","Trocha","Regular",0.59364626858548453,0.58107281217282292,1.1400304945523798,1.1238234511285219,1.76935003014942,3.1440252419249788,3.2508058287918056,3.7052325671428217,1.1530268706861859,1.8791209658375863,2.5641957122941386,2.9208036237864108,2.9951652263213302,3.2418342292884992]
["SierraAccidentadoTrochaMalo","Sierra","Accidentado","Trocha","Malo",0.64761760211302688,0.6368299900942177,1.257825589718232,1.227889073166464,1.9736083409870133,3.4205515978553422,3.5451136474176592,4.0256579030404902,1.3817979844241617,2.1770667065812992,3.0261077000525987,3.3925180176581771,3.5009940459571567,3.8054328909242887]
["SelvaPlanoConcreto HidráulicoBueno","Selva","Plano","Concreto Hidráulico","Bueno",0.3799038290804726,0.38167617797368392,0.74121313681220113,0.85103957969375432,1.5632685450991159,2.6108629781057062,2.6471600626551153,2.9499102128086827,0.58579722474213702,0.79416162959886549,1.2544897589734525,1.4365109838453798,1.5092218140393101,1.6269794712014725]
["SelvaPlanoConcreto HidráulicoRegular","Selva","Plano","Concreto Hidráulico","Regular",0.39247720282801229,0.39475443115561509,0.76635611928996983,0.86956263586776716,1.5845144007142813,2.6380214107724669,2.6757940289411239,2.9917691533726156,0.64853296662574811,0.88462959357621229,1.4204166787372541,1.5653992798060925,1.6440274505746997,1.7792449725367536]
["SelvaPlanoConcreto HidráulicoMalo","Selva","Plano","Concreto Hidráulico","Malo",0.40817400757566324,0.41121359323563067,0.79940339311410336,0.89425646647959822,1.6101389352204145,2.6712139630364331,2.710536660347187,3.0407959522139354,0.70791103076218442,0.97205100326599836,1.5850815753005194,1.6934627743384669,1.778122888563372,1.9308929285568366]
["SelvaPlanoAsfaltadoBueno","Selva","Plano","Asfaltado","Bueno",0.38380699794500472,0.38572291357520477,0.74887048318177496,0.85666318045773848,1.5699634547006449,2.6194009165109371,2.6561829546965323,2.9632329958722265,0.60727363465705941,0.82485363409564794,1.310029900194881,1.4796724892292981,1.5543448640077504,1.677915718374396]
["SelvaPlanoAsfaltadoRegular","Selva","Plano","Asfaltado","Regular",0.40253046557624012,0.40528307719254369,0.78734592277152715,0.88519884435664076,1.6010033539715876,2.6593108165725319,2.6981070117680908,3.0234774102822173,0.68834947684270087,0.94310117781373792,1.5302551020507276,1.6507559478844345,1.7333905292163754,1.8802953804784301]
["SelvaPlanoAsfaltadoMalo","Selva","Plano","Asfaltado","Malo",0.42091862528415636,0.42464599281215543,0.82718526761407873,0.91530168260777367,1.6305563296001464,2.698108056421038,2.7385184043609074,3.0789703272028408,0.74659967218055656,1.0296539712701551,1.6947325436403324,1.7792862036882882,1.8680500847449459,2.0326083326010704]
["SelvaPlanoTratamiento SuperficialBueno","Selva","Plano","Tratamiento Superficial","Bueno",0.38798732739928238,0.39007082803032528,0.75722235345078925,0.86281180271165847,1.5770272182328806,2.6284253542221618,2.6656989871275525,2.977155620955628,0.62813428885382827,0.85495711670680319,1.3653176882725233,1.522614472612736,1.5992589930131209,1.7286492026568365]
["SelvaPlanoTratamiento SuperficialRegular","Selva","Plano","Tratamiento Superficial","Regular",0.40817400757566324,0.41121359323563067,0.79940339311410336,0.89425646647959822,1.6101389352204145,2.6712139630364331,2.710536660347187,3.0407959522139354,0.70791103076218442,0.97205100326599836,1.5850815753005194,1.6934627743384669,1.778122888563372,1.9308929285568366]
["SelvaPlanoTratamiento SuperficialMalo","Selva","Plano","Tratamiento Superficial","Malo",0.44444428469558422,0.44954321483879939,0.8797999322673643,0.95560555418545123,1.6677241153226545,2.7480094715624697,2.7901542904814458,3.1470351851731411,0.8041012607292557,1.1159141354904132,1.8596601306330334,1.9101242402302929,2.0052004496022109,2.1876337772553396]
["SelvaPlanoAfirmadoBueno","Selva","Plano","Afirmado","Bueno",0.42091862528415636,0.42464599281215543,0.82718526761407873,0.91530168260777367,1.6305563296001464,2.698108056421038,2.7385184043609074,3.0789703272028408,0.74659967218055656,1.0296539712701551,1.6947325436403324,1.7792862036882882,1.8680500847449459,2.0326083326010704]
["SelvaPlanoAfirmadoRegular","Selva","Plano","Afirmado","Regular",0.45368772715644218,0.45935188271674349,0.90076430829187226,0.97175510366398299,1.6821815413165184,2.7676973509488048,2.8104519990306596,3.1731414079831728,0.82324349846362921,1.14475533273074,1.9148611875110222,1.9545735473209054,2.051801155501749,2.2402568388262178]
["SelvaPlanoAfirmadoMalo","Selva","Plano","Afirmado","Malo",0.44037871154321828,0.44321824287048972,0.87626474933039511,0.97160135720524077,1.7524747694425411,2.8649943747575208,2.9103685199217648,3.2981391083711356,0.90027615044890474,1.2611907566625973,2.1373588846438798,2.1380372831226833,2.2441150523662565,2.4570458546640395]
["SelvaPlanoSin AfirmarRegular","Selva","Plano","Sin Afirmar","Regular",0.5283774187324205,0.5301472089377619,1.0500487493514075,1.1849625336398155,2.0936914472668064,3.441423786644247,3.4892300329670469,3.8998881870109252,0.99129483650683781,1.3544361688194417,2.24524707616118,2.2781072746932125,2.3840611036117116,2.604160453087716]
["SelvaPlanoSin AfirmarMalo","Selva","Plano","Sin Afirmar","Malo",0.5457152331848788,0.54774205923170527,1.0913579129455406,1.2242649912397972,2.1689142243687272,3.5424666701055241,3.5928737783374545,4.0306283398742746,1.0666390853304899,1.469258917378603,2.4664350410080584,2.4556598474964551,2.5704603626185789,2.8148238722884238]
["SelvaPlanoTrochaRegular","Selva","Plano","Trocha","Regular",0.53674460820825454,0.53864661202051389,1.0698800268317779,1.2035981978949548,2.1289207641409433,3.4885348651540036,3.5376221861160788,3.9614484321019652,1.0288500704376324,1.4116101917101356,2.355502973506538,2.3660122457889887,2.4763718446170544,2.7085459782596755]
["SelvaPlanoTrochaMalo","Selva","Plano","Trocha","Malo",0.58834863844059593,0.59095308070336372,1.1942607333136994,1.3279670016750897,2.3434969190949921,3.7891391339841598,3.8452302105066152,4.2963378196442035,1.2216109785445739,1.7061360136433805,2.9184759303337717,2.8348333705728539,2.9677011599439211,3.2620890824254785]
["SelvaOnduladoConcreto HidráulicoBueno","Selva","Ondulado","Concreto Hidráulico","Bueno",0.38974319684845415,0.39142072606549305,0.77424825614948978,0.89216033630217473,1.6257184949433765,2.7884302161493393,2.8310369879620891,3.1474275058188503,0.64302425453016232,0.97659096653153743,1.4860357640050226,1.6440155637604028,1.6926240395724019,1.8144210834889596]
["SelvaOnduladoConcreto HidráulicoRegular","Selva","Ondulado","Concreto Hidráulico","Regular",0.40228546875331495,0.40445514248405745,0.79887768055610697,0.91006807124634714,1.647148157522291,2.8172190168405229,2.8610558840369626,3.1906328552330212,0.70624260836195729,1.0670857815821939,1.6536876102327085,1.774497849798166,1.8286266741384039,1.9677396638018729]
["SelvaOnduladoConcreto HidráulicoMalo","Selva","Ondulado","Concreto Hidráulico","Malo",0.41792197667207726,0.4208552114733457,0.83119438192113015,0.93387834432281491,1.6728464493466009,2.8517655288483605,2.8970051797123086,3.2408869014120141,0.76606589704225037,1.1544321021673887,1.8199685462342814,1.9038434545594514,1.9636881793386121,2.1202065751907151]
["SelvaOnduladoAsfaltadoBueno","Selva","Ondulado","Asfaltado","Bueno",0.39362830446576647,0.39544256833277536,0.7817516592270507,0.8976001185026975,1.6324809846766883,2.7975267534405459,2.8405287925048675,3.1611565543040698,0.66466322134238931,1.0072965533332683,1.5421553861075668,1.687720537775518,1.7381562349842914,1.8657174108141124]
["SelvaOnduladoAsfaltadoRegular","Selva","Ondulado","Asfaltado","Regular",0.41230556255699691,0.41495131900701215,0.81941126326984559,0.92515337339251957,1.6637048947971262,2.8394586329310143,2.8842066538660132,3.2231956715271228,0.74636260248062858,1.1255252271800056,1.7646230423514662,1.8607691899366432,1.9186782957855617,2.0693840100569738]
["SelvaOnduladoAsfaltadoMalo","Selva","Ondulado","Asfaltado","Malo",0.43058495093824278,0.43420736206185112,0.85841573212778766,0.95427311153517458,1.6931988945219769,2.8792682913972314,2.9255799302271739,3.2796488406749558,0.80501048600725189,1.2118769920561561,1.9305770708939249,1.9901347022679827,2.0539628817597282,2.2221495480650546]
["SelvaOnduladoTratamiento SuperficialBueno","Selva","Ondulado","Tratamiento Superficial","Bueno",0.39780406428849219,0.39977978512104873,0.78993372743828927,0.903545348396948,1.6396070958702236,2.8070974763036518,2.850508752827384,3.1755557489287241,0.68568522680133492,1.0374103344667596,1.5980196649385376,1.731197747419343,1.7834727282454443,1.9168040658416172]
["SelvaOnduladoTratamiento SuperficialRegular","Selva","Ondulado","Tratamiento Superficial","Regular",0.41792197667207726,0.4208552114733457,0.83119438192113015,0.93387834432281491,1.6728464493466009,2.8517655288483605,2.8970051797123086,3.2408869014120141,0.76606589704225037,1.1544321021673887,1.8199685462342814,1.9038434545594514,1.9636881793386121,2.1202065751907151]
["SelvaOnduladoTratamiento SuperficialMalo","Selva","Ondulado","Tratamiento Superficial","Malo",0.45390169407203823,0.45889893216573713,0.91003808309070167,0.99335999345197301,1.7300136283199352,2.9294139515412501,2.9776083536281939,3.3480535921778904,0.86280604146004858,1.2976720781346696,2.0966824036106253,2.1207465398068681,2.1909026379570946,2.3767354010129726]
["SelvaOnduladoAfirmadoBueno","Selva","Ondulado","Afirmado","Bueno",0.43058495093824278,0.43420736206185112,0.85841573212778766,0.95427311153517458,1.6931988945219769,2.8792682913972314,2.9255799302271739,3.2796488406749558,0.80501048600725189,1.2118769920561561,1.9305770708939249,1.9901347022679827,2.0539628817597282,2.2221495480650546]
["SelvaOnduladoAfirmadoRegular","Selva","Ondulado","Afirmado","Regular",0.46304836269424743,0.46861227006987155,0.93057797145172261,1.0089876549548129,1.744269580610361,2.9489615854938025,2.9978708652141424,3.3740922574085128,0.88201729270016449,1.3262872689867888,2.1521942935185123,2.164812990213242,2.2371925577026865,2.4289562233387554]
["SelvaOnduladoAfirmadoMalo","Selva","Ondulado","Afirmado","Malo",0.44920209445353371,0.45194901926526565,0.90393224650448523,1.006188988658246,1.8132633860197576,3.0443669000587272,3.0966525506178919,3.4977367179952146,0.95915753508024482,1.4414263072918372,2.3754733386729709,2.3450041489738185,2.4269710459979548,2.6427719095896891]
["SelvaOnduladoSin AfirmarRegular","Selva","Ondulado","Sin Afirmar","Regular",0.53948603726454425,0.54113519351966932,1.079906119880234,1.2220458806044989,2.1571587143815467,3.606270874390753,3.6708357728096646,4.0926946361457945,1.0259256603009947,1.4985501883587786,2.4416654167995486,2.4494648053467807,2.5414236097577896,2.7629217245152047]
["SelvaOnduladoSin AfirmarMalo","Selva","Ondulado","Sin Afirmar","Malo",0.55642434088429493,0.55833561270559195,1.1197911571452119,1.2595954864637806,2.2314922332165774,3.7068041973922243,3.774595856746668,4.2234929160570145,1.1022588965945108,1.6140621340387893,2.6656487557321951,2.6279538905713533,2.7294266169462551,2.9750573737796731]
["SelvaOnduladoTrochaRegular","Selva","Ondulado","Trocha","Regular",0.54767334756904851,0.54945702852997258,1.0990774270376797,1.2398697364701496,2.1920081223049763,3.6532761295848442,3.7194003690964972,4.1544068603019211,1.0639685418373759,1.5560816799532067,2.5533356970195284,2.5379942275940093,2.6346137157372356,2.8681240924994587]
["SelvaOnduladoTrochaMalo","Selva","Ondulado","Trocha","Malo",0.59779443545954181,0.60029866586661063,1.2188014037539916,1.3584936000360952,2.4027451600535028,3.9488010372792175,4.0244327308530128,4.4863521054240545,1.2593881069123576,1.8520920644914847,3.1229524431562679,3.0056476342027341,3.1284833692795044,3.4238221803725977]
["SelvaAccidentadoConcreto HidráulicoBueno","Selva","Accidentado","Concreto Hidráulico","Bueno",0.4169085173416211,0.41847465560151942,0.85312928225233675,0.99012123219163839,1.8003860761597741,3.249306195383491,3.301368745586529,3.6586633348140505,0.71965575539269977,1.3375653257307321,1.8950299859318231,2.0797211733373517,2.0983179396209675,2.2459525743488635]
[{"$f":"B135&C135&D135&E135","v":"SelvaAccidentadoConcreto HidráulicoRegular"},"Selva","Accidentado","Concreto Hidráulico","Regular",0.42933625296392963,0.43139616452426338,0.87716071879270552,1.0072867754242698,1.8216153137135955,3.279066292459877,3.3331770361128452,3.703531554696522,0.78423812857148467,1.4302629823131257,2.0674433048348946,2.2141353482680599,2.2394482290992244,2.4039915476816351]
["SelvaAccidentadoConcreto HidráulicoMalo","Selva","Accidentado","Concreto Hidráulico","Malo",0.44474837311046667,0.44756210868291163,0.90850124078040639,1.0298898951428057,1.846775789368003,3.3139020809437771,3.3703577497644446,3.7547556988177813,0.84544867606896823,1.5196765098768517,2.2384561649970278,2.3471345177030649,2.3794240669983875,2.560865243281508]
["SelvaAccidentadoAsfaltadoBueno","Selva","Accidentado","Asfaltado","Bueno",0.42077291594714805,0.42247870374335411,0.86046312399300362,0.99535017771598733,1.8071034345580095,3.2587689321900695,3.3114882804370178,3.6730323534324274,0.74174509794779997,1.3690121831537818,1.9527316361641489,2.1247444866351279,2.1455566466479423,2.2988271805124079]
["SelvaAccidentadoAsfaltadoRegular","Selva","Accidentado","Asfaltado","Regular",0.43922125578318666,0.44175049942367461,0.89709762619587807,1.0216338726558616,1.8378679874248578,3.3016104227802923,3.3572438232729227,3.7368456174309772,0.8252821259105374,1.4901039116594921,2.1815451505661545,2.3029000755241862,2.3328286907716582,2.5086402182592034]
["SelvaAccidentadoAsfaltadoMalo","Selva","Accidentado","Asfaltado","Malo",0.45717586445695058,0.46067375438108632,0.93467001731439203,1.0489552785515417,1.8664415719751513,3.340921103251183,3.3991692601035814,3.7935234962383908,0.88531704931826183,1.5783574393964905,2.3521349216750855,2.4354752584242667,2.4726164059169289,2.6653015529703228]
["SelvaAccidentadoTratamiento SuperficialBueno","Selva","Accidentado","Tratamiento Superficial","Bueno",0.42490574080626176,0.42677539873112075,0.86844831476509943,1.0010510321710524,1.8141656335734546,3.2686695231407579,3.3220703268015788,3.6879666750145015,0.76322211070218449,1.3998618131050096,2.0101847239560335,2.1695362296248413,2.192586128073394,2.3514931465717739]
["SelvaAccidentadoTratamiento SuperficialRegular","Selva","Accidentado","Tratamiento Superficial","Regular",0.44474837311046667,0.44756210868291163,0.90850124078040639,1.0298898951428057,1.846775789368003,3.3139020809437771,3.3703577497644446,3.7547556988177813,0.84544867606896823,1.5196765098768517,2.2384561649970278,2.3471345177030649,2.3794240669983875,2.560865243281508]
["SelvaAccidentadoTratamiento SuperficialMalo","Selva","Accidentado","Tratamiento Superficial","Malo",0.47995770934081494,0.4848257844387463,0.98398681049596226,1.0852054220426759,1.901510810464901,3.3888475983344333,3.4502382577419612,3.8604992717497431,0.94447671763561525,1.6656934989241834,2.5226675204391347,2.5681684382205225,2.6129916293993034,2.8224845578374671]
["SelvaAccidentadoAfirmadoBueno","Selva","Accidentado","Afirmado","Bueno",0.45717586445695058,0.46067375438108632,0.93467001731439203,1.0489552785515417,1.8664415719751513,3.340921103251183,3.3991692601035814,3.7935234962383908,0.88531704931826183,1.5783574393964905,2.3521349216750855,2.4354752584242667,2.4726164059169289,2.6653015529703228]
["SelvaAccidentadoAfirmadoRegular","Selva","Accidentado","Afirmado","Regular",0.48886818963108886,0.49430227988802322,1.0035991659319445,1.0996914771641453,1.9149525818293287,3.4071659744816385,3.4697479386009138,3.8855885225085887,0.96413340958188298,1.6947200065631132,2.5795629586305791,2.6125834810398203,2.6600978485525633,2.8751733057415847]
["SelvaAccidentadoAfirmadoMalo","Selva","Accidentado","Afirmado","Malo",0.47374655232134449,0.47636600856798034,0.9724449693887357,1.0913404903371611,1.9793234617893762,3.4947251248249458,3.562934392136003,4.0026136934776666,1.0429920123056131,1.8108853668817104,2.8078991998904312,2.7920682571983666,2.851144094338566,3.0884407458282279]
["SelvaAccidentadoSin AfirmarRegular","Selva","Accidentado","Sin Afirmar","Regular",0.56074941580929583,0.56230409867654896,1.1348095481961058,1.2901759367117713,2.2902601890235736,3.965994557246086,4.0612862348827967,4.5128327095091398,1.0954333496049298,1.8348981069511563,2.8386741170721717,2.8473171844753664,2.9201633527638799,3.1553880838384991]
["SelvaAccidentadoSin AfirmarMalo","Selva","Accidentado","Sin Afirmar","Malo",0.57697085551403715,0.57878608707140633,1.1721319420185783,1.3245698535685699,2.3627957906266102,4.0643437008267282,4.1650795619697236,4.643239046323635,1.1741001356916543,1.9519043815123582,3.0689361059126505,3.028629001366868,3.1131051932978289,3.3712580823647555]
["SelvaAccidentadoTrochaRegular","Selva","Accidentado","Trocha","Regular",0.56860970372172059,0.57029769444250455,1.1527691581296551,1.3065083151503198,2.3243349657209262,4.012198792064372,4.1100972012403467,4.5745994356573174,1.134632282638617,1.893256432052252,2.9535242878750321,2.9374820165889064,3.0159984606563834,3.26266691591989]
["SelvaAccidentadoTrochaMalo","Selva","Accidentado","Trocha","Malo",0.61614844249821299,0.6185638043794679,1.2645645808860964,1.4153514601130013,2.5274466373558728,4.2946917653846048,4.4093312492751879,4.899159536763932,1.3361898926085143,2.191030266620503,3.5379375030781666,3.4064476996340183,3.5179113927686898,3.8227172823467837]
[null,"Nota 1: Los valores presentados incluyen el valor social del tiempo y ahorro por reducción de emisiones de CO2 equivalente."]
[null,"Nota2 : Los valores presentados, son susceptibles a ser actualizados periódicamente por la OPMI-MTC, sin incurrir en actualización de la Ficha Técnica Estándar."]

{"sheet":"A5. FORMATO DE CONTEO","index":16,"n_rows":117,"n_cols":23,"rows_kept":117,"cut":false,"hidden":false,"merged":[[12,5,12,6],[12,7,13,7],[12,19,12,22],[14,1,14,2],[5,1,5,22],[7,5,7,12],[12,1,13,1],[12,2,13,2],[12,3,13,3],[12,4,13,4],[12,8,13,8],[12,9,12,11],[12,12,12,14],[12,15,12,18]]}
[]
[null,null,null,null,null,null,null,null,null,null,null,null,null,null,null,null,null,null,null,null,"HOJA A5. Formato de Conteo"]
[]
[]
[]
[null,"FORMATO DE CONTEO Y CLASIFICACIÓN VEHICULAR "]
[]
[null,"TRAMO DE LA CARRETERA",null,null,null,null,null,null,null,null,null,null,null,null,null,null,"ESTACION"]
[null,"SENTIDO",null,null,null," ",null," E"," ",null,null," "," S",null,null,null,"CODIGO DE LA ESTACION"]
[null,"UBICACIÓN ",null,null,null," ",null,null,null,null,null,null,null,null,null,null,"DIA Y FECHA",null,null,null," "," "," "]
[]
[]
[null,"HORA","SENTI\nDO","AUTO","STATION WAGON","CAMIONETAS",null,"RURAL\nCombi","MICRO","BUS",null,null,"CAMION",null,null,"SEMI TRAYLER",null,null,null,"TRAYLER"]
[null,null,null,null,null,"PICK UP","PANEL",null,null,"2 E","3 E","4 E","2 E","3 E","4 E","2S1/2S2","2S3","3S1/3S2",">= 3S3","2T2","2T3","3T2",">=3T3"]
[null,"DIAGRA.\nVEH."]
[null,"00","E"]
[null,"A"]
[null,"01","S"]
[null," "]
[null,"01","E"]
[null,"A"]
[null,"02","S"]
[null," "]
[null,"02","E"]
[null,"A"]
[null,"03","S"]
[null," "]
[null,"03","E"]
[null,"A"]
[null,"04","S"]
[null," "]
[null,"04","E"]
[null,"A"]
[null,"05","S"]
[null," "]
[null,"05","E"]
[null,"A"]
[null,"06","S"]
[null," "]
[null,"06","E"]
[null,"A"]
[null,"07","S"]
[null," "]
[null,"07","E"]
[null,"A"]
[null,"08","S"]
[null," "]
[]
[null,"ENCUESTADOR :  ______________________",null,null,null,null,"           JEFE DE BRIGADA : ____________________",null,null,null,null,null,"                 ING.RESPONS: __________________",null,null,null,null,null,"SUPERV.MTC : ________________________"]
[null,"08","E"]
[null,"A"]
[null,"09","S"]
[null," "]
[null,"09","E"]
[null,"A"]
[null,"10","S"]
[null," "]
[null,"10","E"]
[null,"A"]
[null,"11","S"]
[null," "]
[null,"11","E"]
[null,"A"]
[null,"12","S"]
[null," "]
[null,12,"E"]
[null,"A"]
[null,"13","S"]
[null," "]
[null,"13","E"]
[null,"A"]
[null,"14","S"]
[null," "]
[null,"14","E"]
[null,"A"]
[null,"15","S"]
[null," "]
[null,"15","E"]
[null,"A"]
[null,"16","S"]
[null," "]
[]
[null,"ENCUESTADOR :  ______________________",null,null,null,null,"           JEFE DE BRIGADA : ____________________",null,null,null,null,null,"                 ING.RESPONS: __________________",null,null,null,null,null,"SUPERV.MTC : ________________________"]
[null,"16","E"]
[null,"A"]
[null,"17","S"]
[null," "]
[null,"17","E"]
[null,"A"]
[null,"18","S"]
[null," "]
[null,"18","E"]
[null,"A"]
[null,"19","S"]
[null," "]
[null,"19","E"]
[null,"A"]
[null,"20","S"]
[null," "]
[null,"20","E"]
[null,"A"]
[null,"21","S"]
[null," "]
[null,"21","E"]
[null,"A"]
[null,"22","S"]
[null," "]
[null,"22","E"]
[null,"A"]
[null,"23","S"]
[null," "]
[null,"23","E"]
[null,"A"]
[null,"24","S"]
[null," "]
[]
[null,"ENCUESTADOR :  ______________________",null,null,null,null,"           JEFE DE BRIGADA : ____________________",null,null,null,null,null,"                 ING.RESPONS: __________________",null,null,null,null,null,"SUPERV.MTC : ________________________"]

{"sheet":"A6. FORMATO ENCUESTA PASAJE","index":17,"n_rows":56,"n_cols":20,"rows_kept":56,"cut":false,"hidden":false,"merged":[[42,10,44,10],[39,8,41,8],[39,9,41,9],[39,10,41,10],[42,2,44,2],[42,3,44,3],[42,4,44,4],[42,5,44,5],[42,6,44,6],[42,7,44,7],[42,8,44,8],[39,2,41,2],[39,3,41,3],[39,4,41,4],[39,5,41,5],[39,6,41,6],[39,7,41,7],[42,9,44,9],[36,8,38,8],[36,9,38,9],[36,10,38,10],[33,2,35,2],[33,3,35,3],[33,4,35,4],[33,5,35,5],[33,6,35,6],[33,7,35,7],[33,8,35,8],[36,2,38,2],[36,3,38,3],[36,4,38,4],[36,5,38,5],[36,6,38,6],[36,7,38,7],[33,9,35,9],[33,10,35,10],[27,9,29,9],[27,10,29,10],[30,2,32,2],[30,3,32,3],[30,4,32,4],[30,5,32,5],[30,6,32,6],[30,9,32,9],[30,10,32,10],[30,7,32,7],[30,8,32,8],[27,2,29,2],[27,3,29,3],[27,4,29,4],[27,5,29,5],[27,6,29,6],[27,7,29,7],[27,8,29,8],[24,10,26,10],[21,2,23,2],[21,3,23,3],[21,4,23,4],[21,5,23,5],[21,6,23,6],[21,7,23,7],[21,8,23,8],[21,9,23,9],[21,10,23,10],[24,2,26,2],[24,3,26,3],[24,4,26,4],[24,5,26,5],[24,6,26,6],[24,7,26,7],[24,8,26,8],[24,9,26,9],[18,8,20,8],[18,9,20,9],[18,10,20,10],[15,2,17,2],[15,3,17,3],[15,4,17,4],[15,5,17,5],[15,6,17,6],[15,7,17,7],[15,8,17,8],[18,2,20,2],[18,3,20,3],[18,4,20,4],[18,5,20,5],[18,6,20,6],[18,7,20,7],[12,5,14,5],[12,6,14,6],[12,7,14,7],[12,8,14,8],[12,9,14,9],[12,10,14,10],[15,9,17,9],[15,10,17,10],[4,2,4,19],[5,2,5,18],[11,11,11,12],[11,13,11,14],[11,15,11,18],[12,2,14,2],[12,3,14,3],[12,4,14,4]]}
[" "]
[null,null,null,null,null,null,null,null,null,null,null,null,null,null,"HOJA A6. Formato Encuesta de Pasajeros"]
[]
[]
[" ","FORMATO ENCUESTA ORIGEN Y DESTINO DE PASAJEROS","FORMATO ENCUESTA ORIGEN Y DESTINO DE PASAJEROS"]
[null,"ESTUDIO DE TRAFICO","ESTUDIO DE TRAFICO"]
[]
[null,null,"TRAMO DE LA CARRETERA",null,null,null," ",null,null," "," ",null,"ESTACION"]
[null,null,"UBICACIÓN ",null,null,null," ",null," "," ",null,null,"CODIGO DE LA ESTACION"]
[null,null,"SENTIDO",null,null,null," ",null,null,null,null,null,"DIA Y FECHA",null,null,null,null," "," "," "]
[]
[null,"Fecha","Hora","Placa de Rodaje","Tipo de Vehiculo","Marca","Modelo","Año","Combustible","Nº Asientos","Nº Pasajeros","Origen",null,"Destino",null,"Motivo de Viaje"]
[null,null,"8 : 00 a.m.",null,null,null,null,null,null,null,null,"Lugar",null,"Lugar",null,"T:","P:","E:","S:"]
[null,null,null,null,null,null,null,null,null,null,null,"Prov.",null,"Prov."]
[null,null,null,null,null,null,null,null,null,null,null,"Dpto",null,"Dpto"]
[null,null," ",null,null,null,null,null,null,null,null,"Lugar",null,"Lugar",null,"T:","P:","E:","S:"]
[null,null,null,null,null,null,null,null,null,null,null,"Prov.",null,"Prov."]
[null,null,null,null,null,null,null,null,null,null,null,"Dpto",null,"Dpto"]
[null,null," ",null,null,null,null,null,null,null,null,"Lugar",null,"Lugar",null,"T:","P:","E:","S:"]
[null,null,null,null,null,null,null,null,null,null,null,"Prov.",null,"Prov."]
[null,null,null,null,null,null,null,null,null,null,null,"Dpto",null,"Dpto"]
[null,null," ",null,null,null,null,null,null,null,null,"Lugar",null,"Lugar",null,"T:","P:","E:","S:"]
[null,null,null,null,null,null,null,null,null,null,null,"Prov.",null,"Prov."]
[null,null,null,null,null,null,null,null,null,null,null,"Dpto",null,"Dpto"]
[null,null," ",null,null,null,null,null,null,null,null,"Lugar",null,"Lugar",null,"T:","P:","E:","S:"]
[null,null,null,null,null,null,null,null,null,null,null,"Prov.",null,"Prov."]
[null,null,null,null,null,null,null,null,null,null,null,"Dpto",null,"Dpto"]
[null,null," ",null,null,null,null,null,null,null,null,"Lugar",null,"Lugar",null,"T:","P:","E:","S:"]
[null,null,null,null,null,null,null,null,null,null,null,"Prov.",null,"Prov."]
[null,null,null,null,null,null,null,null,null,null,null,"Dpto",null,"Dpto"]
[null,null," ",null,null,null,null,null,null,null,null,"Lugar",null,"Lugar",null,"T:","P:","E:","S:"]
[null,null,null,null,null,null,null,null,null,null,null,"Prov.",null,"Prov."]
[null,null,null,null,null,null,null,null,null,null,null,"Dpto",null,"Dpto"]
[null,null," ",null,null,null,null,null,null,null,null,"Lugar",null,"Lugar",null,"T:","P:","E:","S:"]
[null,null,null,null,null,null,null,null,null,null,null,"Prov.",null,"Prov."]
[null,null,null,null,null,null,null,null,null,null,null,"Dpto",null,"Dpto"]
[null,null," ",null,null,null,null,null,null,null,null,"Lugar",null,"Lugar",null,"T:","P:","E:","S:"]
[null,null,null,null,null,null,null,null,null,null,null,"Prov.",null,"Prov."]
[null,null,null,null,null,null,null,null,null,null,null,"Dpto",null,"Dpto"]
[null,null," ",null,null,null,null,null,null,null,null,"Lugar",null,"Lugar",null,"T:","P:","E:","S:"]
[null,null,null,null,null,null,null,null,null,null,null,"Prov.",null,"Prov."]
[null,null,null,null,null,null,null,null,null,null,null,"Dpto",null,"Dpto"]
[null,null," ",null,null,null,null,null,null,null,null,"Lugar",null,"Lugar",null,"T:","P:","E:","S:"]
[null,null,null,null,null,null,null,null,null,null,null,"Prov.",null,"Prov."]
[null,null,null,null,null,null,null,null,null,null,null,"Dpto",null,"Dpto"]
[]
[null,null,null,null,null,null,null,null,null,null,null,null,null,null,"ENCUESTADOR :"]
[]
[null,null,null,null,null,null,null,null,null,null,null,null,null,null,"JEFE DE BRIGADA :"," "]
[]
[null,null,null,null,null,null,null,null,null,null,null,null,null,null,"ING. RESPONSABLE :"]
[]
[]
[]
[]
[null,null,null,"FORMATO ENCUESTA ORIGEN Y DESTINO DE PASAJEROS"]

{"sheet":"A7.FORMATO ENCUESTA CARGA","index":18,"n_rows":40,"n_cols":22,"rows_kept":40,"cut":false,"hidden":false,"merged":[[4,2,4,21],[5,2,5,20],[12,9,12,10],[12,11,12,12]]}
[" "]
[]
[null,null,null,null,null,null,null,null,null,null,null,null,null,null,null,null,"HOJA A7. Formato Encuesta de Carga"]
[]
[" ","FORMATO ENCUESTA ORIGEN Y DESTINO DE PASAJEROS","FORMATO ENCUESTA ORIGEN Y DESTINO DE CARGA"]
[null,"ESTUDIO DE TRAFICO","ESTUDIO DE TRAFICO"]
[]
[null,null,"TRAMO DE LA CARRETERA",null,null,null," ",null,null,null," ",null," ",null,"ESTACION"]
[null,null,"UBICACIÓN ",null,null,null," ",null," ",null," ",null,null,null,"CODIGO DE LA ESTACION"]
[null,null,"SENTIDO",null,null,null," ",null,null,null,null,null,null,null,"DIA Y FECHA",null,null,null,null," "," "," "]
[]
[]
[null,"Fecha","Hora","Placa de Rodaje","Tipo de Vehiculo","Carrocería","Embalaje","Combustible","Producto","Origen",null,"Destino",null,"Peso Carga","Nº Asientos","Nº Pasajeros","Marca","Modelo","Año","Peso Seco","Carga Util"]
[null,null," ",null,null,null,null,null,null,"Lugar",null,"Lugar"]
[null,null,"8:00 a.m.",null,null,null,null,null,null,"Prov.",null,"Prov."]
[null,null,null,null,null,null,null,null,null,"Dpto",null,"Dpto"]
[null,null,null,null,null,null,null,null,null,"Lugar",null,"Lugar"]
[null,null,null,null,null,null,null,null,null,"Prov.",null,"Prov."]
[null,null,null,null,null,null,null,null,null,"Dpto",null,"Dpto"]
[null,null,null,null,null,null,null,null,null,"Lugar",null,"Lugar"]
[null,null,null,null,null,null,null,null,null,"Prov.",null,"Prov."]
[null,null,null,null,null,null,null,null,null,"Dpto",null,"Dpto"]
[null,null,null,null,null,null,null,null,null,"Lugar",null,"Lugar"]
[null,null,null,null,null,null,null,null,null,"Prov.",null,"Prov."]
[null,null,null,null,null,null,null,null,null,"Dpto",null,"Dpto"]
[null,null,null,null,null,null,null,null,null,"Lugar",null,"Lugar"]
[null,null,null,null,null,null,null,null,null,"Prov.",null,"Prov."]
[null,null,null,null,null,null,null,null,null,"Dpto",null,"Dpto"]
[null,null,null,null,null,null,null,null,null,"Lugar",null,"Lugar"]
[null,null,null,null,null,null,null,null,null,"Prov.",null,"Prov."]
[null,null,null,null,null,null,null,null,null,"Dpto",null,"Dpto"]
[null,null,null,null,null,null,null,null,null,"Lugar",null,"Lugar"]
[null,null,null,null,null,null,null,null,null,"Prov.",null,"Prov."]
[null,null,null,null,null,null,null,null,null,"Dpto",null,"Dpto"]
[]
[null,null,null,null,null,null,null,null,null,null,null,null,null,null,null,null,"ENCUESTADOR :"]
[]
[null,null,null,null,null,null,null,null,null,null,null,null,null,null,null,null,"JEFE DE BRIGADA :"," "]
[]
[null,null,null,null,null,null,null,null,null,null,null,null,null,null,null,null,"ING. RESPONSABLE :"]